BEGIN:VCALENDAR
VERSION:2.0
PRODID:-//Folk.nu! - ECPv5.14.0.1//NONSGML v1.0//EN
CALSCALE:GREGORIAN
METHOD:PUBLISH
X-WR-CALNAME:Folk.nu!
X-ORIGINAL-URL:https://folk.nu
X-WR-CALDESC:Händelser för Folk.nu!
REFRESH-INTERVAL;VALUE=DURATION:PT1H
X-Robots-Tag:noindex
X-PUBLISHED-TTL:PT1H
BEGIN:VTIMEZONE
TZID:Europe/Stockholm
BEGIN:DAYLIGHT
TZOFFSETFROM:+0100
TZOFFSETTO:+0200
TZNAME:CEST
DTSTART:20240331T010000
END:DAYLIGHT
BEGIN:STANDARD
TZOFFSETFROM:+0200
TZOFFSETTO:+0100
TZNAME:CET
DTSTART:20241027T010000
END:STANDARD
BEGIN:DAYLIGHT
TZOFFSETFROM:+0100
TZOFFSETTO:+0200
TZNAME:CEST
DTSTART:20250330T010000
END:DAYLIGHT
BEGIN:STANDARD
TZOFFSETFROM:+0200
TZOFFSETTO:+0100
TZNAME:CET
DTSTART:20251026T010000
END:STANDARD
END:VTIMEZONE
BEGIN:VEVENT
DTSTART;VALUE=DATE:20250201
DTEND;VALUE=DATE:20250202
DTSTAMP:20260420T124940
CREATED:20250107T154431Z
LAST-MODIFIED:20250107T154846Z
UID:6992-1738368000-1738454399@folk.nu
SUMMARY:Februaridansen
DESCRIPTION:Februaridansen 1 februari med MP3! \nMP3 (Marine/Pérez Trio) är ett av de mest väletablerade banden på den svenska folkmusikscenen idag. De firade 20-årsjubileum för några år sedan\, och är kända för sitt dansanta\, lekfulla och svängiga spel. Den värmländska musiken är kanske deras signum\, men de spelar både egna kompositioner och traditionella låtar från hela Sverige med samma självklara tung-gung och spelglädje. Många är de dansare som dansat sig svettiga till deras eldiga polskor och sprittande valser. Nu kommer de äntligen till Jönköping igen! \nMP3 är:\nMia Marine – Femsträngad fiol\nNina Pérez – Fiol och Viola D’amore\nMattias Pérez – Gitarr \nDen här dagen får vi möta dem i kombinationen spelkurs\, danskurs konsert och danskväll!
URL:https://folk.nu/evenemang/februaridansen-3/
LOCATION:Kulturhuset Spira Jönköping\, Kulturgatan 3\, Jönköping\, 55324
ATTACH;FMTTYPE=image/jpeg:https://media2.folk.nu/2025/01/IMG_4365-1.jpeg
ORGANIZER;CN="V%26auml%3Btterfolk":MAILTO:vatterfolk@gmail.com
END:VEVENT
BEGIN:VEVENT
DTSTART;VALUE=DATE:20250102
DTEND;VALUE=DATE:20250103
DTSTAMP:20260420T124940
CREATED:20250107T105633Z
LAST-MODIFIED:20250107T154625Z
UID:6988-1735776000-1735862399@folk.nu
SUMMARY:Februaridansen
DESCRIPTION:Februaridansen med MP3! \nMP3 (Marine/Pérez Trio) är ett av de mest väletablerade banden på den svenska folkmusikscenen idag. De firade 20-årsjubileum för några år sedan\, och är kända för sitt dansanta\, lekfulla och svängiga spel. Den värmländska musiken är kanske deras signum\, men de spelar både egna kompositioner och traditionella låtar från hela Sverige med samma självklara tung-gung och spelglädje. Många är de dansare som dansat sig svettiga till deras eldiga polskor och sprittande valser. Nu kommer de äntligen till Jönköping igen! \nMP3 är:\nMia Marine – Femsträngad fiol\nNina Pérez – Fiol och Viola D’amore\nMattias Pérez – Gitarr \nDen här dagen får vi möta dem i kombinationen spelkurs\, danskurs konsert och danskväll!
URL:https://folk.nu/evenemang/februaridansen-2/
LOCATION:Kulturhuset Spira Jönköping\, Kulturgatan 3\, Jönköping\, 55324
ATTACH;FMTTYPE=image/jpeg:https://media2.folk.nu/2025/01/IMG_4365.jpeg
ORGANIZER;CN="V%26auml%3Btterfolk":MAILTO:vatterfolk@gmail.com
END:VEVENT
BEGIN:VEVENT
DTSTART;TZID=Europe/Stockholm:20240203T130000
DTEND;TZID=Europe/Stockholm:20240203T230000
DTSTAMP:20260420T124940
CREATED:20240118T124319Z
LAST-MODIFIED:20240118T124319Z
UID:6045-1706965200-1707001200@folk.nu
SUMMARY:Februaridansen!
DESCRIPTION:Kurs\, konsert och danskväll!  \nVätterfolk bjuder upp till Februaridans!\nUnder eftermiddagen finns möjlighet att gå danskurs för  Anna Björk eller spelkurs med Anders Norudde och Karin Wallin. På kvällen konsert som övergår i danskväll! \nKurs 13-17 \nKonsert/danskväll 19-23 \nhttps://vff.nu/ \n  \n 
URL:https://folk.nu/evenemang/februaridansen/
LOCATION:Kulturhuset Spira Jönköping\, Kulturgatan 3\, Jönköping\, 55324
ATTACH;FMTTYPE=image/jpeg:https://media2.folk.nu/2024/01/IMG_1112.jpeg
ORGANIZER;CN="V%26auml%3Btterfolk":MAILTO:vatterfolk@gmail.com
END:VEVENT
END:VCALENDAR