BEGIN:VCALENDAR
VERSION:2.0
PRODID:-//Folk.nu! - ECPv5.14.0.1//NONSGML v1.0//EN
CALSCALE:GREGORIAN
METHOD:PUBLISH
X-WR-CALNAME:Folk.nu!
X-ORIGINAL-URL:https://folk.nu
X-WR-CALDESC:Händelser för Folk.nu!
REFRESH-INTERVAL;VALUE=DURATION:PT1H
X-Robots-Tag:noindex
X-PUBLISHED-TTL:PT1H
BEGIN:VTIMEZONE
TZID:Europe/Stockholm
BEGIN:DAYLIGHT
TZOFFSETFROM:+0100
TZOFFSETTO:+0200
TZNAME:CEST
DTSTART:20230326T010000
END:DAYLIGHT
BEGIN:STANDARD
TZOFFSETFROM:+0200
TZOFFSETTO:+0100
TZNAME:CET
DTSTART:20231029T010000
END:STANDARD
END:VTIMEZONE
BEGIN:VEVENT
DTSTART;TZID=Europe/Stockholm:20231118T193000
DTEND;TZID=Europe/Stockholm:20231118T213000
DTSTAMP:20260421T175308
CREATED:20230911T134208Z
LAST-MODIFIED:20231113T095212Z
UID:5464-1700335800-1700343000@folk.nu
SUMMARY:Sabbath Hela Veckan - Vild Vacker Vemodig
DESCRIPTION:Vilt\, vackert och vemodigt! Traditionell klezmermusik i egna arrangemang och nyskrivna låtar inspirerade av klezmermusikens blandning av glädje och sorg\, fart och inlevelse\, när ett av Skandinaviens mesta klezmerband kommer tillbaka till Victoriateatern! \nSabbath Hela Veckan består av sex musiker från Sverige\, USA och Finland och bildades våren 1989. Nöjesguiden utnämnde en av deras första konserter till ”Årets konsert”. Nu efter mer än 30 år tillsammans har de gett ut tre album och spelat över 1600 konserter. \nPå scen:\nPeter Bothén – klarinetter\, saxofon\nJerry Adbo – dragspel\nLauri Antila – kontrabas\nJames Friedman – fiol\, sång\nNils Personne – saxofoner\, piano\nAndreas Hedwall – trombon\, sång
URL:https://folk.nu/evenemang/sabbath-hela-veckan-vild-vacker-vemodig-3/
LOCATION:Victoriateatern\, Södra Förstadsgatan 18 B 211 43\, Malmö\, 211 43
ATTACH;FMTTYPE=image/jpeg:https://media2.folk.nu/2023/09/Sabbath-30-ar-Stallet-2-07932-scaled.jpg
END:VEVENT
END:VCALENDAR