BEGIN:VCALENDAR
VERSION:2.0
PRODID:-//Folk.nu! - ECPv5.14.0.1//NONSGML v1.0//EN
CALSCALE:GREGORIAN
METHOD:PUBLISH
X-WR-CALNAME:Folk.nu!
X-ORIGINAL-URL:https://folk.nu
X-WR-CALDESC:Händelser för Folk.nu!
REFRESH-INTERVAL;VALUE=DURATION:PT1H
X-Robots-Tag:noindex
X-PUBLISHED-TTL:PT1H
BEGIN:VTIMEZONE
TZID:Europe/Stockholm
BEGIN:DAYLIGHT
TZOFFSETFROM:+0100
TZOFFSETTO:+0200
TZNAME:CEST
DTSTART:20230326T010000
END:DAYLIGHT
BEGIN:STANDARD
TZOFFSETFROM:+0200
TZOFFSETTO:+0100
TZNAME:CET
DTSTART:20231029T010000
END:STANDARD
BEGIN:DAYLIGHT
TZOFFSETFROM:+0100
TZOFFSETTO:+0200
TZNAME:CEST
DTSTART:20240331T010000
END:DAYLIGHT
BEGIN:STANDARD
TZOFFSETFROM:+0200
TZOFFSETTO:+0100
TZNAME:CET
DTSTART:20241027T010000
END:STANDARD
BEGIN:DAYLIGHT
TZOFFSETFROM:+0100
TZOFFSETTO:+0200
TZNAME:CEST
DTSTART:20250330T010000
END:DAYLIGHT
BEGIN:STANDARD
TZOFFSETFROM:+0200
TZOFFSETTO:+0100
TZNAME:CET
DTSTART:20251026T010000
END:STANDARD
END:VTIMEZONE
BEGIN:VEVENT
DTSTART;TZID=Europe/Stockholm:20250302T160000
DTEND;TZID=Europe/Stockholm:20250302T190000
DTSTAMP:20260423T125856
CREATED:20250204T104135Z
LAST-MODIFIED:20250204T104135Z
UID:7195-1740931200-1740942000@folk.nu
SUMMARY:VÄDUR Releasekonsert @Arvika
DESCRIPTION:VÄDUR släpper sitt debutalbum och detta skall såklart firas i Arvika\, där allt började! \nMed rötter i den nordiska folkmusiken komponerar VÄDUR eget material med influenser av jazz och klassisk musik. Resultatet blir en blandning av stämningsfulla stråkmelodier\, varvat med rytmiskt fokus och ett groove som får rummet att gunga. Fyra starka personliga uttryck och musikaliska bakgrunder flätas sömlöst samman på scenen och skapar en unison musikupplevelse som fångar publiken. \nDörrarna öppnar kl 16 och konserten startar kl 17. Det kommer att finnas fika\, varma mackor och såklart rykande färska skivor att köpa! \nEntre:\n150kr ink skiva\n70kr utan skiva \nVÄDUR är:\nEvelina Eriksson-Fiol\nMaria Ten Wolde-Gitarr\nJakob Rolandsson-Kontrabas\nKentaro Ragert-Trumset
URL:https://folk.nu/evenemang/vadur-releasekonsert-arvika/
LOCATION:Kolonin\, Kyrkogatan 42\, Arvika\, 67131
ATTACH;FMTTYPE=image/jpeg:https://media2.folk.nu/2025/02/IMG_4696.jpeg
ORGANIZER;CN="V%26Auml%3BDUR":MAILTO:vadurmusic@gmail.com
END:VEVENT
BEGIN:VEVENT
DTSTART;TZID=Europe/Stockholm:20250228T180000
DTEND;TZID=Europe/Stockholm:20250228T230000
DTSTAMP:20260423T125856
CREATED:20250105T151228Z
LAST-MODIFIED:20250105T151228Z
UID:6981-1740765600-1740783600@folk.nu
SUMMARY:VÄDUR - RELEASEPARTY @ PALLAZZOT
DESCRIPTION:VÄDUR PRESENTERAR:Det mest spännande folkmusikevenemanget på västkusten tidig vår 2025!\nVi är så glada och taggade inför att äntligen ge ut vårt debutalbum! Det vill vi såklart fira\, och därför bjuder vi in er ALLA som är sugna på en kväll full med livemusik och gött häng!\nHela kalaset äger rum i Pallazzot på Ringön.\nDetta utlovas:FolkmusikFolkMusikJam! (ta med Instrument!!)Bra vibestrevlig mat och dryckspännande mötenCd-skivor\n\nBiljetter:130:- ordinarie75:- student/ungdom\nMer spännande saker på gång! Håll utkik för mer uppdateringar på facebookevenemang: https://www.facebook.com/events/603419905546465?acontext=%7B%22event_action_history%22%3A%5B%5D%7D
URL:https://folk.nu/evenemang/vadur-releaseparty-pallazzot/
LOCATION:Hey It's Enrico Pallazzo\, Stenskolsgatan 1A\, Göteborg\, 414 51
ATTACH;FMTTYPE=image/jpeg:https://media2.folk.nu/2025/01/470742865_552133307646042_8458830106593102410_n.jpg
ORGANIZER;CN="V%26Auml%3BDUR":MAILTO:vadurmusic@gmail.com
END:VEVENT
BEGIN:VEVENT
DTSTART;TZID=Europe/Stockholm:20230426T190000
DTEND;TZID=Europe/Stockholm:20230426T220000
DTSTAMP:20260423T125856
CREATED:20230417T152814Z
LAST-MODIFIED:20230417T152814Z
UID:4884-1682535600-1682546400@folk.nu
SUMMARY:EP RELEASEKONSERT MED VÄDUR
DESCRIPTION:Folkmusikbandet VÄDUR släpper sin första EP. Missa inte deras Releasekonsert på Arvika konsthall. VÄDUR är ett folkmusikband som träffades på Musikhögskolan Ingesund. Musikernas olika genrebakgrund skapar ett sound som är både influerat av jazz och klassisk musik. \nTa med dig en kompis och ett valfritt instrument så ses vi och har kul tillsammans!\n19.00 – Dörrar\n20.00 – Konsert\nsen är det jam\nFri entré
URL:https://folk.nu/evenemang/ep-releasekonsert-med-vadur/
LOCATION:Arvika Konsthall\, Storgatan 22A\, Arvika\, 671 31
ATTACH;FMTTYPE=image/jpeg:https://media2.folk.nu/2023/04/800_9656q-scaled.jpg
ORGANIZER;CN="V%26Auml%3BDUR":MAILTO:vadurmusic@gmail.com
END:VEVENT
END:VCALENDAR