BEGIN:VCALENDAR
VERSION:2.0
PRODID:-//Folk.nu! - ECPv5.14.0.1//NONSGML v1.0//EN
CALSCALE:GREGORIAN
METHOD:PUBLISH
X-WR-CALNAME:Folk.nu!
X-ORIGINAL-URL:https://folk.nu
X-WR-CALDESC:Händelser för Folk.nu!
REFRESH-INTERVAL;VALUE=DURATION:PT1H
X-Robots-Tag:noindex
X-PUBLISHED-TTL:PT1H
BEGIN:VTIMEZONE
TZID:Europe/Stockholm
BEGIN:DAYLIGHT
TZOFFSETFROM:+0100
TZOFFSETTO:+0200
TZNAME:CEST
DTSTART:20250330T010000
END:DAYLIGHT
BEGIN:STANDARD
TZOFFSETFROM:+0200
TZOFFSETTO:+0100
TZNAME:CET
DTSTART:20251026T010000
END:STANDARD
END:VTIMEZONE
BEGIN:VEVENT
DTSTART;TZID=Europe/Stockholm:20250315T183000
DTEND;TZID=Europe/Stockholm:20250315T230000
DTSTAMP:20260420T124907
CREATED:20250312T043350Z
LAST-MODIFIED:20250312T043350Z
UID:7331-1742063400-1742079600@folk.nu
SUMMARY:Danskväll\, Varma Fötter
DESCRIPTION:Helkväll i Gula villan i Järna! \nDet blir dansutlärning (Polska och slängpolska)\, Sociala ringdanser som startupp inför kvällen\, dans till spellista\, visstuga\, fik och jam. Läs mer på hemsidan (varmafotter.se).
URL:https://folk.nu/evenemang/danskvall-varma-fotter/
LOCATION:Gula Villan\, Järna\, Turingeväge 9\, Järna\, 15336
ATTACH;FMTTYPE=image/jpeg:https://media2.folk.nu/2025/03/DansVF-1-768x576-1.jpeg
END:VEVENT
BEGIN:VEVENT
DTSTART;TZID=Europe/Stockholm:20250215T180000
DTEND;TZID=Europe/Stockholm:20250215T230000
DTSTAMP:20260420T124907
CREATED:20250128T064818Z
LAST-MODIFIED:20250128T064818Z
UID:7144-1739642400-1739660400@folk.nu
SUMMARY:Danskväll med Mia Marine
DESCRIPTION:Varma Fötter gästas denna kväll av Mia Marine! \n\nhttps://www.youtube.com/watch?v=A6Bs9QUaS1M…\n\n\n18:00 Portarna öppnas18:30 Visstuga18.30-19:00 Dansutlärning: Polska19:00- 20 Dansutlärning: Rundpolska.20:00 Dans till Mia och spellista \n\nCafé\, Jam och dans hela kvällen!
URL:https://folk.nu/evenemang/danskvall-med-mia-marine/
LOCATION:Gula Villan\, Järna\, Turingeväge 9\, Järna\, 15336
ATTACH;FMTTYPE=image/jpeg:https://media2.folk.nu/2025/01/Solo-Italien-1-small.jpg
END:VEVENT
END:VCALENDAR