BEGIN:VCALENDAR
VERSION:2.0
PRODID:-//Folk.nu! - ECPv5.14.0.1//NONSGML v1.0//EN
CALSCALE:GREGORIAN
METHOD:PUBLISH
X-WR-CALNAME:Folk.nu!
X-ORIGINAL-URL:https://folk.nu
X-WR-CALDESC:Händelser för Folk.nu!
REFRESH-INTERVAL;VALUE=DURATION:PT1H
X-Robots-Tag:noindex
X-PUBLISHED-TTL:PT1H
BEGIN:VTIMEZONE
TZID:Europe/Stockholm
BEGIN:DAYLIGHT
TZOFFSETFROM:+0100
TZOFFSETTO:+0200
TZNAME:CEST
DTSTART:20220327T010000
END:DAYLIGHT
BEGIN:STANDARD
TZOFFSETFROM:+0200
TZOFFSETTO:+0100
TZNAME:CET
DTSTART:20221030T010000
END:STANDARD
BEGIN:DAYLIGHT
TZOFFSETFROM:+0100
TZOFFSETTO:+0200
TZNAME:CEST
DTSTART:20230326T010000
END:DAYLIGHT
BEGIN:STANDARD
TZOFFSETFROM:+0200
TZOFFSETTO:+0100
TZNAME:CET
DTSTART:20231029T010000
END:STANDARD
BEGIN:DAYLIGHT
TZOFFSETFROM:+0100
TZOFFSETTO:+0200
TZNAME:CEST
DTSTART:20240331T010000
END:DAYLIGHT
BEGIN:STANDARD
TZOFFSETFROM:+0200
TZOFFSETTO:+0100
TZNAME:CET
DTSTART:20241027T010000
END:STANDARD
BEGIN:DAYLIGHT
TZOFFSETFROM:+0100
TZOFFSETTO:+0200
TZNAME:CEST
DTSTART:20250330T010000
END:DAYLIGHT
BEGIN:STANDARD
TZOFFSETFROM:+0200
TZOFFSETTO:+0100
TZNAME:CET
DTSTART:20251026T010000
END:STANDARD
END:VTIMEZONE
BEGIN:VEVENT
DTSTART;TZID=Europe/Stockholm:20250314T190000
DTEND;TZID=Europe/Stockholm:20250314T210000
DTSTAMP:20260421T150708
CREATED:20250220T113403Z
LAST-MODIFIED:20250220T113403Z
UID:7272-1741978800-1741986000@folk.nu
SUMMARY:HENRIETTE FLACH & ANNA ØSTERBY
DESCRIPTION:Konsert på Tonsalen\nHENRIETTE FLACH & ANNA ØSTERBY \nTräd in i toner\, harmonier och övertoner förenas i små instrumentala berättelser. Med instrumenten accordion\, nyckelharpa och hardingfele bjuds publiken in i ett nordiskt ljuduniversum. \n \n 
URL:https://folk.nu/evenemang/henriette-flach-anna-osterby/
LOCATION:Teater Slava/Tonsalen\, Teater Sláva/Tonsalen\, kyrkogårdsvägen 2\, Huddinge\, 141 62
ATTACH;FMTTYPE=image/jpeg:https://media2.folk.nu/2025/02/66A8259-scaled.jpg
ORGANIZER;CN="Teater%20Slava%2FTonsalen":MAILTO:info@teaterslava.org
END:VEVENT
BEGIN:VEVENT
DTSTART;TZID=Europe/Stockholm:20240927T190000
DTEND;TZID=Europe/Stockholm:20240927T203000
DTSTAMP:20260421T150708
CREATED:20240808T084930Z
LAST-MODIFIED:20240808T084930Z
UID:6543-1727463600-1727469000@folk.nu
SUMMARY:DANIEL REID OCH ARVID RASK
DESCRIPTION:Konsert på Tonsalen \nMusiker och spelkompisar från Järna kombinerar blås- och stränginstrumentens klanger i en musikalisk lekstuga med briljans\, spelglädje och sväng!  \n  \nSpel till dans.
URL:https://folk.nu/evenemang/daniel-reid-och-arvid-rask/
LOCATION:Teater Slava/Tonsalen\, Teater Sláva/Tonsalen\, kyrkogårdsvägen 2\, Huddinge\, 141 62
ATTACH;FMTTYPE=image/jpeg:https://media2.folk.nu/2024/08/DA-scaled.jpeg
ORGANIZER;CN="Teater%20Slava%2FTonsalen":MAILTO:info@teaterslava.org
END:VEVENT
BEGIN:VEVENT
DTSTART;TZID=Europe/Stockholm:20240906T190000
DTEND;TZID=Europe/Stockholm:20240906T203000
DTSTAMP:20260421T150708
CREATED:20240808T084920Z
LAST-MODIFIED:20240808T084920Z
UID:6541-1725649200-1725654600@folk.nu
SUMMARY:Färg och tid - Ellika Frisell & Rafael Sida
DESCRIPTION:Konsert till Tonsalen \nDansant och personligt mästarmöte när folkmusikgiganterna briljerar som duo; en samtida hyllning till polska och tretakt.  \nSpel till dans.
URL:https://folk.nu/evenemang/farg-och-tid-ellika-frisell-rafael-sida/
LOCATION:Teater Slava/Tonsalen\, Teater Sláva/Tonsalen\, kyrkogårdsvägen 2\, Huddinge\, 141 62
ATTACH;FMTTYPE=image/jpeg:https://media2.folk.nu/2024/08/unnamed-scaled.jpg
ORGANIZER;CN="Teater%20Slava%2FTonsalen":MAILTO:info@teaterslava.org
END:VEVENT
BEGIN:VEVENT
DTSTART;TZID=Europe/Stockholm:20240503T190000
DTEND;TZID=Europe/Stockholm:20240503T200000
DTSTAMP:20260421T150708
CREATED:20240418T081909Z
LAST-MODIFIED:20240418T081909Z
UID:6356-1714762800-1714766400@folk.nu
SUMMARY:Konsert på Tonsalen - Kizelo Mleko
DESCRIPTION:Ett ösigt balkan- och klezmerband som spelar såväl traditionella melodier som egenskrivna låtar\, inspirerade av östeuropeisk musik. Bered er på röj! \nPris 180/120 krBiljetter: www.teaterslava.orgTonsalen Kyrkogårdsv. 2 Huddinge\n\nI samarbete med Region Stockholm\n 
URL:https://folk.nu/evenemang/konsert-pa-tonsalen-kizelo-mleko/
LOCATION:Teater Slava/Tonsalen\, Teater Sláva/Tonsalen\, kyrkogårdsvägen 2\, Huddinge\, 141 62
ATTACH;FMTTYPE=image/jpeg:https://media2.folk.nu/2024/04/Kizelo-Analog-Feel_group-scaled-1.jpg
ORGANIZER;CN="Teater%20Slava%2FTonsalen":MAILTO:info@teaterslava.org
END:VEVENT
BEGIN:VEVENT
DTSTART;TZID=Europe/Stockholm:20240412T190000
DTEND;TZID=Europe/Stockholm:20240412T210000
DTSTAMP:20260421T150708
CREATED:20240404T072152Z
LAST-MODIFIED:20240404T072152Z
UID:6299-1712948400-1712955600@folk.nu
SUMMARY:Klara Källström Trio
DESCRIPTION:Konsert på Tonsalen – Klara Källström Trio\n\nI Klara Källström Trio målas ett sällsamt ljudlandskap av stråkar\, röster och live-elektronik upp för lyssnaren. Här möts lekfulla instrumenttekniker\, färger och elektroakustiska sounds med sväng och tonalitet från den nordiska folkmusiken.\nSuggestiva grooves och rika klangfärger får tillsammans med kraftfulla röster och egenskrivna texter skildra det som både bär och bränner oss genom livet.\nMed en stark scennärvaro skapar bandet en musikalisk glänta dit man går både för att vila och väckas till liv.\nKlara Källström är cellist och folkmusiker. I hennes trioprojekt får vi tillsammans med Ingrid Rodebjer och Olov Lindroth höra hennes egna kompositioner. Musik som beskriver vardagens nyanser som i sin tur broderar väven till livets stora frågor.\n\nKonserten genomförs i samarbete med Riksförbundet för Folkmusik och Dans\, med stöd från Statens Kulturråd.\nPris 180/120 kr\nBiljetter: www.teaterslava.org\nTonsalen Kyrkogårdsv. 2 Huddinge
URL:https://folk.nu/evenemang/klara-kallstrom-trio/
LOCATION:Teater Slava/Tonsalen\, Teater Sláva/Tonsalen\, kyrkogårdsvägen 2\, Huddinge\, 141 62
ATTACH;FMTTYPE=image/jpeg:https://media2.folk.nu/2024/04/Klara-KA¤llstrA¶m-trio-fotograf-Sona-Hellman-1.jpg
ORGANIZER;CN="Teater%20Slava%2FTonsalen":MAILTO:info@teaterslava.org
END:VEVENT
BEGIN:VEVENT
DTSTART;TZID=Europe/Stockholm:20240322T190000
DTEND;TZID=Europe/Stockholm:20240322T203000
DTSTAMP:20260421T150708
CREATED:20240313T090314Z
LAST-MODIFIED:20240313T090314Z
UID:6273-1711134000-1711139400@folk.nu
SUMMARY:Konsert på Tonsalen - Joel Bremer och Pers Alexander Olsson
DESCRIPTION:Konsert på Tonsalen\nJoel Bremer och Pers Alexander Olsson\n\nTätt samspel på två fioler av Perslåtar i Rättvikstradition.\nKonsert och spel till dans.\n\nPris 180/120 kr\nBiljetter: www.teaterslava.org\nTonsalen Kyrkogårdsv. 2 Huddinge
URL:https://folk.nu/evenemang/konsert-pa-tonsalen-joel-bremer-och-pers-alexander-olsson/
LOCATION:Teater Slava/Tonsalen\, Teater Sláva/Tonsalen\, kyrkogårdsvägen 2\, Huddinge\, 141 62
ATTACH;FMTTYPE=image/jpeg:https://media2.folk.nu/2024/03/IMG_6471.jpg
ORGANIZER;CN="Teater%20Slava%2FTonsalen":MAILTO:info@teaterslava.org
END:VEVENT
BEGIN:VEVENT
DTSTART;TZID=Europe/Stockholm:20231027T190000
DTEND;TZID=Europe/Stockholm:20231027T200000
DTSTAMP:20260421T150708
CREATED:20231020T121524Z
LAST-MODIFIED:20231020T121524Z
UID:5661-1698433200-1698436800@folk.nu
SUMMARY:Konsert på Tonsalen - Carr & Roswall
DESCRIPTION:Konsert på Tonsalen – Carr & Roswall\ndel av Kista Världsmusikfestival\nAllt började 2003 då den engelske gitarristen Ian Carr och den svenske nyckelharpspelaren Niklas Roswall gav ut albumet Step on it. Skivan fick fina recensioner och duon spelade intensivt några år. Åren gick men 2018 återförenades de med albumet Time flies. Därmed fortsätter de att utforska samspelsmöjligheterna mellan gitarr och nyckelharpa\, både i egna och i traditionella låtar. Även om formatet är litet skapar de ett stort och alldeles eget sound med intressanta arrangemang och stor variationsrikedom.\nIan kommer från Penrith i norra England och är en av de mest aktiva och välkända gitarristerna på den engelska folkscenen. Han kom till Sverige första gången redan 1993 som gitarrist i The\nKathryn Tickell Band. Snart därefter bildades det brittisk-svenska folkbandet Swåp. Ian flyttade till Sverige 2001 och har även spelat i Sanden-Nygårds-Carr och Timber\, tillsammans med Maria Jonsson och Mikael Marin. Han arbetar även ofta tillsammans med flera välkända brittiska artister\, t ex Kris Drever\, Heidi Talbot\, Kate Rusby och Eddi Reader.\nNiklas från Kverrestad i Skåne är både riksspelman och världsmästare på nyckelharpa och har genom åren spelat i bl a Nyckelharporkestern\, Ranarim\, Ralsgård & Tullberg kvartett och Ulrika Bodén med vänner. Duospel ligger honom också varmt om hjärtat och förutom duon med Ian Carr spelar han även med Jens Comén och Mia Marin. Niklas har gått musikerutbildningen vid Kungliga Musikhögskolan i Stockholm och arbetar som frilansande folkmusiker. Numera är Niklas huvudgrupp Ahlberg\, Ek & Roswall\, Årets grupp vid Folk & Världsmusikgalan 2016.\nKonserten arrangeras av föreningen Farhang & Kista Världsmusik Festivalen i samarbete med Teater Slavá & Tonsalen\nFre 27 oktober kl 19\nTonsalen\, Kyrkogårdsv. 2\, Huddinge\nPris: Ord 180 kr\, stud/pens/arb.lös 120 kr\nRabatt för dig med Riksteaterns scenpass\nteaterslava.org / 08 – 551 70 517
URL:https://folk.nu/evenemang/konsert-pa-tonsalen-carr-roswall/
LOCATION:Teater Slava/Tonsalen\, Teater Sláva/Tonsalen\, kyrkogårdsvägen 2\, Huddinge\, 141 62
ATTACH;FMTTYPE=image/jpeg:https://media2.folk.nu/2023/10/373681097_768211508643449_5888622860779401788_n.jpeg
ORGANIZER;CN="Teater%20Slava%2FTonsalen":MAILTO:info@teaterslava.org
END:VEVENT
BEGIN:VEVENT
DTSTART;TZID=Europe/Stockholm:20231020T190000
DTEND;TZID=Europe/Stockholm:20231020T200000
DTSTAMP:20260421T150708
CREATED:20231018T145523Z
LAST-MODIFIED:20231018T145523Z
UID:5651-1697828400-1697832000@folk.nu
SUMMARY:Konsert på Tonsalen - Linda Bonventura med band
DESCRIPTION:Konsert på Tonsalen\nMusikteaterföreställning ”Kunde jag följa dig” – Linda Bonaventura med musiker: Oskar Kvant och Amanda Hofman Bang\nDel av Karin Boye dagarna\nTeaterkonsert om Karin Boyes liv med tonsatta dikter lyfter hennes livsöde som radikal kvinnlig konstnär.\nFöreställningen berättar om hur hon mötte sin samtid och hennes klassiker kläs i ny skrud\, såväl musikaliskt som i gestaltandet av hennes liv.\nGenom tonsättningarna får publiken möta både Karin och hennes poesi\, en av Sveriges litterära kulturskatter.\nOrd från publiken på premiären\, Joakim Rindå från Riksteatern skrev detta:\n”Håll i hatten så fint! ”Kunde jag följa dig” – Linda Bonaventura sjunger Karin Boye. Äran att få ingå i en första publik. Tack Linda Bonaventura med fantastiska musiker på scenen\, ni öppnade en reva i tiden! Håll utkik: I höst kommer albumet med en förhoppningsvis lång turné. ”
URL:https://folk.nu/evenemang/konsert-pa-tonsalen-linda-bonventura-med-band/
LOCATION:Teater Slava/Tonsalen\, Teater Sláva/Tonsalen\, kyrkogårdsvägen 2\, Huddinge\, 141 62
ATTACH;FMTTYPE=image/jpeg:https://media2.folk.nu/2023/10/366631501_882144326849822_1176805751095151834_n.jpeg
ORGANIZER;CN="Teater%20Slava%2FTonsalen":MAILTO:info@teaterslava.org
END:VEVENT
BEGIN:VEVENT
DTSTART;TZID=Europe/Stockholm:20230505T190000
DTEND;TZID=Europe/Stockholm:20230505T200000
DTSTAMP:20260421T150708
CREATED:20230502T140407Z
LAST-MODIFIED:20230502T140407Z
UID:5020-1683313200-1683316800@folk.nu
SUMMARY:Gästspel på Tonsalen - NAVA GATI - Indisk samtida dansfestival - Kroppens poesi
DESCRIPTION:Kroppens poesi är en nyproduktion av Farhang för NAVA GATI Contemporary Indian dance festival där Spoken word möter samtida indisk dans med sitar\, frame drumming\, ljudlandskap och rytmer.\n“Vad är vi\, en trött samling arv och rester eller något nytt och aldrig förut skådat\, stjärnor utan svindel?”\nI kroppens poesi tolkar tre dansare och två musiker diktverk av Matilda Södergran\, Rabindranath Tagore och Charles Baudelaire. Dansarna kommer från de tre olika indiska klassiska dansformerna Bharata natyam\, Odissi och Kuchipudi och utforskar på varsitt sätt orden genom sitt eget rörelsespråk. I tre olika delar bjuds\npubliken in till ett gränsland mellan ord och rörelse\, mellan ljus och mörker\, mellan nutid och det förgångna i vilket människans sökande efter strimmor av hopp i förgängligheten och efter att förlika sig med sin existens är det centrala.\nDel 1 Where the mind is without fear\, Rabindranath Tagore Vyshnavi Korlakunta\, koreografi\, dans\nDel 2 Överlevorna\, Matilda Södergran\nUlrika Larsen\, koreografi\, dans\nStian Grimstad\, sitar\nMaria Bovin de Labbé\, frame drumming\, slagverk\, röst\nDel 3 Det Ondas Blommor\, Charles Baudelaire\nReibell\, koreografi\, dans\, röst\nMaria Bovin de Labbé\, frame drumming\, slagverk\nLängd: ca 60 min\nIdé och koncept: Ulrika Larsen\, Pauline Reibell\nDIktsamlingen Överlevorna används i föreställningen med tillstånd av Matilda Södergran\nProduktion: Farhang i samarbete med\, Teater Sláva\, DVE och Odissi\nDansproduktion med stöd av Kulturrådet.
URL:https://folk.nu/evenemang/gastspel-pa-tonsalen-nava-gati-indisk-samtida-dansfestival-kroppens-poesi/
LOCATION:Teater Slava/Tonsalen\, Teater Sláva/Tonsalen\, kyrkogårdsvägen 2\, Huddinge\, 141 62
ATTACH;FMTTYPE=image/jpeg:https://media2.folk.nu/2023/05/342497636_241614695021213_7305297886135416259_n.jpeg
ORGANIZER;CN="Teater%20Slava%2FTonsalen":MAILTO:info@teaterslava.org
END:VEVENT
BEGIN:VEVENT
DTSTART;TZID=Europe/Stockholm:20230421T190000
DTEND;TZID=Europe/Stockholm:20230421T210000
DTSTAMP:20260421T150708
CREATED:20230417T132950Z
LAST-MODIFIED:20230417T132950Z
UID:4880-1682103600-1682110800@folk.nu
SUMMARY:Konsert på Tonsalen - Samuel "Looptok" Andersson
DESCRIPTION:Solokonsert med Looptok blir en salig blandning av guldkorn;\nliveloopade bitar och några unika instrument som Samuel hittat på sina turnéer runtom i världen. Från det enkla och avskalade till de mer mättade\, maffiga miljöer som byggs upp med hjälp av loopar och liveelektronik.\nEfter konserten blir det club till Looptoks liveloopade och\nimproviserade mer clubbiga beats och miljöer.\nKonsert och klubb\nBaren öppen i pausen.\nFre 21 april kl 19\nTonsalen\, kyrkogårdsv. 2\, Huddinge\nPris: Ord 180 kr\, stud/pens/arb.lös 120 kr.\nRabatt för dig med Riksteaterns scenpass\nBiljetter: www.teaterslava.org\,\n08-551 70517\, info@teaterslava.org
URL:https://folk.nu/evenemang/konsert-pa-tonsalen-samuel-looptok-andersson/
LOCATION:Teater Slava/Tonsalen\, Teater Sláva/Tonsalen\, kyrkogårdsvägen 2\, Huddinge\, 141 62
ATTACH;FMTTYPE=image/jpeg:https://media2.folk.nu/2023/04/328682960_926786495167467_2162053207409057575_n.jpeg
ORGANIZER;CN="Teater%20Slava%2FTonsalen":MAILTO:info@teaterslava.org
END:VEVENT
BEGIN:VEVENT
DTSTART;TZID=Europe/Stockholm:20221202T190000
DTEND;TZID=Europe/Stockholm:20221202T210000
DTSTAMP:20260421T150708
CREATED:20221128T103956Z
LAST-MODIFIED:20221128T103956Z
UID:4245-1670007600-1670014800@folk.nu
SUMMARY:Releasekonsert på Tonsalen – Liemannens klagan
DESCRIPTION:Konsert på Tonsalen – Releasekonsert för ”Liemannens klagan”.\nRiksspelmannen Olle af Klintbergs kompositioner framförda tillsammans med Järvsös dreamteam: Lena Jonsson\, Markus Räsänen\, Anders Hall och Arbid Svenungsson.\nKonsert och sedan spel till dans.\nTonsalen\, kyrkogårdsv. 2\, Huddinge\nBiljetter: 160 ord\, 100 kr stud/pens/arb.lös
URL:https://folk.nu/evenemang/releasekonsert-pa-tonsalen-liemannens-klagan/
LOCATION:Teater Slava/Tonsalen\, Teater Sláva/Tonsalen\, kyrkogårdsvägen 2\, Huddinge\, 141 62
ATTACH;FMTTYPE=image/jpeg:https://media2.folk.nu/2022/11/LIEMANNE.jpg
ORGANIZER;CN="Teater%20Slava%2FTonsalen":MAILTO:info@teaterslava.org
END:VEVENT
BEGIN:VEVENT
DTSTART;TZID=Europe/Stockholm:20221028T190000
DTEND;TZID=Europe/Stockholm:20221028T200000
DTSTAMP:20260421T150708
CREATED:20221026T085807Z
LAST-MODIFIED:20221026T090015Z
UID:4074-1666983600-1666987200@folk.nu
SUMMARY:Konsert på Tonsalen - Olle Lindvall
DESCRIPTION:Konsert på Tonsalen – Olle Lindvall\nSvensk folkmusik med gitarren i fokus. En magisk konsertkväll\, med virtuosen och pionjären Olle Lindvall.\nOlles arbete med folkmusik på gitarr är en pionjärverksamhet. ”Det är en utmaning att försöka översätta fiolideomet och hitta lösningar på gitarr. Jag vill att det ska kännas äkta och genuint samtidigt som jag vill utnyttja gitarrens möjligheter. Jag söker klanger\, det gitarristiska i floden av fiollåtar”.\nFre 28 okt kl 19. Baren öppen i pausen.\nTonsalen\, kyrkogårdsv. 2\nBiljetter: 160 kr ord\, 100 kr stud/pens/arb.lös\nwww.teaterslava.org / tickster.com
URL:https://folk.nu/evenemang/konsert-pa-tonsalen-olle-lindvall/
LOCATION:Teater Slava/Tonsalen\, Teater Sláva/Tonsalen\, kyrkogårdsvägen 2\, Huddinge\, 141 62
ATTACH;FMTTYPE=image/jpeg:https://media2.folk.nu/2022/10/302156057_428065972656834_607758079228843599_n.jpg
ORGANIZER;CN="Teater%20Slava%2FTonsalen":MAILTO:info@teaterslava.org
END:VEVENT
BEGIN:VEVENT
DTSTART;TZID=Europe/Stockholm:20220520T190000
DTEND;TZID=Europe/Stockholm:20220520T200000
DTSTAMP:20260421T150708
CREATED:20220217T101827Z
LAST-MODIFIED:20220217T101827Z
UID:1032-1653073200-1653076800@folk.nu
SUMMARY:Konsert på Tonsalen - Emma Reid och Erik Ronström
DESCRIPTION:Emma Reid och Erik Ronström är två välbekanta ansikten på Tonsalens folkmusikscen. På fiol och gitarr bjuder dessa mästerliga musiker på en bred och brokig låtskatt från bl a Gotland och Brittiska öarna. Vi färdas i ett levande samspel där musiken får dansa sin egen dans bortom tankeverksamhet och fingerarbete.
URL:https://folk.nu/evenemang/konsert-pa-tonsalen-emma-reid-och-erik-ronstrom/
LOCATION:Teater Slava/Tonsalen\, Teater Sláva/Tonsalen\, kyrkogårdsvägen 2\, Huddinge\, 141 62
ATTACH;FMTTYPE=image/jpeg:https://media2.folk.nu/2022/02/Erik-Emma-scaled.jpg
ORGANIZER;CN="Teater%20Slava%2FTonsalen":MAILTO:info@teaterslava.org
END:VEVENT
BEGIN:VEVENT
DTSTART;TZID=Europe/Stockholm:20220429T190000
DTEND;TZID=Europe/Stockholm:20220429T200000
DTSTAMP:20260421T150708
CREATED:20220216T175637Z
LAST-MODIFIED:20220217T101338Z
UID:945-1651258800-1651262400@folk.nu
SUMMARY:Konsert på Tonsalen – Erik Rydvall
DESCRIPTION:Konsert på Tonsalen – Erik Rydvall\nNyckelharpsspelmannen och folkmusikern Erik Rydvall är något av en musikalisk kameleont som rör sig fritt mellan olika genrer. Uppvuxen i Umeå men flyttade söderut som 20 åring för att studera på Eric Sahlströms Institutet. Erik gillar att testa nya utmaningar\, något som har gjort att han turnerat med ett flamencokompani i Schweiz\, spelar hardingfelemusik med Olav Luksengård Mjelva\, skapat en unik röst inom folkmusikgenren tillsammans med folkmusiktrion Nordic. Han har även turnerat med Tomas Ledin\, varit solist med storband och medlem i Ale Möllers senaste projekt Xenomania. Den senaste raden av utmaningar har varit att spela barockmusik på nyckelharpa\, ofta tillsammans med blockflöjtisten Kristine West. Där har Erik uppträtt som solist både på Confidencen i Stocholm\, tillsammans med Drottningholms Barockensemble samt Camerata Öresund samt i konserter tillsammans med Musica Vitae.\nTill konserten på Tonsalen tar Erik med sig en kappsäck med låtar av lite olika karaktär. Det blir lite Bach\, lite folkmusik\, lite egna låtar. Säkert en och annan improviserad överraskning också.\n\nhttps://youtu.be/9QV3Zh7bFL0
URL:https://folk.nu/evenemang/konsert-pa-tonsalen-erik-rydvall/
LOCATION:Teater Slava/Tonsalen\, Teater Sláva/Tonsalen\, kyrkogårdsvägen 2\, Huddinge\, 141 62
ATTACH;FMTTYPE=image/jpeg:https://media2.folk.nu/2022/02/Erik-Rydvall-foto-Elias-Gammelgard-1-scaled.jpg
ORGANIZER;CN="Teater%20Slava%2FTonsalen":MAILTO:info@teaterslava.org
END:VEVENT
END:VCALENDAR