BEGIN:VCALENDAR
VERSION:2.0
PRODID:-//Folk.nu! - ECPv5.14.0.1//NONSGML v1.0//EN
CALSCALE:GREGORIAN
METHOD:PUBLISH
X-WR-CALNAME:Folk.nu!
X-ORIGINAL-URL:https://folk.nu
X-WR-CALDESC:Händelser för Folk.nu!
REFRESH-INTERVAL;VALUE=DURATION:PT1H
X-Robots-Tag:noindex
X-PUBLISHED-TTL:PT1H
BEGIN:VTIMEZONE
TZID:Europe/Stockholm
BEGIN:DAYLIGHT
TZOFFSETFROM:+0100
TZOFFSETTO:+0200
TZNAME:CEST
DTSTART:20220327T010000
END:DAYLIGHT
BEGIN:STANDARD
TZOFFSETFROM:+0200
TZOFFSETTO:+0100
TZNAME:CET
DTSTART:20221030T010000
END:STANDARD
END:VTIMEZONE
BEGIN:VEVENT
DTSTART;TZID=Europe/Stockholm:20221214T120000
DTEND;TZID=Europe/Stockholm:20221214T130000
DTSTAMP:20260423T102049
CREATED:20221109T131232Z
LAST-MODIFIED:20221110T071341Z
UID:4131-1671019200-1671022800@folk.nu
SUMMARY:Duo Alan
DESCRIPTION:Lunchkonsert i S:t Eskilskyrka i Haninge:\nKlezmer and beyond!\nMan kan tydligt höra glädjen och sorgen\, det vilda\, vackra och vemodiga i Duo Alans musik.\nMusik som beskriver livets fram och baksidor\, musik som hyllar livet!Namnet ”Alan” är tillägnad Alan Kurdi\, den treåriga kurdiska pojken som drunknade i medelhavet 2015 på flykt från kriget i Syrien. Alan betyder också hopp något vi vill förmedla med vår duo.
URL:https://folk.nu/evenemang/duo-alan/
LOCATION:S:t Eskils Kyrka\, Runstensvägen 14\, Handen\, 136 38
ATTACH;FMTTYPE=image/jpeg:https://media2.folk.nu/2022/11/Duo-Alan-4-scaled.jpg
END:VEVENT
BEGIN:VEVENT
DTSTART;TZID=Europe/Stockholm:20220827T180000
DTEND;TZID=Europe/Stockholm:20220827T190000
DTSTAMP:20260423T102049
CREATED:20220817T164934Z
LAST-MODIFIED:20220823T121550Z
UID:3500-1661623200-1661626800@folk.nu
SUMMARY:Duo Alan Härnevi kyrka
DESCRIPTION:Duo Alan: passionerad musik för kropp och själ.\nDuo Alan är Peter Bothén klarinett och Jerry Adbo accordeon. Duon spelar musik inspirerade av all världens musik och musiker. \nNamnet ”Alan” är tillägnad Alan Kurdi\, den treårige kurdiska pojken som drunknade i medelhavet 2015 på flykt från kriget i Syrien. Alan betyder också ‘hopp’ – något duon vill förmedla med sin musik. \nMer info
URL:https://folk.nu/evenemang/duo-alan-harnevi-kyrka/
LOCATION:Härnevi kyrka\, 745 96\, Enköping
ATTACH;FMTTYPE=image/jpeg:https://media2.folk.nu/2022/08/Duo-Alan-scaled.jpg
END:VEVENT
BEGIN:VEVENT
DTSTART;TZID=Europe/Stockholm:20220727T190000
DTEND;TZID=Europe/Stockholm:20220727T200000
DTSTAMP:20260423T102049
CREATED:20220620T121006Z
LAST-MODIFIED:20220620T121006Z
UID:3273-1658948400-1658952000@folk.nu
SUMMARY:Flamenco med Tablao Móvil
DESCRIPTION:Flamencodans\, sång och gitarr i världsklass skapar hetta\, intimitet och puls i musikalisk ekvilibrism.\nI sommar turnerar Tablao Móvil med musikaliska genierna Safoura Safavi (sång) och Erik Steen (gitarr) tillsammans med den uttrycksfulla dansaren Pia ”del Norte” Pohjakallio. Tillsammans skapar de en konsertupplevelse som täcker hela känslospektrat och lämnar dig med en varm\, härlig stämning.\n\nMedverkande:\nSafoura Safavi – sång\nErik Steen – gitarr\nPia del Norte – dans\n\nFoto:\nKollage av LP Flamenco\, foto Zoran Dokic\, Amanda Lindgren
URL:https://folk.nu/evenemang/flamenco-med-tablao-movil-2/
LOCATION:Djurö kyrka\, Djurö kyrkväg 30\, Djurhamn\, 139 73
ATTACH;FMTTYPE=image/jpeg:https://media2.folk.nu/2022/06/Tablao-Movil-Kollage-liten-1.jpeg
END:VEVENT
BEGIN:VEVENT
DTSTART;TZID=Europe/Stockholm:20220717T190000
DTEND;TZID=Europe/Stockholm:20220717T200000
DTSTAMP:20260423T102049
CREATED:20220510T063438Z
LAST-MODIFIED:20220510T063438Z
UID:2672-1658084400-1658088000@folk.nu
SUMMARY:Dunkelljusglimt - där folkmusik och klasssiskt möts
DESCRIPTION:Dunkelljusglimt – vad döljer sig i det där välkända ljuset om man försöker titta i dess skugga? Det dunkla kan inte finnas utan ljuset och tvärtom. I vår glimt kommer vi undersöka ljust hur tätt sammanvävt de existerar. \nI konserten Dunkelljusglimt visar riksspelmännen Alf Olsson och Therese Olsson Hugosson närheten mellan de olika genrerna folkmusik och klassiskt. De blandar gammal musik med egenskrivna låtar och som publik kommer du märka att gränserna mellan de två världarna suddas ut i en dunkelljusglimt…. \nMedverkande: \nAlf Olsson\, riksspelman med Zornmärket i guld\, fiol \nTherese Olsson Hugosson\, riksspelman\, klarinett och piano
URL:https://folk.nu/evenemang/dunkelljusglimt-dar-folkmusik-och-klasssiskt-mots-2/
LOCATION:Fåglum kyrka\, Fåglums kyrka\, Nossebro\, 46596
ATTACH;FMTTYPE=image/png:https://media2.folk.nu/2022/05/Dunkelljusglimt-1.png
END:VEVENT
BEGIN:VEVENT
DTSTART;TZID=Europe/Stockholm:20220713T200000
DTEND;TZID=Europe/Stockholm:20220713T210000
DTSTAMP:20260423T102049
CREATED:20220510T063421Z
LAST-MODIFIED:20220510T063421Z
UID:2668-1657742400-1657746000@folk.nu
SUMMARY:Dunkelljusglimt - där folkmusik och klasssiskt möts
DESCRIPTION:Dunkelljusglimt – vad döljer sig i det där välkända ljuset om man försöker titta i dess skugga? Det dunkla kan inte finnas utan ljuset och tvärtom. I vår glimt kommer vi undersöka ljust hur tätt sammanvävt de existerar. \nI konserten Dunkelljusglimt visar riksspelmännen Alf Olsson och Therese Olsson Hugosson närheten mellan de olika genrerna folkmusik och klassiskt. De blandar gammal musik med egenskrivna låtar och som publik kommer du märka att gränserna mellan de två världarna suddas ut i en dunkelljusglimt…. \nMedverkande: \nAlf Olsson\, riksspelman med Zornmärket i guld\, fiol \nTherese Olsson Hugosson\, riksspelman\, klarinett och piano
URL:https://folk.nu/evenemang/dunkelljusglimt-dar-folkmusik-och-klasssiskt-mots/
LOCATION:Svanskogs kyrka\, Kyrkvägen 2\, Svanskog\, 66250
ATTACH;FMTTYPE=image/png:https://media2.folk.nu/2022/05/Dunkelljusglimt.png
END:VEVENT
BEGIN:VEVENT
DTSTART;TZID=Europe/Stockholm:20220409T120000
DTEND;TZID=Europe/Stockholm:20220409T130000
DTSTAMP:20260423T102049
CREATED:20220221T135239Z
LAST-MODIFIED:20220221T135239Z
UID:1418-1649505600-1649509200@folk.nu
SUMMARY:Lunchkonsert med Maine Coon trio @ Ystad klosterkyrka
DESCRIPTION:Välkommen på lunchkonsert med Maine Coon trio!\n\nLördag 9 april kl. 12.00\nYstad klosterkyrka\n\nMaine Coon trio\nMed avstamp i norsk och svensk folkmusik blandar Maine Coon trio eget material med traditionella låtar såsom springar\, gangare och slängpolska. Skira klanger och lekfullhet möter improvisation och pulserande riff. Felor\, träblås och gitarr i ett tätt sammansvetsat samspel.\nTrion möttes på Högskolan för scen och musik i Göteborg. Arbetandes som lärare\, musiker och instrumentbyggare strävar bandet ständigt efter att träffas för att skapa musik. Maine Coon trios debutplatta släpptes 2020 i Göteborg i ett mindre konsertformat och bandet utnämndes till Årets nykomling 2020 av Lira Musikmagasin för skivan.\n\nAnna-Karin Andersson – hardangerfela\, fiol\, oktavfiol\nRobin Johansson – sopransaxofon\, basklarinett\nSøren Vinther Røgen – gitarr\, cittern\n\nVälkommen!
URL:https://folk.nu/evenemang/lunchkonsert-med-maine-coon-trio-ystad-klosterkyrka/
LOCATION:Ystad klosterkyrka\, Klostergatan 10\, Ystad\, 271 34
ATTACH;FMTTYPE=image/jpeg:https://media2.folk.nu/2022/02/41721334_285896342008847_3790650311958331392_o.jpg
END:VEVENT
END:VCALENDAR