BEGIN:VCALENDAR
VERSION:2.0
PRODID:-//Folk.nu! - ECPv5.14.0.1//NONSGML v1.0//EN
CALSCALE:GREGORIAN
METHOD:PUBLISH
X-WR-CALNAME:Folk.nu!
X-ORIGINAL-URL:https://folk.nu
X-WR-CALDESC:Händelser för Folk.nu!
REFRESH-INTERVAL;VALUE=DURATION:PT1H
X-Robots-Tag:noindex
X-PUBLISHED-TTL:PT1H
BEGIN:VTIMEZONE
TZID:Europe/Stockholm
BEGIN:DAYLIGHT
TZOFFSETFROM:+0100
TZOFFSETTO:+0200
TZNAME:CEST
DTSTART:20230326T010000
END:DAYLIGHT
BEGIN:STANDARD
TZOFFSETFROM:+0200
TZOFFSETTO:+0100
TZNAME:CET
DTSTART:20231029T010000
END:STANDARD
END:VTIMEZONE
BEGIN:VEVENT
DTSTART;TZID=Europe/Stockholm:20231207T123000
DTEND;TZID=Europe/Stockholm:20231207T130000
DTSTAMP:20260421T162945
CREATED:20230906T064907Z
LAST-MODIFIED:20230906T064907Z
UID:5433-1701952200-1701954000@folk.nu
SUMMARY:Vinter i keltisk ton med Woodlands
DESCRIPTION:Woodlands består av Kristina Leesik\, fiol\, och Justyna Krzyżanowska\, keltisk harpa. Med rötter inom både folkmusik och klassisk musik växer ett unikt och nyskapande sound\, där skotska\, irländska och egenskrivna låtar berikas av influenser från jazz och pop. Deras repertoar och mångsidighet ger sig uttryck i allt från spännande balladberättelser och smäktande melodier i drömska arrangemang till oemotståndligt svängiga jigs och reels. Harpans stora klang och rytmiska driv sammanflätas med fiolens flödande toner till ett nyanserat\, personligt och fascinerande musikaliskt landskap.
URL:https://folk.nu/evenemang/vinter-i-keltisk-ton-med-woodlands/
LOCATION:Centrumkyrkan Farsta\, Farstaplan 15\, Farsta\, 123 47
ATTACH;FMTTYPE=image/jpeg:https://media2.folk.nu/2023/09/DSCF4104.jpeg
END:VEVENT
BEGIN:VEVENT
DTSTART;TZID=Europe/Stockholm:20230810T190000
DTEND;TZID=Europe/Stockholm:20230810T200000
DTSTAMP:20260421T162945
CREATED:20230428T114530Z
LAST-MODIFIED:20230428T120321Z
UID:4945-1691694000-1691697600@folk.nu
SUMMARY:Duo Alan – Musik i sommarkväll
DESCRIPTION:Duo Alan\nKlezmer and beyond!\nMan kan tydligt höra glädjen och sorgen\, det vilda\, vackra och vemodiga i Duo Alans\nmusik. Musik som beskriver livets fram och baksidor\, musik som hyllar livet! \nNamnet ”Alan” är tillägnad Alan Kurdi\, den treåriga kurdiska pojken som drunknade i\nmedelhavet 2015 på flykt från kriget i Syrien.\nAlan betyder också hopp\, något vi vill förmedla med vår duo. \nPeter Bothén – klarinetter och saxofon\, har spelat klezmermusik i över trettio år i gruppen Sabbath Hela Veckan\, en\nbakgrund som satt sina spår i både spelstil och i låtskrivande. \nJerry Adbo -accordeon är en mångsidig musiker och arrangör med mångårigt klezmerspelande. Den\nmesta av musiken är egenskriven kryddad med musik av Piazzolla\, Eric Satie m.f \n\nFoto: Kasia Syty
URL:https://folk.nu/evenemang/duo-alan-musik-i-sommarkvall/
LOCATION:Ytterjärna Kyrka\, Kyrkvägen 10\, Järna\, 153 32
ATTACH;FMTTYPE=image/jpeg:https://media2.folk.nu/2023/04/Duo-Alan-03806-scaled.jpeg
END:VEVENT
END:VCALENDAR