BEGIN:VCALENDAR
VERSION:2.0
PRODID:-//Folk.nu! - ECPv5.14.0.1//NONSGML v1.0//EN
CALSCALE:GREGORIAN
METHOD:PUBLISH
X-WR-CALNAME:Folk.nu!
X-ORIGINAL-URL:https://folk.nu
X-WR-CALDESC:Händelser för Folk.nu!
REFRESH-INTERVAL;VALUE=DURATION:PT1H
X-Robots-Tag:noindex
X-PUBLISHED-TTL:PT1H
BEGIN:VTIMEZONE
TZID:Europe/Stockholm
BEGIN:DAYLIGHT
TZOFFSETFROM:+0100
TZOFFSETTO:+0200
TZNAME:CEST
DTSTART:20220327T010000
END:DAYLIGHT
BEGIN:STANDARD
TZOFFSETFROM:+0200
TZOFFSETTO:+0100
TZNAME:CET
DTSTART:20221030T010000
END:STANDARD
END:VTIMEZONE
BEGIN:VEVENT
DTSTART;TZID=Europe/Stockholm:20220305T193000
DTEND;TZID=Europe/Stockholm:20220305T213000
DTSTAMP:20260424T111329
CREATED:20220217T143142Z
LAST-MODIFIED:20220218T083955Z
UID:1091-1646508600-1646515800@folk.nu
SUMMARY:Ian Carr & The Various Artists
DESCRIPTION:Ian Carr är en av Sveriges mesta gitarrister och en av Englands största folkmusikartister. Här får du höra honom i hans eget band som bjuder på snabba reels\, suggestiva valser och polskor dränkta i Guinness. Sånger om USB-kablar och Classic Car Week. Kort sagt: avant folk!\nTidningen R&R i England recenserade senaste plattan som ”One of the most inventive\, quirky and grin inducing albums this reviewer has heard in years”. \nIan Carr som anses vara en av de bästa och mest originella gitarrister i sin generation har varit en efterfrågad musiker för många hyllade artister i Sverige och Storbritannien inklusive Kate Rusby\, Sofia Karlsson\, Phil Cunningham och Eddi Reader. The Various Artists är bandet med förmåga att svänga från långsam vals till frenetisk reel.\nUr tidningen Lira: ” Arrangemangen är subtila och lyfter\, lurar och bygger om. Ackordvändningar\, melodik och harmoni är annorlunda\, ibland väldigt strikta och nästan klassiska i sin uppbyggnad. Så blir du plötsligt förvånad och skrattar….” \nBandet består av\nIan Carr guitar\nMaria Jonsson (Långt Bort I Skogen)\, fiol\nLaura Wilkie (Kinnaris Quartet) fiol\nStaffan Lindfors ( Östen Med Resten/ Quilty) kontrabas\nThomas Gibbs piano/ tramporgel och klarinett.\n\n\nInget förköp\, biljetter enbart på dörren.\n\nArrangeras av Dans & Folkton i samarbete med Folkmusikens hus och Stf Bilda Mitt
URL:https://folk.nu/evenemang/ian-carr-the-various-artists-2/
LOCATION:Gamla Elverket\, Ölandsgatan 8\, Falun\, 791 60
ATTACH;FMTTYPE=image/jpeg:https://media2.folk.nu/2022/02/iancarr_-1840x1040px_rosa.jpeg
ORGANIZER;CN="Folkmusikens%20hus":MAILTO:kontakt@folkmusikenshus.se
END:VEVENT
BEGIN:VEVENT
DTSTART;TZID=Europe/Stockholm:20220302T190000
DTEND;TZID=Europe/Stockholm:20220302T210000
DTSTAMP:20260424T111329
CREATED:20220217T143438Z
LAST-MODIFIED:20220217T143855Z
UID:1104-1646247600-1646254800@folk.nu
SUMMARY:Ian Carr & The Various Artists
DESCRIPTION:Ian Carr är en av Sveriges mesta gitarrister och en av Englands största folkmusikartister. Här får du höra honom i hans eget band som bjuder på snabba reels\, suggestiva valser och polskor dränkta i Guinness. Sånger om USB-kablar och Classic Car Week. Kort sagt: avant folk!\nTidningen R&R i England recenserade senaste plattan som ”One of the most inventive\, quirky and grin inducing albums this reviewer has heard in years”. \nIan Carr som anses vara en av de bästa och mest originella gitarrister i sin generation har varit en efterfrågad musiker för många hyllade artister i Sverige och Storbritannien inklusive Kate Rusby\, Sofia Karlsson\, Phil Cunningham och Eddi Reader. The Various Artists är bandet med förmåga att svänga från långsam vals till frenetisk reel.\nUr tidningen Lira: ” Arrangemangen är subtila och lyfter\, lurar och bygger om. Ackordvändningar\, melodik och harmoni är annorlunda\, ibland väldigt strika och nästan klassiska i sin uppbyggnad. Så blir du plötsligt förvånad och skrattar….” \nBandet består av\nIan Carr guitar\nMaria Jonsson (Långt Bort I Skogen)\, fiol\nLaura Wilkie (Kinnaris Quartet) fiol\nStaffan Lindfors ( Östen Med Resten/ Quilty) kontrabas\nThomas Gibbs piano/ tramporgel och klarinett.\nArrangeras av Dans & Folkton i samarbete med Folkmusikens hus och Stf Bilda Mitt.
URL:https://folk.nu/evenemang/ian-carr-the-various-artists-3/
LOCATION:Folkets hus\, Ludvika\, Carlavägen 24\, Ludvika\, 771 30
ATTACH;FMTTYPE=image/jpeg:https://media2.folk.nu/2022/02/iancarr_-1840x1040px_rosa-1.jpeg
ORGANIZER;CN="Dans%20%26amp%3B%20Folkton":MAILTO:dansofolkton@outlook.com
END:VEVENT
BEGIN:VEVENT
DTSTART;TZID=Europe/Stockholm:20220302T183000
DTEND;TZID=Europe/Stockholm:20220302T200000
DTSTAMP:20260424T111329
CREATED:20220207T153133Z
LAST-MODIFIED:20220215T233219Z
UID:666-1646245800-1646251200@folk.nu
SUMMARY:#folkkursonline: Spelmän i arkiven
DESCRIPTION:Välkommen till en kurs där vi djupdyker i folkmusikarkiven\, lyssnar på olika spelmän och spelstilar! Hur lät det för 70 år sen? Hur vill vi att det ska låta idag? Vi lyssnar\, analyserar och spelar! \nPå denna digitala kurs kommer vi att lyssna på arkivinspelningar och använda olika metoder för att analysera dessa. Under kursens gång kommer vi att lära oss flera olika låtar\, gå in på detaljer och jämföra olika spelmäns spelstil. Målet är att du ska få verktyg och inspiration att utveckla det personliga uttrycket i ditt spel. \nAnmälan: https://www.bilda.nu/arr/1124204/folkkursonline-spelman-i-arkiven-602888 \nMål med kursen: \nAtt tillgängliggöra arkivmaterial\, skaffa verktyg och metoder för att själv använda inspelningar och applicera det på sitt egna musicerande med en personlig prägel. \n  \nLedare är Anna Ekborg\, en av den yngre generationens folkmusiker som på senare år har etablerat sig på den svenska folkmusikscenen\, både som soloartist och som ensemblemusiker i bland annat den grammisnominerade stråktrion Northern Resonance. Under de senaste åren har Anna djupdykt i rättvikstraditionen och har spenderat mycket tid i arkiven och sommaren 2021 släpptes hennes första soloalbum med bland annat låtar som hon har hittat i arkiven och sedan satt sin personliga prägel på. \nFörkunskaper: Du behöver hålla en god teknisk nivå på ditt instrument samt ha vana av att lära på gehör för att delta i kursen. Vi kommer främst att lyssna och härma\, så noter kommer inte att tillhandahållas. Du behöver inte spela fiol eller vara grundad i den svenska folkmusiken. Nyfikenhet och öppenhet är det allra viktigaste! Kursen sker på zoom\, ett digitalt videoverktyg som du kan ladda ner gratis. Du får en introduktion första träffen kring hur tekniken funkar. Mellan träffarna kan deltagarna hålla kontakt med varandra via ett digitalt klassrum\, Learnify\, där man kan dela filer och länkar med varandra\, samt chatta om man vill. \nVi ses 6 kvällar: 2/3\, 9/3\, 23/3\, 30/3\, 13/4\, 27/4 \nOnsdagar kl. 18.30-20.00 \nVi behöver minst 5 personer för att kunna genomföra kursen. Faktura skickas på mail strax före kursstart\, samt länk till första zoom-träffen. \nFoto av Petter-Erik: Svenskt Visarkiv \nFoto av Anna Ekborg: Olof Grind \nKursen görs av Studieförbundet Bilda och Folkmusikens Hus.
URL:https://folk.nu/evenemang/folkkursonline-spelman-i-arkiven/
LOCATION:Online
ATTACH;FMTTYPE=image/jpeg:https://media2.folk.nu/2022/02/AnnaPettererik.jpg
END:VEVENT
BEGIN:VEVENT
DTSTART;TZID=Europe/Stockholm:20220227T160000
DTEND;TZID=Europe/Stockholm:20220227T173000
DTSTAMP:20260424T111329
CREATED:20220217T143904Z
LAST-MODIFIED:20220217T143904Z
UID:1111-1645977600-1645983000@folk.nu
SUMMARY:Lena Willemark och Mikael Marin
DESCRIPTION:På Folk och Världsmusikgalan 2021 presenterade sig en ny duo för publiken. Lena Willemark och Mikael Marin hör sedan länge till Sveriges främsta folk-musiker. Mångsidigare än de flesta\, Lena som framstående sångerska och fiol-spelman och Mikael med sin viola. Bägge är utmärkta kompositörer och prisbelönta i många sammanhang. Nu har vi chansen att höra dem här i Rättvik. \nLena Willemark har kommit att bli en centralgestalt inom den svenska folk-musiken och en banbrytande genre-överskridande sångerska. Från sin upp-växt i Älvdalen bär hon med sig en unik musikskatt som hon tillägnat sig från sina läromästare. Efter åren på Musik-högskolan i Stockholm har hon\, på egen hand eller i samarbete med andra\, ständigt vidgat sitt uttryck. Med åren har Lena allt mer kommit att framstå som en av Nordens mest mångsidiga artister – mycket för sin unika förmåga att forma olikheter till en odelbar helhet. \nMikael Marin är en musiker som inte är nöjd med att bara spela ”andra fiolen”. Hans influenser är i det närmaste obegränsade och sträcker sig från Schönberg till Beatles. Han blev riksspelman 1983 och fick chansen att spela i världsorkestern under ledning av Leonard Bernstein 1989. När han inte spelar med Lena eller i några andra konstellationer komponerar\, producerar och arrangerar han musik för andra artister. \nI samarbete med stf Bilda Mitt.
URL:https://folk.nu/evenemang/lena-willemark-och-mikael-marin/
LOCATION:Folkmusikens hus\, Dalagatan 7\, Rättvik\, 795 31
ATTACH;FMTTYPE=image/jpeg:https://media2.folk.nu/2022/02/willemark-marin-1400x791-.jpeg
ORGANIZER;CN="Folkmusikens%20hus":MAILTO:kontakt@folkmusikenshus.se
END:VEVENT
BEGIN:VEVENT
DTSTART;TZID=Europe/Stockholm:20220224T183000
DTEND;TZID=Europe/Stockholm:20220224T200000
DTSTAMP:20260424T111329
CREATED:20220207T153515Z
LAST-MODIFIED:20220215T233057Z
UID:668-1645727400-1645732800@folk.nu
SUMMARY:#folkkursonline: Folksånger i arkiven
DESCRIPTION:Välkommen till en digital kurs med fokus på folksång! Här får du ett gyllene tillfälle att fördjupa dig i folkvisor som finns i olika arkiv samt metoder för att analysera vad dessa fina sångare gör\, varför låter det som det låter? Hur kan du göra visorna till dina?\nVarje träff lär vi oss nya visor från inspelningar i folkmusikarkiv\, går in på alla små detaljer som finns i sångerna\, fördjupar oss i stil och sångsätt. Hur kan DU sjunga dessa visor? Vi blir en del av traditionsprocessen\, bygger vidare och levandegör det fantastiska material som finns inspelat. \nAnmälan: https://www.bilda.nu/arr/1122156/folkkursonline-folksanger-i-arkiven-602741 \nMål med kursen: \nAtt tillgängliggöra arkivmaterial och ge metoder för att själv använda inspelningar. Fördjupa dig i folksångens stil och sångsätt och få en större medvetenhet om ditt sjungande. \nLedare är Siri Anna Flensburg\, folksångerska och student på Kungliga Musikhögskolan. Hon har under de senaste åren sökt sig djupt in i folkmusikarkiven\, som gömmer både spännande visor och hemliga koraler. Genom inspelningarna har hon\, förutom en mängd låtar och spännande berättelser\, hittat oanade möjligheter i sin egen röst och nya vägar in i det folkliga sångsättet. Här delar hon med sig av sina erfarenheter av att söka i arkiv och spelar upp flera av sina favoriter bland sångare. \nFörkunskaper: Du behöver inga förkunskaper för att delta\, kursen riktar sig både till dig som sjungit mycket folkvisor eller inte alls. Nyfikenhet och öppenhet är bra att ha! \nKursen sker på zoom\, ett digitalt videoverktyg som du kan ladda ner gratis. Du får en introduktion första träffen kring hur tekniken funkar. Mellan träffarna kan deltagarna hålla kontakt med varandra via ett digitalt klassrum\, Learnify\, där man kan dela filer och länkar med varandra\, samt chatta om man vill. \n  \nAvgift faktureras före första träffen. \nFoto på Nille Henningsgård (till höger) taget av Märta Ramsten/Svenskt Visarkiv. \nFoto Siri Flensburg (till vänster).
URL:https://folk.nu/evenemang/folkkursonline-folksanger-i-arkiven/
LOCATION:Online
ATTACH;FMTTYPE=image/jpeg:https://media2.folk.nu/2022/02/FolkkursonlineSanger.jpg
END:VEVENT
BEGIN:VEVENT
DTSTART;TZID=Europe/Stockholm:20220219T193000
DTEND;TZID=Europe/Stockholm:20220219T230000
DTSTAMP:20260424T111329
CREATED:20220209T175343Z
LAST-MODIFIED:20220215T232953Z
UID:693-1645299000-1645311600@folk.nu
SUMMARY:Folkmusikkvällar på Kapells
DESCRIPTION:Folkmusikkvällar på Kapells bjuder denna gång på konsert med Siw Burman\, fiol\, Olle Berggren\, tramporgel och Anders Hällström\, fiol\, dragspel och sång. Tillsammans bjuder de på låtar från Västerbotten och Norrbotten\, solo och i grupp.\nNär? Lördag 19/2 kl 19.30\nVar? Röjåssalen\, Härnösands Folkhögskola.\nPris? 100 kr\, gratis för Kapells elever.\nEfter konserten finns möjlighet att jamma och dansa.\nTa gärna med eget instrument! \nOm musikerna:\nRiksspelmannen och fiolpedagogen Siw från Burträsk är en av Västerbottens främsta folkmusikikoner. Under det glada 70-talet dokumenterade hon folkmusik\, vilket bland annat resulterade i notsamlingen Slatta fra Västerbott´n med hela 415 låtar.\nOlle är utbildad musiklärare och pianopedagog\, en allroundmusiker som även jobbat som kantor i svenska kyrkan.\nÖverkalixbördige Anders spelar låtar från norra Sverige\, Finland\, Norge och även en del musik från Balkan. Han är också riksspelman på fiol och utbildad fiolpedagog. \nFolkmusikkvällar på Kapells brukar äga rum några lördagar per termin och arrangeras av Studieförbundet Bilda i samarbete med Härnösands Musiksällskap och Härnösands folkhögskola.
URL:https://folk.nu/evenemang/folkmusikkvallar-pa-kapells-konsert-med-siw-burman-olle-berggren-anders-hallstrom/
LOCATION:Härnösands Folkhögskola\, Murbergsvägen 32\, Härnösand\, 871 21
ATTACH;FMTTYPE=image/png:https://media2.folk.nu/2022/02/Kapells-Siw-Olle-o-Anders-Facebookheader.png
END:VEVENT
BEGIN:VEVENT
DTSTART;TZID=Europe/Stockholm:20220217T183000
DTEND;TZID=Europe/Stockholm:20220217T200000
DTSTAMP:20260424T111329
CREATED:20220131T175526Z
LAST-MODIFIED:20220215T225129Z
UID:616-1645122600-1645128000@folk.nu
SUMMARY:#folkkursonline: Fortsättningskurs i durspel
DESCRIPTION:Övningar och låtspel på 2-radigt durspel stämt i G/C. Kursen riktar sig till dig som lärt dig spela durspel men fortfarande är på nybörjarnivå och vill lära dig mer. Från 13 år och uppåt. Kursledare är Daniel Nyström från Råneå\, Riksspelman på 2-radigt durspel och musiklärare. \nPris: 750kr \nNär och var? Vi möts över videoverktyget zoom ca varannan torsdag kl 18:30-20:00 med start 17 februari. Exakta datum: 17/2\, 3/3\, 17/3\, 31/3\, 21/4. \nAnmäl dig senast torsdag 10 februari på bilda.nu (se länk nedan)
URL:https://folk.nu/evenemang/folkkursonline-fortsattningskurs-i-durspel/
LOCATION:Online
ATTACH;FMTTYPE=image/png:https://media2.folk.nu/2022/01/Folkkursonline-durspel.png
END:VEVENT
BEGIN:VEVENT
DTSTART;TZID=Europe/Stockholm:20220126T190000
DTEND;TZID=Europe/Stockholm:20220504T200000
DTSTAMP:20260424T111329
CREATED:20220222T135508Z
LAST-MODIFIED:20220222T135508Z
UID:1445-1643223600-1651694400@folk.nu
SUMMARY:Trallkedja - en digital sångträff
DESCRIPTION:Att ”tralla” är att sjunga utan att ha en text med innehåll\, man framför en melodi på stavelser som ligger bra i munnen t ex ladi dej ladi då. Detta är vanligt inom folkmusik när man vill tralla till dans. \nTrallkedjan är tänkt att vara ett sätt för intresserade att träffas och utbyta erfarenheter kring trallning. Vi möts regelbundet digitalt\, varannan onsdag\, för att lära av varandra. Lite som en visstuga\, fast återkommande och utan så mycket ord. Du som gillar folksång kommer säkert att gilla trall! \nInitiativtagare och spindeln i nätet är Mats Genell\, som bjuder in olika trallvänner att inspirera deltagarna under varje träff. Alla har vi vår egen röst och med den kan vi göra så många olika saker. För oss som håller på med folkmusik ger trallandet ett instrument som vi alltid har med oss. Trallkedjan är en serie träffar för oss som vill prova\, lära oss\, eller utveckla trallandet. Se det som en möjlighet att dela med och inspireras av varandra. Och att lära sig nya låtar förstås. Träffarna är unika\, olika ledare håller i dem och delar med sig av sin repertoar\, sin personliga stil och sina tips. Det är möjligt att du som deltar i Trallkedjan vill vara med och leda en träff någon gång. På så sätt kan kedjan bli väldigt lång. Vår förhoppning är också att Trallkedjan ska göra det lättare för oss som trallar folkmusik\, att kunna träffas och känna gemenskap på stämmor. Kanske våga skriva upp oss i olika konstellationer på spellistor och tralla till dans när vi ses? \nDu behöver inga förkunskaper för att delta! Du kan delta i alla träffar eller bara någon. Vi kommer ta ut en låg avgift för ditt deltagande\, vi fakturerar dig. \nVi lär tillsammans\, med och av varandra\, mer erfarna trallare kan få inspiration och nyfikna nykomlingar får en bra ingång till att börja tralla. Trallkedjan är ett experiment\, vi hoppas förstås att det ska falla väl ut\, att många vill vara med och att vi även ska kunna nätverka lite sinsemellan. Träffarna kommer att organiseras som en studiecirkel hos Bilda. \nPraktiskt: \nDu anmäler dig här https://www.bilda.nu/arr/1118083/trallkedja-en-digital-sangtraff-med-fokus-pa-trall-602449 och får sedan ett mail med en länk till zoom där du ansluter dig till träffen. Vi bifogar även en instruktion för dig som aldrig använt zoom förut\, men inget program behöver laddas ner för att delta. \nBildas folkmusikarbete görs i samverkan med Folkmusikens Hus. \n 
URL:https://folk.nu/evenemang/trallkedja-en-digital-sangtraff/
LOCATION:Online
ATTACH;FMTTYPE=image/jpeg:https://media2.folk.nu/2022/02/trallkedja-utan-logga.jpg
END:VEVENT
END:VCALENDAR