BEGIN:VCALENDAR
VERSION:2.0
PRODID:-//Folk.nu! - ECPv5.14.0.1//NONSGML v1.0//EN
CALSCALE:GREGORIAN
METHOD:PUBLISH
X-WR-CALNAME:Folk.nu!
X-ORIGINAL-URL:https://folk.nu
X-WR-CALDESC:Händelser för Folk.nu!
REFRESH-INTERVAL;VALUE=DURATION:PT1H
X-Robots-Tag:noindex
X-PUBLISHED-TTL:PT1H
BEGIN:VTIMEZONE
TZID:Europe/Stockholm
BEGIN:DAYLIGHT
TZOFFSETFROM:+0100
TZOFFSETTO:+0200
TZNAME:CEST
DTSTART:20220327T010000
END:DAYLIGHT
BEGIN:STANDARD
TZOFFSETFROM:+0200
TZOFFSETTO:+0100
TZNAME:CET
DTSTART:20221030T010000
END:STANDARD
END:VTIMEZONE
BEGIN:VEVENT
DTSTART;TZID=Europe/Stockholm:20220930T150000
DTEND;TZID=Europe/Stockholm:20221002T100000
DTSTAMP:20260421T133536
CREATED:20220217T214159Z
LAST-MODIFIED:20220217T214256Z
UID:1277-1664550000-1664704800@folk.nu
SUMMARY:Sorsele spelmansstämma
DESCRIPTION:Sorsele spelmansstämma förbereder sig för 30-årsjubileum. Detta efter att ha skjutit upp evenemanget i två år. Stämman är en inomhusstämma\, med buskspel på Sorsele hembygdsområde med servering av  fika\, samt möjlighet till frukost. Själva spelmansstämman med framträdanden av olika grupper genomförs i  Filadelfias stora sal. Ett par kurser kommer att erbjudas\, och lördagens spelmansmiddag intas på Sorsele River Hotel. \nArrangemanget genomförs av Norr-och Västerbottens spelmansförbund i samarbete med Sorsele Folkmusik-och Dansförening \nmer info kommer  i tidningen Spelknäppen och på https://www.facebook.com/groups/vasterbottensspelmansforbund/ \n 
URL:https://folk.nu/evenemang/sorsele-spelmansstamma/
ATTACH;FMTTYPE=image/jpeg:https://media2.folk.nu/2022/02/Sorsele-spelman-2020-1-scaled.jpg
ORGANIZER;CN="Sorsele%20Folk-muisk-och%20Dansf%26ouml%3Brening":MAILTO:carinas.ord.ton@icloud.com
END:VEVENT
END:VCALENDAR