BEGIN:VCALENDAR
VERSION:2.0
PRODID:-//Folk.nu! - ECPv5.14.0.1//NONSGML v1.0//EN
CALSCALE:GREGORIAN
METHOD:PUBLISH
X-WR-CALNAME:Folk.nu!
X-ORIGINAL-URL:https://folk.nu
X-WR-CALDESC:Händelser för Folk.nu!
REFRESH-INTERVAL;VALUE=DURATION:PT1H
X-Robots-Tag:noindex
X-PUBLISHED-TTL:PT1H
BEGIN:VTIMEZONE
TZID:Europe/Stockholm
BEGIN:DAYLIGHT
TZOFFSETFROM:+0100
TZOFFSETTO:+0200
TZNAME:CEST
DTSTART:20220327T010000
END:DAYLIGHT
BEGIN:STANDARD
TZOFFSETFROM:+0200
TZOFFSETTO:+0100
TZNAME:CET
DTSTART:20221030T010000
END:STANDARD
END:VTIMEZONE
BEGIN:VEVENT
DTSTART;VALUE=DATE:20220804
DTEND;VALUE=DATE:20220808
DTSTAMP:20260420T123419
CREATED:20220603T123720Z
LAST-MODIFIED:20220603T123720Z
UID:3147-1659571200-1659916799@folk.nu
SUMMARY:Smålands folkmusikläger
DESCRIPTION:Vi är mycket glada över att kunna hälsa er varmt välkomna till ett nytt år med Smålands Spelmansförbunds folkmusikläger! Dagarna kommer fyllas av musik\, dans\, lekar och ganska mycket fika. Hoppas vi ses! \nHur går det till?\nUnder dagarna spelar vi tillsammans i nivåanpassade grupper med fokus på låtspel. Vi spelar också tillsammans över grupperna i större arrangemang med stämmor och komp. Undervisningen sker på gehör\, dvs att man lyssnar och härmar\, och notkompendium delas ut vid lägrets slut. På kvällarna blir det olika lekar\, danser\, bad och annat skoj. Lägret avslutas med konsert på kursgården. \nVem får åka?\nLägret är för dig som är mellan 8-16 år och som har spelat minst 4 terminer. Undervisningen sker främst på fiol\, men du som spelar andra instrument är också välkommen. Om du spelar annat instrument är det bra om du är van att spela på gehör. \nDatum: Torsdag 4 augusti – söndag 7 augusti \nPlats: Kronobergsheds kursgård ca 1 mil norr om Alvesta \nAnmälan: Senast 20 juni via anmälningslänk: https://forms.gle/J3QeZEtfYpe7T5y7A \nAvgift: 2000 kr. Betalas in till Smålands Spelmansförbunds PG 44 80 33-1\, eller Swish nr 123 52 78 452. Betala gärna hela avgiften direkt\, men minst 500 kr senast 20 juni. Resterande belopp ska vara betalt den 20 juli. \nKontakt: Lägeransvarig Jennie Krook\, kassor.smalands@gmail.com \nMer information: https://smalandsspelmansforbund.se/latlager/smalands-folkmusiklager/
URL:https://folk.nu/evenemang/smalands-folkmusiklager/
LOCATION:Kronobergshed\, Kronobergshed vandrarhem och kursgård\, Moheda\, 342 63
ATTACH;FMTTYPE=image/png:https://media2.folk.nu/2022/06/Skarmavbild-2022-06-03-kl.-13.25.14.png
ORGANIZER;CN="Sm%26aring%3Blands%20Spelmansf%26ouml%3Brbund":MAILTO:kassor.smalands@gmail.com
END:VEVENT
END:VCALENDAR