BEGIN:VCALENDAR
VERSION:2.0
PRODID:-//Folk.nu! - ECPv5.14.0.1//NONSGML v1.0//EN
CALSCALE:GREGORIAN
METHOD:PUBLISH
X-WR-CALNAME:Folk.nu!
X-ORIGINAL-URL:https://folk.nu
X-WR-CALDESC:Händelser för Folk.nu!
REFRESH-INTERVAL;VALUE=DURATION:PT1H
X-Robots-Tag:noindex
X-PUBLISHED-TTL:PT1H
BEGIN:VTIMEZONE
TZID:Europe/Stockholm
BEGIN:DAYLIGHT
TZOFFSETFROM:+0100
TZOFFSETTO:+0200
TZNAME:CEST
DTSTART:20220327T010000
END:DAYLIGHT
BEGIN:STANDARD
TZOFFSETFROM:+0200
TZOFFSETTO:+0100
TZNAME:CET
DTSTART:20221030T010000
END:STANDARD
END:VTIMEZONE
BEGIN:VEVENT
DTSTART;VALUE=DATE:20220617
DTEND;VALUE=DATE:20220620
DTSTAMP:20260424T173510
CREATED:20220407T095608Z
LAST-MODIFIED:20220407T095608Z
UID:2246-1655424000-1655683199@folk.nu
SUMMARY:Kortkurs i svensk folkmusik
DESCRIPTION:Är du nyfiken på den svenska folkmusiken? Vill du lära dig nya låtar? Få tips om hur du får det att svänga? Träffa andra som vill samma sak? Då är den här folkmusikkursen perfekt för dig. Förutom att spela nya och gamla låtar lär vi oss vad som är typiskt för den svenska folkmusiken. Alla instrumenttyper är välkomna!
URL:https://folk.nu/evenemang/kortkurs-i-svensk-folkmusik/
LOCATION:Sjöviks folkhögskola\, Sjöviks folkhögskola\, Avesta\, 775 95
ATTACH;FMTTYPE=image/gif:https://media2.folk.nu/2022/04/sommafolk-strak.gif
ORGANIZER;CN="Sj%26ouml%3Bviks%20folkh%26ouml%3Bgskola":MAILTO:exp@sjovik.eu
END:VEVENT
BEGIN:VEVENT
DTSTART;VALUE=DATE:20220617
DTEND;VALUE=DATE:20220620
DTSTAMP:20260424T173510
CREATED:20220407T091135Z
LAST-MODIFIED:20220407T091135Z
UID:2239-1655424000-1655683199@folk.nu
SUMMARY:Folkvisor och rytmisk körsång
DESCRIPTION:Är du körsångare som vill testa något nytt? Lära dig kända folkvisor i nya arrangemang tillsammans med andra körentusiaster? Då är den här körkursen perfekt för dig. Vi sjunger och lär oss folkliga och rytmiska arrangemang tillsammans under en helg i juni. \nKurstid \nVi fyller tre dagar med undervisning\, körsång och gemenskap. Start fredag eftermiddag och avslutning med en konsert tillsammans med folkmusikkursen på söndag eftermiddag.
URL:https://folk.nu/evenemang/folkvisor-och-rytmisk-korsang/
LOCATION:Sjöviks folkhögskola\, Sjöviks folkhögskola\, Avesta\, 775 95
ATTACH;FMTTYPE=image/gif:https://media2.folk.nu/2022/04/Ringdans-sommafolk.gif
ORGANIZER;CN="Sj%26ouml%3Bviks%20folkh%26ouml%3Bgskola":MAILTO:exp@sjovik.eu
END:VEVENT
END:VCALENDAR