BEGIN:VCALENDAR
VERSION:2.0
PRODID:-//Folk.nu! - ECPv5.14.0.1//NONSGML v1.0//EN
CALSCALE:GREGORIAN
METHOD:PUBLISH
X-WR-CALNAME:Folk.nu!
X-ORIGINAL-URL:https://folk.nu
X-WR-CALDESC:Händelser för Folk.nu!
REFRESH-INTERVAL;VALUE=DURATION:PT1H
X-Robots-Tag:noindex
X-PUBLISHED-TTL:PT1H
BEGIN:VTIMEZONE
TZID:Europe/Stockholm
BEGIN:DAYLIGHT
TZOFFSETFROM:+0100
TZOFFSETTO:+0200
TZNAME:CEST
DTSTART:20220327T010000
END:DAYLIGHT
BEGIN:STANDARD
TZOFFSETFROM:+0200
TZOFFSETTO:+0100
TZNAME:CET
DTSTART:20221030T010000
END:STANDARD
BEGIN:DAYLIGHT
TZOFFSETFROM:+0100
TZOFFSETTO:+0200
TZNAME:CEST
DTSTART:20230326T010000
END:DAYLIGHT
BEGIN:STANDARD
TZOFFSETFROM:+0200
TZOFFSETTO:+0100
TZNAME:CET
DTSTART:20231029T010000
END:STANDARD
BEGIN:DAYLIGHT
TZOFFSETFROM:+0100
TZOFFSETTO:+0200
TZNAME:CEST
DTSTART:20240331T010000
END:DAYLIGHT
BEGIN:STANDARD
TZOFFSETFROM:+0200
TZOFFSETTO:+0100
TZNAME:CET
DTSTART:20241027T010000
END:STANDARD
BEGIN:DAYLIGHT
TZOFFSETFROM:+0100
TZOFFSETTO:+0200
TZNAME:CEST
DTSTART:20250330T010000
END:DAYLIGHT
BEGIN:STANDARD
TZOFFSETFROM:+0200
TZOFFSETTO:+0100
TZNAME:CET
DTSTART:20251026T010000
END:STANDARD
END:VTIMEZONE
BEGIN:VEVENT
DTSTART;TZID=Europe/Stockholm:20251121T190000
DTEND;TZID=Europe/Stockholm:20251122T233000
DTSTAMP:20260420T200235
CREATED:20251022T114431Z
LAST-MODIFIED:20251024T074033Z
UID:7858-1763751600-1763854200@folk.nu
SUMMARY:Pitefolk 2025
DESCRIPTION:PITEFOLK 2025\nHöstens mysigaste festival hittar du på Framnäs folkhögskola.\nEn folk- och världsmusikfestival där professionella artister\, musikstuderande\, lokala musik- och dansgrupper och publik möts i ett härligt myller. Det blir konserter\, workshops\, festivalpub\, samiskt streetfood och jam! \nFredag 21 november \n19.00 Invigning\, aulan\nKulturskoleband\, allspel\, tal och teasers från festivalens artister \n20.00 Bbterbotten band\, aulan \n21.00 Folk Fusion\, foajén \n22.00 Johanna Adele Jüssi trio\, aulan \n23.00 Framnäs folklore ensemble\, foajén \n  \nLördag 22 november \nWorkshops musik och dans (läs mer på pitefolk.se) \n15.30 Huldra – Framnäs folk- & vismusik\, aulan \n16:30 Kadrell´n\, Dansspelning\, foajén \n17:30 Jonas Knutsson och ÁVUS\, aulan \n18:30 Råka spelmanslag\, foajén\nRåneskolans & Kalix Kulturskolas spelmanslag\, \n19:30 Trio Raisista & Jonas Strandgård\, aulan \n20:30 Kapellsfolk\, foajén \n21:30 Anja Storelv band\, aulan \n22:30 Lele Lele Orchestra\, foajén
URL:https://folk.nu/evenemang/pitefolk-2025/
LOCATION:Framnäs folkhögskola\, Adrian Wennströmsväg 15\, Öjebyn\, 94333
ATTACH;FMTTYPE=image/jpeg:https://media2.folk.nu/2025/10/Pitefolk-2025-Ticketmaster-2048x1152-1-scaled.jpg
ORGANIZER;CN="Pitebygdens%20musikf%26ouml%3Brbund":MAILTO:pitebygdensmusikforbund@pitemusik.se
END:VEVENT
BEGIN:VEVENT
DTSTART;TZID=Europe/Stockholm:20231125T140000
DTEND;TZID=Europe/Stockholm:20231125T220000
DTSTAMP:20260420T200235
CREATED:20231119T095503Z
LAST-MODIFIED:20231119T095503Z
UID:5801-1700920800-1700949600@folk.nu
SUMMARY:Pitefolk 2023
DESCRIPTION:Välkommen till Piteå Folk- och Världsmusik festival 24-25/11 \nLördag 25 november\nWorkshop i folkdans\n14.00-15.30 Bildningsgränd 4 \nFamiljeföreställning: Den förbjudna skogen\n14.00 Lilla salongen \nWästerbotten folkband\n15.00 Aulan \nDans med Kadrell’n\n16.00 Foajén \nBirkafolk\n17.15 Foajén \nKapellsfolk\n18.00 Aulan \nFramnäsfolk\n19.00 Foajén \nUkrainian Village Orchestra\n20.00 Aulan \nQuilty\n21.30 Foajén
URL:https://folk.nu/evenemang/pitefolk-2023-2/
LOCATION:Framnäs folkhögskola\, Adrian Wennströmsväg 15\, Öjebyn\, 94333
ATTACH;FMTTYPE=image/jpeg:https://media2.folk.nu/2023/11/Logga_pitefolk2023-1.jpg
ORGANIZER;CN="Pitebygdens%20musikf%26ouml%3Brbund":MAILTO:pitebygdensmusikforbund@pitemusik.se
END:VEVENT
BEGIN:VEVENT
DTSTART;TZID=Europe/Stockholm:20231124T173000
DTEND;TZID=Europe/Stockholm:20231124T233000
DTSTAMP:20260420T200235
CREATED:20231119T095453Z
LAST-MODIFIED:20231119T095453Z
UID:5798-1700847000-1700868600@folk.nu
SUMMARY:Pitefolk 2023
DESCRIPTION:Välkomna till Piteå Folk- och Världsmusik festival 24-25/11 \nFredag 24 november\nWorkshop i folkdans\n17.30-18.30 Bildningsgränd 4 \nInvigning\n19.00 Aulan \nKon flyger\n20.00 Aulan \nLars Ante Kuhmunen\n21.00 Foajén \nTzeitel\n22.00 Aulan \nFramnäs Folklore ensemble\n23.00 Foajén \n 
URL:https://folk.nu/evenemang/pitefolk-2023/
LOCATION:Framnäs folkhögskola\, Adrian Wennströmsväg 15\, Öjebyn\, 94333
ATTACH;FMTTYPE=image/jpeg:https://media2.folk.nu/2023/11/Logga_pitefolk2023.jpg
ORGANIZER;CN="Pitebygdens%20musikf%26ouml%3Brbund":MAILTO:pitebygdensmusikforbund@pitemusik.se
END:VEVENT
BEGIN:VEVENT
DTSTART;TZID=Europe/Stockholm:20230422T140000
DTEND;TZID=Europe/Stockholm:20230422T150000
DTSTAMP:20260420T200235
CREATED:20230418T201134Z
LAST-MODIFIED:20230418T201134Z
UID:4896-1682172000-1682175600@folk.nu
SUMMARY:Musikalisk salong med KARP
DESCRIPTION:Årets folk- och världsmusikklass på Framnäs folkhögskola består av 11 medlemmar. KARP spelar allt från ösiga partylåtar till lugna ballader från Norden och andra delar av världen.
URL:https://folk.nu/evenemang/musikalisk-salong-med-karp-2/
LOCATION:Kaleido\, Storgatan 44\, Piteå\, 94132
ATTACH;FMTTYPE=image/jpeg:https://media2.folk.nu/2023/04/Karp-FV-klass-22-23-1-1-scaled.jpg
ORGANIZER;CN="Pitebygdens%20musikf%26ouml%3Brbund":MAILTO:pitebygdensmusikforbund@pitemusik.se
END:VEVENT
BEGIN:VEVENT
DTSTART;TZID=Europe/Stockholm:20230418T080000
DTEND;TZID=Europe/Stockholm:20230418T170000
DTSTAMP:20260420T200235
CREATED:20230418T200939Z
LAST-MODIFIED:20230418T200939Z
UID:4891-1681804800-1681837200@folk.nu
SUMMARY:Musikalisk salong med KARP
DESCRIPTION:Årets folk- och världsmusikklass vid Framnäs folkhögskola består av 11 medlemmar. KARP spelar allt från ösiga partylåtar till lugna ballader från Norden och andra delar av världen. \nEntré 100 kr \n 
URL:https://folk.nu/evenemang/musikalisk-salong-med-karp/
LOCATION:Kaleido\, Storgatan 44\, Piteå\, 94132
ATTACH;FMTTYPE=image/jpeg:https://media2.folk.nu/2023/04/Karp-FV-klass-22-23-1-scaled.jpg
ORGANIZER;CN="Pitebygdens%20musikf%26ouml%3Brbund":MAILTO:pitebygdensmusikforbund@pitemusik.se
END:VEVENT
BEGIN:VEVENT
DTSTART;TZID=Europe/Stockholm:20221127T140000
DTEND;TZID=Europe/Stockholm:20221127T153000
DTSTAMP:20260420T200235
CREATED:20221109T203459Z
LAST-MODIFIED:20221110T072443Z
UID:4177-1669557600-1669563000@folk.nu
SUMMARY:Norrbottens Ungdomssymfoniker möter Emilia Amper och Dan Knagg
DESCRIPTION:Vad händer om man låter en nyckelharpist och en slagverkare möta en symfoniorkester? Det får vi svar på när den eminenta nyckelharpisten Emilia Amper och den utomordentlige slagverkaren Dan Knagg slår sig ihop med Norrbottens Ungdomssymfoniker i en gemensam konsert. \nNorrbottens Ungdomssymfoniker – som vid det här laget hunnit fira 30-årsjubileum\, fostrat tre generationers musiker och sammanlagt samlat cirka 500 unga musiker till repetitioner och konserter i denna viktiga plantskola – har genom åren ofta gett sig i kast med en bred repertoar som omfattar många olika genrer. Nu är det dags för Norrbottens Ungdomssymfoniker att möta folkmusiken – en genre som uppmärksammas i ett projekt som drivs gemensamt av Framnäs folkhögskola och Norrbottensmusiken.
URL:https://folk.nu/evenemang/norrbottens-ungdomssymfoniker-moter-emilia-amper-och-dan-knagg/
LOCATION:Studio Acusticum\, Kunskapsallén 14\, Piteå\, 94163
ATTACH;FMTTYPE=image/jpeg:https://media2.folk.nu/2022/11/Emiliaamper.jpg
ORGANIZER;CN="Pitebygdens%20musikf%26ouml%3Brbund":MAILTO:pitebygdensmusikforbund@pitemusik.se
END:VEVENT
BEGIN:VEVENT
DTSTART;TZID=Europe/Stockholm:20221126T223000
DTEND;TZID=Europe/Stockholm:20221127T000000
DTSTAMP:20260420T200235
CREATED:20221109T203443Z
LAST-MODIFIED:20221110T072421Z
UID:4174-1669501800-1669507200@folk.nu
SUMMARY:Aide aide! Balkan jam session med Lele Lele orchestra och gäster
DESCRIPTION:Aide Айде! Balkan Jamsession är akten där musiken och dansen från Balkan och Mellanöstern är mötesplatsen!\nHusbandet Lele Lele Orchestra (med gäster) levererar rejält Balkansväng och ett lyhört komp till alla som vill komma upp och spela en låt\, sjunga en sång eller dansa en dans.\nSå ta med dig ditt instrument\, dansskor eller bara kom som du är och lyssna och var med!
URL:https://folk.nu/evenemang/aide-aide-balkan-jam-session-med-lele-lele-orchestra-och-gaster/
LOCATION:Framnäs folkhögskola\, Adrian Wennströmsväg 15\, Öjebyn\, 94333
ATTACH;FMTTYPE=image/jpeg:https://media2.folk.nu/2022/11/Lele-Lele-Orchestra-performing-at-Stockholm-Cultur-Festival-2019-foto-Peter-Bothén.jpeg
ORGANIZER;CN="Pitebygdens%20musikf%26ouml%3Brbund":MAILTO:pitebygdensmusikforbund@pitemusik.se
END:VEVENT
BEGIN:VEVENT
DTSTART;TZID=Europe/Stockholm:20221126T210000
DTEND;TZID=Europe/Stockholm:20221126T220000
DTSTAMP:20260420T200235
CREATED:20221109T203431Z
LAST-MODIFIED:20221110T072358Z
UID:4171-1669496400-1669500000@folk.nu
SUMMARY:Kolonien
DESCRIPTION:Familjekvartetten Kolonien har i över ett decennium varit en framstående del av en våg av nyskapande nordiska folkmusikband. Med en stil som blandar folk och roots-musik med hoppfull sing-along pop\, har Kolonien hittat ett helt eget sound som för samman flera musikaliska världar.\nInternationellt har dom omnämnts som ”The Fleet Foxes of Scandinavia” och jämförts med Mumford & Sons och andra storheter inom Folk-pop genren. Samtidigt är Koloniens musik och inspiration djupt rotad i den svenska folktraditionen såväl som naturen och de progressiva filosofierna i den alternativa gemenskap där de växte upp.
URL:https://folk.nu/evenemang/kolonien-3/
LOCATION:Framnäs folkhögskola\, Adrian Wennströmsväg 15\, Öjebyn\, 94333
ATTACH;FMTTYPE=image/jpeg:https://media2.folk.nu/2022/11/Kolonien-4-LR-–-Photo-by_-Olof-Grind.jpeg
ORGANIZER;CN="Pitebygdens%20musikf%26ouml%3Brbund":MAILTO:pitebygdensmusikforbund@pitemusik.se
END:VEVENT
BEGIN:VEVENT
DTSTART;TZID=Europe/Stockholm:20221126T200000
DTEND;TZID=Europe/Stockholm:20221126T210000
DTSTAMP:20260420T200235
CREATED:20221109T203419Z
LAST-MODIFIED:20221110T072338Z
UID:4168-1669492800-1669496400@folk.nu
SUMMARY:Fredrik Hangasjärvi
DESCRIPTION:Fredrik är riksspelman\, dragspelare och kompositör och har spelat i många olika sammanhang i Tornedalen. Där känner alla honom från bland annat bandet Raj Raj\, och som en i orkestern Tuli Palo\,där han spelar tillsammans med riksspelman Daniel Wikslund. Han spelar även duo med dragspelsvirtuosen Janne Johansson.\nNär Fredrik medverkade i SVT-serien Bastubaletten\, och dansade med koreografen Justine Kirk\, blev han folkkär. Nu har Fredrik skrivit egen musik och kommit ut med en skiva. Med musiken från skivan kommer han till Pitefolk\, och med sig har han musiker som har känsla för de tornedalska toner han spelar. Gunnar Sundström på piano\, Daniel Hakkaus gitarr och ukulele\, Daniel Wejdin kontrabas\, Johan Englund trummor\, Jonas Eriksson\, pedalsteel\, samt sångerskan Sanna Kalla\, från The Magnettes\, och Bastubaletten på SVT.\nAlla medverkande i bandet är musiker med en gedigen bakgrund i olika genrer.
URL:https://folk.nu/evenemang/fredrik-hangasjarvi/
LOCATION:Framnäs folkhögskola\, Adrian Wennströmsväg 15\, Öjebyn\, 94333
ATTACH;FMTTYPE=image/jpeg:https://media2.folk.nu/2022/11/FH4-LR-.jpeg
ORGANIZER;CN="Pitebygdens%20musikf%26ouml%3Brbund":MAILTO:pitebygdensmusikforbund@pitemusik.se
END:VEVENT
BEGIN:VEVENT
DTSTART;TZID=Europe/Stockholm:20221126T190000
DTEND;TZID=Europe/Stockholm:20221126T200000
DTSTAMP:20260420T200235
CREATED:20221109T200627Z
LAST-MODIFIED:20221110T072306Z
UID:4165-1669489200-1669492800@folk.nu
SUMMARY:Karp
DESCRIPTION:Årets folk- och världsmusik klass på Framnäs folkhögskola levererar folkmusik från Norden och andra delar av världen. Bandet består av 11 medlemmar och du som lyssnare kan förvänta allt från ösiga partylåtar till lugna ballader.\nJimi Apetrea – flöjt\, Liv Hansson – sång\, Egil Lilja\, Kääjk Burman – slagverk\, Sofia Sterne – kontrabas\, sång\,\nAgnes Bäcklund\, Gabriella Eriksson – sång\, Dexter Norrman -dragspel\, klarinett\,\nNils Salthammer\, Gustav Bergsgård – gitarr\, Laura Sorainen – fiol
URL:https://folk.nu/evenemang/karp/
LOCATION:Framnäs folkhögskola\, Adrian Wennströmsväg 15\, Öjebyn\, 94333
ATTACH;FMTTYPE=image/jpeg:https://media2.folk.nu/2022/11/Framnäs-FV-klass-22-23-2-LR.jpeg
ORGANIZER;CN="Pitebygdens%20musikf%26ouml%3Brbund":MAILTO:pitebygdensmusikforbund@pitemusik.se
END:VEVENT
BEGIN:VEVENT
DTSTART;TZID=Europe/Stockholm:20221126T180000
DTEND;TZID=Europe/Stockholm:20221126T190000
DTSTAMP:20260420T200235
CREATED:20221109T200617Z
LAST-MODIFIED:20221110T072234Z
UID:4162-1669485600-1669489200@folk.nu
SUMMARY:Kapellsfolk (Härnösands folkhögskola)
DESCRIPTION:En gång i tiden startade violinisten och spelmannen Röjås Jonas musikutbildningen på Kapellsberg i Härnösand.\nSedan fem år tillbaka är folkmusiken åter på Kapells som numera finns på Härnösands folkhögskola.
URL:https://folk.nu/evenemang/kapellsfolk-harnosands-folkhogskola/
LOCATION:Framnäs folkhögskola\, Adrian Wennströmsväg 15\, Öjebyn\, 94333
ATTACH;FMTTYPE=image/jpeg:https://media2.folk.nu/2022/11/Kapellsfolk-22_23.-Foto-Mathieu-Hebeisen.jpg
ORGANIZER;CN="Pitebygdens%20musikf%26ouml%3Brbund":MAILTO:pitebygdensmusikforbund@pitemusik.se
END:VEVENT
BEGIN:VEVENT
DTSTART;TZID=Europe/Stockholm:20221126T170000
DTEND;TZID=Europe/Stockholm:20221126T180000
DTSTAMP:20260420T200235
CREATED:20221109T200608Z
LAST-MODIFIED:20221110T072207Z
UID:4159-1669482000-1669485600@folk.nu
SUMMARY:Birka folk
DESCRIPTION:När solen reser sig över fjället och grädden vispas i köket hörs tunga\, vackra och lätta melodier klinga över Storsjön så starkt att Storsjöodjuret bjuder upp närmsta öring till dans!\nSom en kromglänsande amerikanare glider Birka Folk in och levererar ett underbart fjäderlätt tung-gung!\n10 glada folkmusikanter från hela landet som svänger och kränger med stråkar och blås.\nKom och dansa!
URL:https://folk.nu/evenemang/birka-folk/
LOCATION:Framnäs folkhögskola\, Adrian Wennströmsväg 15\, Öjebyn\, 94333
ATTACH;FMTTYPE=image/jpeg:https://media2.folk.nu/2022/11/Birka-scaled.jpeg
ORGANIZER;CN="Pitebygdens%20musikf%26ouml%3Brbund":MAILTO:pitebygdensmusikforbund@pitemusik.se
END:VEVENT
BEGIN:VEVENT
DTSTART;TZID=Europe/Stockholm:20221126T160000
DTEND;TZID=Europe/Stockholm:20221126T170000
DTSTAMP:20260420T200235
CREATED:20221109T195801Z
LAST-MODIFIED:20221109T195801Z
UID:4154-1669478400-1669482000@folk.nu
SUMMARY:Kadrell´n
DESCRIPTION:Piteås lokala folkdanslag med spelmän bjuder på ett smakprov på sin verksamhet!
URL:https://folk.nu/evenemang/kadrelln/
LOCATION:Framnäs folkhögskola\, Adrian Wennströmsväg 15\, Öjebyn\, 94333
ATTACH;FMTTYPE=image/jpeg:https://media2.folk.nu/2022/11/Kadrelln-scaled.jpg
ORGANIZER;CN="Pitebygdens%20musikf%26ouml%3Brbund":MAILTO:pitebygdensmusikforbund@pitemusik.se
END:VEVENT
BEGIN:VEVENT
DTSTART;TZID=Europe/Stockholm:20221125T230000
DTEND;TZID=Europe/Stockholm:20221126T003000
DTSTAMP:20260420T200235
CREATED:20221109T195747Z
LAST-MODIFIED:20221110T071533Z
UID:4151-1669417200-1669422600@folk.nu
SUMMARY:Folk & Rackare
DESCRIPTION:Folk & Rackare var en av de mest inflytelserika grupperna inom svensk folkmusik under 1970-80 talet. Med intrikat stämsång och blandning av elektriska och akustiska arrangemang av främst medeltidsballader\, har de kommit att bli den nya generationens folk- och balladsångares stora förebilder.\nCarin Kjellman och Ulf Gruvberg gav ut sin första skiva Med rötter i medeltiden 1974. Något år senare bildade de kvartetten Folk & Rackare tillsammans med Jørn Jensen och Trond Villa (från norska kultbandet Folque) som tog med det norska bordunsoundet in i gruppen
URL:https://folk.nu/evenemang/folk-rackare/
LOCATION:Framnäs folkhögskola\, Adrian Wennströmsväg 15\, Öjebyn\, 94333
ATTACH;FMTTYPE=image/jpeg:https://media2.folk.nu/2022/11/FR-Riks-m-logga2-LR.jpg
ORGANIZER;CN="Pitebygdens%20musikf%26ouml%3Brbund":MAILTO:pitebygdensmusikforbund@pitemusik.se
END:VEVENT
BEGIN:VEVENT
DTSTART;TZID=Europe/Stockholm:20221125T220000
DTEND;TZID=Europe/Stockholm:20221125T230000
DTSTAMP:20260420T200235
CREATED:20221109T195735Z
LAST-MODIFIED:20221110T071518Z
UID:4148-1669413600-1669417200@folk.nu
SUMMARY:Mariel Buckley med band
DESCRIPTION:Klassisk country för den moderna världen. Kanadensiska Mariel Buckley och hennes band balanserar på en slak lina mellan country\, pop och americana. Buckley är en låtskrivare av rang\, något som är alldeles uppenbart på nya plattan ”Everywhere I Used To Be”\, som släpptes tidigare i år. En platta som dessutom pekar ut en delvis ny riktning med ett modernare sound utan att kompromissa med kvaliteten på låtskriveriet. Buckley och hennes band har varit på väg hit ett par gången men stoppats av pandemin. Men nu ska det äntligen bli av!
URL:https://folk.nu/evenemang/mariel-buckley-med-band/
LOCATION:Framnäs folkhögskola\, Adrian Wennströmsväg 15\, Öjebyn\, 94333
ATTACH;FMTTYPE=image/jpeg:https://media2.folk.nu/2022/11/Mariel-Buckley-Promo-Photo-1-LR-Crop.jpeg
ORGANIZER;CN="Pitebygdens%20musikf%26ouml%3Brbund":MAILTO:pitebygdensmusikforbund@pitemusik.se
END:VEVENT
BEGIN:VEVENT
DTSTART;TZID=Europe/Stockholm:20221125T210000
DTEND;TZID=Europe/Stockholm:20221125T220000
DTSTAMP:20260420T200235
CREATED:20221109T195715Z
LAST-MODIFIED:20221110T071456Z
UID:4145-1669410000-1669413600@folk.nu
SUMMARY:Framnäs Folklore ensemble
DESCRIPTION:Framnäs alldeles egna balkanband består av studerande från Framnäs Folkhögskolas musikkurser. Här möts människor på hela skolan genom snabba partylåtar från Balkanområdet\, i vid bemärkelse. Det blir mycket drag\, och lika mycket dans för den som är danssugen.
URL:https://folk.nu/evenemang/framnas-folklore-ensemble/
LOCATION:Framnäs folkhögskola\, Adrian Wennströmsväg 15\, Öjebyn\, 94333
ATTACH;FMTTYPE=image/jpeg:https://media2.folk.nu/2022/11/FFE-22-23-scaled.jpeg
ORGANIZER;CN="Pitebygdens%20musikf%26ouml%3Brbund":MAILTO:pitebygdensmusikforbund@pitemusik.se
END:VEVENT
BEGIN:VEVENT
DTSTART;TZID=Europe/Stockholm:20221125T200000
DTEND;TZID=Europe/Stockholm:20221125T210000
DTSTAMP:20260420T200235
CREATED:20221109T195658Z
LAST-MODIFIED:20221110T071439Z
UID:4142-1669406400-1669410000@folk.nu
SUMMARY:Västanvind jojk
DESCRIPTION:VästanVind Jojk är en duo som framför gammal jojktradition instrumentalt.\nRonald Vikström och Jonas Strandgård har påbörjat ett projekt som bygger på inspelningar av samer som Sveriges Radio gjorde 1953 – 54. Avsikten var då att rädda och samla samisk jojktradition till eftervärlden eftersom man trodde jojken höll på att dö ut. ”VästanVind Jojk” framför jojkar instrumentalt ur arkivet i en ny tappning samt berättar om deras relation till jojken. Syftet är att föra traditionen vidare till nya öron. Ronald Vikström – keytar\, Jonas Strandgård – gitarr
URL:https://folk.nu/evenemang/vastanvind-jojk/
LOCATION:Framnäs folkhögskola\, Adrian Wennströmsväg 15\, Öjebyn\, 94333
ATTACH;FMTTYPE=image/jpeg:https://media2.folk.nu/2022/11/VästanvindJ-2-LR-.jpg
ORGANIZER;CN="Pitebygdens%20musikf%26ouml%3Brbund":MAILTO:pitebygdensmusikforbund@pitemusik.se
END:VEVENT
BEGIN:VEVENT
DTSTART;TZID=Europe/Stockholm:20221125T180000
DTEND;TZID=Europe/Stockholm:20221127T180000
DTSTAMP:20260420T200235
CREATED:20221109T195644Z
LAST-MODIFIED:20221110T071411Z
UID:4138-1669399200-1669572000@folk.nu
SUMMARY:Pitefolk 2022
DESCRIPTION:Pitefolk och världsmusikfestival \nProgrammet PiteFolk \nFredag: \n18 Workshop Balkandans \n19 Invigning med allspel och lite smått och gott. Framträdande av Pite Folkvagn från musik & Dansskolan\, Piteå\, och lite smakprov från festivalprogrammet. \n20 Västanvind Jojk \n21 Framnäs Folklore Ensemble (balkanmusik) \n22 Mariel Buckley (americana) \n23 Folk & Rackare \nPuben öppen hela kvällen\, plats för jam \nLördag \n16 Kadrell’n ( Piteå folkdanslag med spelmän) \n17 Birka folkhögskolas folkmusikstuderande \n18 Härnösands folkhögskola \n19 Framnäs folkhögskola \n20 Fredrik Hangasjärvi \n21 Kolonien \n22.30 Aide aide! Balkan jam session med Lele Lele orchestra och gäster \nSöndag \n14 Norrbottens Ungdomssymfoniker (NUS) möter Emilia Amper\, nyckelharpa och Dan Knagg\, slagverk  \n(denna konsert ges i samarbete med Norrbottensmusiken\, och genomförs på Studio Acusticum\, och det är fri entré)
URL:https://folk.nu/evenemang/pitefolk-2022/
LOCATION:Framnäs folkhögskola\, Adrian Wennströmsväg 15\, Öjebyn\, 94333
ATTACH;FMTTYPE=image/jpeg:https://media2.folk.nu/2022/11/Pitefolk.jpg
ORGANIZER;CN="Pitebygdens%20musikf%26ouml%3Brbund":MAILTO:pitebygdensmusikforbund@pitemusik.se
END:VEVENT
BEGIN:VEVENT
DTSTART;TZID=Europe/Stockholm:20220430T140000
DTEND;TZID=Europe/Stockholm:20220430T163000
DTSTAMP:20260420T200235
CREATED:20220217T202728Z
LAST-MODIFIED:20220217T202728Z
UID:1241-1651327200-1651336200@folk.nu
SUMMARY:Klockarens musikaliska värld
DESCRIPTION:Hedin & Meidell öppnar gamla notböcker efter klockare och organister från förr och skapar en brygga i tid och rum. \nIda Meidell Blylod och Johan Hedin förvaltar svensk låttradition på barockviolin och nyckelharpor.
URL:https://folk.nu/evenemang/klockarens-musikaliska-varld/
LOCATION:Kaleido\, Storgatan 44\, Piteå\, 94132
ATTACH;FMTTYPE=image/jpeg:https://media2.folk.nu/2022/02/Hedin-och-Meidell-scaled.jpeg
ORGANIZER;CN="Pitebygdens%20musikf%26ouml%3Brbund":MAILTO:pitebygdensmusikforbund@pitemusik.se
END:VEVENT
BEGIN:VEVENT
DTSTART;TZID=Europe/Stockholm:20220423T190000
DTEND;TZID=Europe/Stockholm:20220423T203000
DTSTAMP:20260420T200235
CREATED:20220217T202556Z
LAST-MODIFIED:20220217T202556Z
UID:1230-1650740400-1650745800@folk.nu
SUMMARY:Kongero
DESCRIPTION:Internationellt känd folkmusikalisk vokalgrupp. \nKära vänner och fans av Kongero\, vi är så glada att få dela vårt nya livealbum med er\, Live in Longueuil! I 15 år har vi skrivit musik\, utforskat och sjungit traditionella svenska sånger\, gett dem nytt liv\, målat dem i våra favoritfärger\, tagit dem till våra hjärtan och ut på vägen. Tillsammans har vi metaforiskt och bokstavligen vandrat genom regn\, snö\, stormar och solsken\, över berg\, genom dalar\, över ängar och längs stränder. Vi har sett de största städerna och de minsta byarna. Och vi har älskat allt. Vi känner oss verkligen välsignade över att ha träffat så många underbara människor och sett så många vackra platser på vår resa hittills. Och vi hoppas på många fler turer. 
URL:https://folk.nu/evenemang/kongero/
LOCATION:Kaleido\, Storgatan 44\, Piteå\, 94132
ATTACH;FMTTYPE=image/jpeg:https://media2.folk.nu/2022/02/Kongero-web.jpg
ORGANIZER;CN="Pitebygdens%20musikf%26ouml%3Brbund":MAILTO:pitebygdensmusikforbund@pitemusik.se
END:VEVENT
BEGIN:VEVENT
DTSTART;TZID=Europe/Stockholm:20220316T190000
DTEND;TZID=Europe/Stockholm:20220316T203000
DTSTAMP:20260420T200235
CREATED:20220217T201612Z
LAST-MODIFIED:20220217T201612Z
UID:1219-1647457200-1647462600@folk.nu
SUMMARY:Taximi Till minne av Theodorakis
DESCRIPTION:Mikis Theodorakis hyllas av Ensemblen TAXIMI. Theodorakis – död\, men odödlig! \nDen stora grekiska tonsättaren Mikis Theodorakis\, älskad i hela världen och i synnerhet Sverige\, har nyligen gått bort. Ensemblen TAXIMI presenterar en del av hans odödliga sånger och musik under en turné i Norrbotten. Han tonsatte dikter av många stora grekiska poeter\, däribland nobelpristagaren Odysseas Elytis. Theodorakis har vid många tillfällen sagt ”med min musik är jag poesins tjänare”. Sångerna rör vid allas hjärtan.Ensemblen TAXIMI består av: Christos Despiniadis\, Giorgos Degermetzoglou\, Ann-Cathrine Hedin och Andreas Kostopoulos. På Norrbottensturnéen gästas ensemblen även av Dan Engman och hans bouzouki. Dan är folkmusikentusiast med förkärlek för grekisk kultur\, och är kanske mest känd som mångårig medlem i Euskefeurat.Välkomna till en musikupplevelse som kommer att räcka länge!
URL:https://folk.nu/evenemang/taximi-till-minne-av-theodorakis/
LOCATION:Kaleido\, Storgatan 44\, Piteå\, 94132
ATTACH;FMTTYPE=image/jpeg:https://media2.folk.nu/2022/02/Taximi.jpg
ORGANIZER;CN="Pitebygdens%20musikf%26ouml%3Brbund":MAILTO:pitebygdensmusikforbund@pitemusik.se
END:VEVENT
END:VCALENDAR