BEGIN:VCALENDAR
VERSION:2.0
PRODID:-//Folk.nu! - ECPv5.14.0.1//NONSGML v1.0//EN
CALSCALE:GREGORIAN
METHOD:PUBLISH
X-WR-CALNAME:Folk.nu!
X-ORIGINAL-URL:https://folk.nu
X-WR-CALDESC:Händelser för Folk.nu!
REFRESH-INTERVAL;VALUE=DURATION:PT1H
X-Robots-Tag:noindex
X-PUBLISHED-TTL:PT1H
BEGIN:VTIMEZONE
TZID:Europe/Stockholm
BEGIN:DAYLIGHT
TZOFFSETFROM:+0100
TZOFFSETTO:+0200
TZNAME:CEST
DTSTART:20250330T010000
END:DAYLIGHT
BEGIN:STANDARD
TZOFFSETFROM:+0200
TZOFFSETTO:+0100
TZNAME:CET
DTSTART:20251026T010000
END:STANDARD
BEGIN:DAYLIGHT
TZOFFSETFROM:+0100
TZOFFSETTO:+0200
TZNAME:CEST
DTSTART:20260329T010000
END:DAYLIGHT
BEGIN:STANDARD
TZOFFSETFROM:+0200
TZOFFSETTO:+0100
TZNAME:CET
DTSTART:20261025T010000
END:STANDARD
END:VTIMEZONE
BEGIN:VEVENT
DTSTART;TZID=Europe/Stockholm:20260321T190000
DTEND;TZID=Europe/Stockholm:20260321T223000
DTSTAMP:20260424T095648
CREATED:20260303T063137Z
LAST-MODIFIED:20260303T063137Z
UID:8169-1774119600-1774132200@folk.nu
SUMMARY:Folkmusik på Värstaborg
DESCRIPTION:Isak Eriksson och Linus Hydling är två unga spelmän från Härnösand som tillsammans fick samspelsmedaljen i guld i höstas. Nu tar de sitt samspel vidare till Värstaborg där de gör konsertdebut som duo.\nMed fiol\, cittern och en glödande musikalitet bjuder de på krokiga låtar och svängigt spel från Ångermanland.\nEfter konserten och paus bjuder vi upp till polskor och gammeldans\nVarmt välkomna till en härlig kväll.
URL:https://folk.nu/evenemang/folkmusik-pa-varstaborg-12/
LOCATION:Värstaborg\, Njurundavägen 109\, Njurunda\, 86241
ATTACH;FMTTYPE=image/jpeg:https://media2.folk.nu/2026/03/Isak-Eriksson-2026.jpg
ORGANIZER;CN="Nivren%20Folkdansgille":MAILTO:nivrenfdg@gmail.com
END:VEVENT
BEGIN:VEVENT
DTSTART;TZID=Europe/Stockholm:20251122T120000
DTEND;TZID=Europe/Stockholm:20251122T160000
DTSTAMP:20260424T095648
CREATED:20251103T154408Z
LAST-MODIFIED:20251103T154408Z
UID:7892-1763812800-1763827200@folk.nu
SUMMARY:Durspelskurs på Värstaborg\, Njurunda
DESCRIPTION:Förbättra ditt durspel med Öystein Nicolaisen från Jotunheimen (Lom).\nHan delger några av sina färdigheter på att få till ett lättare och luftigare spel med durspelet. Övning sker med en enkel vals som han har gjort.\nTonvikt blir övningar på på belghantering och bashantering.\nI tillägg -om gruppen orkar – får deltagarna lära en polka som Öystein gjort.\n”Talnoter” till en 25-30 låtar gjorda av Öystein ingår. CD finns att köpa.\nSpelkurs – C /G\nKostnad: 400 kr.\nDå ingår: Kurs\, fika\, entré till konsert och dans.\nKvällens upplägg:\n12.00 – 16.00 Durspelskurs\, Paus 1 Fika med litet tilltugg\n19.00 – 20.00 Konsert\, Paus 2 Fika med macka finns att köpa \n”Först till kvarn”\nAntal deltagare i kursen: Max 20 pers\nAnmälan till: Viola\, tel 073-507 51 31\, nivrenfdg@gmail.com
URL:https://folk.nu/evenemang/durspelskurs-pa-varstaborg-njurunda/
LOCATION:Värstaborg\, Njurundavägen 109\, Njurunda\, 86241
ATTACH;FMTTYPE=image/jpeg:https://media2.folk.nu/2025/11/BildKurs_Oisten.jpg
ORGANIZER;CN="Nivren%20Folkdansgille":MAILTO:nivrenfdg@gmail.com
END:VEVENT
BEGIN:VEVENT
DTSTART;TZID=Europe/Stockholm:20250329T190000
DTEND;TZID=Europe/Stockholm:20250329T230000
DTSTAMP:20260424T095648
CREATED:20250312T122708Z
LAST-MODIFIED:20250312T122708Z
UID:7334-1743274800-1743289200@folk.nu
SUMMARY:Folkmusik på Värstaborg
DESCRIPTION:Lundgren & Andersson\nTunafolk\nGruppen består av Pelle & Edvin Lundgren och Camilla & Magnus & Oskar Andersson.\nDe bjuder på folkmusik från olika landskap framfört på fioler\, durspel\, gitarr och cello. Det utlovas en blandning av allt från lugna njutningsbara polskor till fartfyllda polketter!\nEfter konserten fikar vi och sedan bjuder vi upp till gammeldans och polskor. \nVärstaborg ligger 15 km söder om Sundsvall\, mellan Kvissleby och Njurundabommen.\nEntre: 120 kr\, Under 25 år 60 kr\, Fika finns att köpa. \n 
URL:https://folk.nu/evenemang/folkmusik-pa-varstaborg-9/
LOCATION:Värstaborg\, Njurundavägen 109\, Njurunda\, 86241
ATTACH;FMTTYPE=image/jpeg:https://media2.folk.nu/2025/03/Lundgren-2025.jpg
ORGANIZER;CN="Nivren%20Folkdansgille":MAILTO:nivrenfdg@gmail.com
END:VEVENT
END:VCALENDAR