BEGIN:VCALENDAR
VERSION:2.0
PRODID:-//Folk.nu! - ECPv5.14.0.1//NONSGML v1.0//EN
CALSCALE:GREGORIAN
METHOD:PUBLISH
X-WR-CALNAME:Folk.nu!
X-ORIGINAL-URL:https://folk.nu
X-WR-CALDESC:Händelser för Folk.nu!
REFRESH-INTERVAL;VALUE=DURATION:PT1H
X-Robots-Tag:noindex
X-PUBLISHED-TTL:PT1H
BEGIN:VTIMEZONE
TZID:Europe/Stockholm
BEGIN:DAYLIGHT
TZOFFSETFROM:+0100
TZOFFSETTO:+0200
TZNAME:CEST
DTSTART:20230326T010000
END:DAYLIGHT
BEGIN:STANDARD
TZOFFSETFROM:+0200
TZOFFSETTO:+0100
TZNAME:CET
DTSTART:20231029T010000
END:STANDARD
END:VTIMEZONE
BEGIN:VEVENT
DTSTART;TZID=Europe/Stockholm:20231118T190000
DTEND;TZID=Europe/Stockholm:20231118T223000
DTSTAMP:20260420T122726
CREATED:20231113T170955Z
LAST-MODIFIED:20231113T170955Z
UID:5761-1700334000-1700346600@folk.nu
SUMMARY:Folkmusik på Värstaborg
DESCRIPTION:Skvaderlaget Fd Trio KAP XL\nVi är en grupp folkmusiker som tycker mycket om att spela till dans.\nFlera av medlemmarna är eller har varit dansare och uppskattar bra dansmusik. Vi har en bred repertoar med polskor och gammaldans av skiftande karaktär som dansare uppskattar.\n”Det är härligt att se att vår musik används på dansgolven och det är\ninspirerande för alla när musiken och dansen passar så bra tillsammans”.\nPaul Sjödin dragspel\, Jon Sjödin nyckelharpa\, Karin Denkert fiol\, Leif Denkert bas\, Andreas Idh fiol.\nIkväll har vi bjudit in Lars-Åke Melin att sjunga några låtar med oss.\nEfter konserten bjuder vi upp till gammeldans och polskor.\nVärstaborg ligger 15 km söder om Sundsvall\, mellan Kvissleby och Njurundabommen\nEntre: 120 kr\, Under 25 år 60 kr\, Fika finns att köpa
URL:https://folk.nu/evenemang/folkmusik-pa-varstaborg-2/
ATTACH;FMTTYPE=image/jpeg:https://media2.folk.nu/2023/11/Affisch-Skvaderlaget-2023.jpg
ORGANIZER;CN="Nivren%20Folkdansgille":MAILTO:nivren@telia.com
END:VEVENT
END:VCALENDAR