BEGIN:VCALENDAR
VERSION:2.0
PRODID:-//Folk.nu! - ECPv5.14.0.1//NONSGML v1.0//EN
CALSCALE:GREGORIAN
METHOD:PUBLISH
X-WR-CALNAME:Folk.nu!
X-ORIGINAL-URL:https://folk.nu
X-WR-CALDESC:Händelser för Folk.nu!
REFRESH-INTERVAL;VALUE=DURATION:PT1H
X-Robots-Tag:noindex
X-PUBLISHED-TTL:PT1H
BEGIN:VTIMEZONE
TZID:Europe/Stockholm
BEGIN:DAYLIGHT
TZOFFSETFROM:+0100
TZOFFSETTO:+0200
TZNAME:CEST
DTSTART:20240331T010000
END:DAYLIGHT
BEGIN:STANDARD
TZOFFSETFROM:+0200
TZOFFSETTO:+0100
TZNAME:CET
DTSTART:20241027T010000
END:STANDARD
END:VTIMEZONE
BEGIN:VEVENT
DTSTART;TZID=Europe/Stockholm:20241122T180000
DTEND;TZID=Europe/Stockholm:20241122T230000
DTSTAMP:20260420T122648
CREATED:20241016T175133Z
LAST-MODIFIED:20241016T175133Z
UID:6845-1732298400-1732316400@folk.nu
SUMMARY:Festival Sentimental
DESCRIPTION:Festival Sentimental –  \nVisa\, tango och klezmer i tre akter av värmande sentimentalitet när kylan och mörkret knackar på  \nUnder en kväll i november\, när mörkret fallit som djupast och Göteborgskylan sitter i\, så blir Festival Sentimental ett andningshål\, en plats för artister och publik att mötas i drömska\, nostalgiska\, lite sentimentala men också värmande toner. Kanske i en tid då vi är extra mottagliga och behöver det som allra mest. På rotfasta Musikens Hus\, i hjärtat av Majorna fylls huset med tre musikakter bestående av Midnattsorkestern\, Tzeitel och Anna Heikkinen & Längtans Kapell. Ika Nord håller ihop kvällen och vägleder publiken med mjuk hand och subtil humor i rollen som konferencier. Det blir en hjärtevärmande upplevelse att bära med sig när vintertiden tar vid. \nLäs mer om bakgrunden till festivalen i senaste numret av LIRA sidan 14!
URL:https://folk.nu/evenemang/festival-sentimental/
LOCATION:Musikens hus\, Göteborg\, Djurgårdsgatan 13\, Göteborg\, 414 62 Göteborg
ATTACH;FMTTYPE=image/jpeg:https://media2.folk.nu/2024/10/FestivalSentimental2.jpg
END:VEVENT
END:VCALENDAR