BEGIN:VCALENDAR
VERSION:2.0
PRODID:-//Folk.nu! - ECPv5.14.0.1//NONSGML v1.0//EN
CALSCALE:GREGORIAN
METHOD:PUBLISH
X-WR-CALNAME:Folk.nu!
X-ORIGINAL-URL:https://folk.nu
X-WR-CALDESC:Händelser för Folk.nu!
REFRESH-INTERVAL;VALUE=DURATION:PT1H
X-Robots-Tag:noindex
X-PUBLISHED-TTL:PT1H
BEGIN:VTIMEZONE
TZID:Europe/Stockholm
BEGIN:DAYLIGHT
TZOFFSETFROM:+0100
TZOFFSETTO:+0200
TZNAME:CEST
DTSTART:20220327T010000
END:DAYLIGHT
BEGIN:STANDARD
TZOFFSETFROM:+0200
TZOFFSETTO:+0100
TZNAME:CET
DTSTART:20221030T010000
END:STANDARD
END:VTIMEZONE
BEGIN:VEVENT
DTSTART;VALUE=DATE:20220617
DTEND;VALUE=DATE:20220620
DTSTAMP:20260420T123359
CREATED:20220217T164010Z
LAST-MODIFIED:20220224T115356Z
UID:1126-1655424000-1655683199@folk.nu
SUMMARY:Degebergastämman
DESCRIPTION:Som vanligt blir det spelmansmusik i hembygdsparken i Degeberga. Konserter\, buskspel\, dans på lövade banor\, näckspel\, barn- och ungdomsstämma\, barnföreställning och mycket mera!\n\ndegebergastämman – YouTube
URL:https://folk.nu/evenemang/degebergastamman/
LOCATION:Degeberga Hembygdspark\, Forsakarsvägen\, Degeberga
ATTACH;FMTTYPE=image/jpeg:https://media2.folk.nu/2022/02/degeberga2022.jpg
END:VEVENT
END:VCALENDAR