BEGIN:VCALENDAR
VERSION:2.0
PRODID:-//Folk.nu! - ECPv5.14.0.1//NONSGML v1.0//EN
CALSCALE:GREGORIAN
METHOD:PUBLISH
X-WR-CALNAME:Folk.nu!
X-ORIGINAL-URL:https://folk.nu
X-WR-CALDESC:Händelser för Folk.nu!
REFRESH-INTERVAL;VALUE=DURATION:PT1H
X-Robots-Tag:noindex
X-PUBLISHED-TTL:PT1H
BEGIN:VTIMEZONE
TZID:Europe/Stockholm
BEGIN:DAYLIGHT
TZOFFSETFROM:+0100
TZOFFSETTO:+0200
TZNAME:CEST
DTSTART:20240331T010000
END:DAYLIGHT
BEGIN:STANDARD
TZOFFSETFROM:+0200
TZOFFSETTO:+0100
TZNAME:CET
DTSTART:20241027T010000
END:STANDARD
END:VTIMEZONE
BEGIN:VEVENT
DTSTART;TZID=Europe/Stockholm:20241113T183000
DTEND;TZID=Europe/Stockholm:20241113T210000
DTSTAMP:20260420T122650
CREATED:20240911T081027Z
LAST-MODIFIED:20240911T081027Z
UID:6727-1731522600-1731531600@folk.nu
SUMMARY:Världsmusikafton i Mariestad
DESCRIPTION:Onsdagen den 13 november kl.18:30 kommer världsmusiken återigen till Mariestad. Denna gång i form av en Världsmusikafton på Mariestads teater. Medborgarskolan arrangerar tillsammans med Staffan Berlin med ekonomiskt stöd av Grevillis fond. \nVi har fått till en fantastisk line-up inför kvällens konsertpaket med totalt tre akter: \nVi presenterar stolt den irländska duon Rónán O´Snodiagh och Myles O´Reilly. Rónán är en gigant inom den irländska folk- och världsmusiken. Han är sångare och multiinstrumentalist\, känd som en virtuos på den irländska bodhrantrumman och även som karismatisk frontman i det legendariska världsmusikgruppen Kíla. \nVi har även bjudit in Krilja duo\, som spelar traditionell romsk musik från Ryssland. Gruppen utgörs av Marita Johansson (sång och gitarr) samt Jonas Liljeström (fiol och sång). \nKvällens mellanakt är Mariestad Gospel\, som är en gospelkör i Mariestads församling\, som startades av Annika Pålsson och har drygt 60 medlemmar. På världsmusikaftonen kommer de att bjuda på en repertoar bestående av kampsånger från Sydafrika\, spirituals och gospels från USA\, samt sånger från Karibien och Korea i ett regnkollage. \nVARMT VÄLKOMNA TILL DENNA AFTON kl 18:30 till underbara Mariestads teater- och får ni mersmak- kom till vår fantastiska Världsmusikfestival i SKARA 14-17/11. \nKVÄLLEN SER UT SOM FÖLJER: \n18:30 Inledning av konferencier Kristin Svensson \n18:35 Krilja Duo (Romsk) \n19:15 Mariestad Gospel under ledning av Annika Pålsson (Global) \n20:00 Rónán O´Snodiagh och Myles O´Reilly (Irland)
URL:https://folk.nu/evenemang/varldsmusikafton-i-mariestad-4/
LOCATION:Mariestads teater\, Kungsgatan 18\, Mariestad\, 54237
ATTACH;FMTTYPE=image/png:https://media2.folk.nu/2024/09/Logo-3000x3000-Världsmusikfestivalen-2024-3.png
ORGANIZER;CN="Medborgarskolan%20V%26auml%3Bst":MAILTO:anna.vandertol@medborgarskolan.se
END:VEVENT
END:VCALENDAR