BEGIN:VCALENDAR
VERSION:2.0
PRODID:-//Folk.nu! - ECPv5.14.0.1//NONSGML v1.0//EN
CALSCALE:GREGORIAN
METHOD:PUBLISH
X-WR-CALNAME:Folk.nu!
X-ORIGINAL-URL:https://folk.nu
X-WR-CALDESC:Händelser för Folk.nu!
REFRESH-INTERVAL;VALUE=DURATION:PT1H
X-Robots-Tag:noindex
X-PUBLISHED-TTL:PT1H
BEGIN:VTIMEZONE
TZID:Europe/Stockholm
BEGIN:DAYLIGHT
TZOFFSETFROM:+0100
TZOFFSETTO:+0200
TZNAME:CEST
DTSTART:20220327T010000
END:DAYLIGHT
BEGIN:STANDARD
TZOFFSETFROM:+0200
TZOFFSETTO:+0100
TZNAME:CET
DTSTART:20221030T010000
END:STANDARD
END:VTIMEZONE
BEGIN:VEVENT
DTSTART;TZID=Europe/Stockholm:20220226T190000
DTEND;TZID=Europe/Stockholm:20220226T203000
DTSTAMP:20260424T113624
CREATED:20220217T190749Z
LAST-MODIFIED:20220217T190749Z
UID:1195-1645902000-1645907400@folk.nu
SUMMARY:Musik i Kallmyr: Lena Willemark & Mikael Marin
DESCRIPTION:På Folk och Världsmusikgalan 2021 presenterade sig en ny duo för publiken. Lena Willemark och Mikael Marin hör sedan länge till Sveriges främsta folk-musiker. Mångsidigare än de flesta\, Lena som framstående sångerska och fiol-spelman och Mikael med sin viola. Bägge är utmärkta kompositörer och prisbelönta i många sammanhang. Nu har du chansen att höra dem live i Kallmyr godtemplarhus.\n\nPLATS: Kallmyr Godtemplarhus\nLördag 26 februari\nKl. 19:00 (insläpp från kl 18)\nInträde 180 kr\, betalas i dörren (kontant eller Swish: 1234 79 29 09). Fika i pausen ingår i priset.\nOm ni vill vara säkra på att få en plats måste ni swisha inträdet i förväg. Glöm inte att ange namn. Först till kvarn gäller. Läs mer: https://musik.kallmyr.se/forkop/\n\nVägbeskrivning till Kallmyr godtemplarhus:\nhttps://goo.gl/maps/9rP1pRKFFYoPCHDB6\n\nFör frågor eller mer information kontakta:\nBengt Larsson\nE-post: musik@kallmyr.se\nTelefon: 0651-38044\nMobil: 070-342 49 63\n\nArrangör: Ljusdals bygdegårdsförening i samarbete med Region Gävleborg.
URL:https://folk.nu/evenemang/musik-i-kallmyr-lena-willemark-mikael-marin/
LOCATION:Kallmyr godtemplarhus\, Norra Kallmyr 3\, Ljusdal\, 82794
ATTACH;FMTTYPE=image/jpeg:https://media2.folk.nu/2022/02/Willemark-Marin-FB-event-ej-skugga-1200x628px.jpg
ORGANIZER;CN="Ljusdals%20bygdeg%C3%A5rdsf%C3%B6rening":MAILTO:musik@kallmyr.se
END:VEVENT
BEGIN:VEVENT
DTSTART;TZID=Europe/Stockholm:20220205T190000
DTEND;TZID=Europe/Stockholm:20220205T203000
DTSTAMP:20260424T113624
CREATED:20220201T183222Z
LAST-MODIFIED:20220201T183222Z
UID:625-1644087600-1644093000@folk.nu
SUMMARY:Musik i Kallmyr: Duo Amper Petrini
DESCRIPTION:Öppenhet\, nyfikenhet och konstnärligt mod är signifikativt för musikerna Emilia Amper och Anna Petrini. Med olika musikaliska bakgrunder\, men ett gemensamt förhållningssätt till musiken\, bildade de sin duo 2020.\nMed folkmusiken och tidig musik som förtecken leker de en slags associationslek med genrerna och bygger en repertoar i jakt på det som gör att musik överlever\, århundrade efter århundrade.\nFolkmusiken och den tidiga musiken har många gemensamma nämnare. En av dem är att de genomsyras av det intima\, nära och lilla formatet.\n\nEmilia Amper nyckelharpa\, sång\nAnna Petrini blockflöjter\n\nFoto Olof Grind\n\nPLATS: Kallmyr Godtemplarhus\nLördag 5 februari\nKl. 19:00 (insläpp från kl 18)\nInträde 180 kr\, betalas i dörren (kontant eller Swish: 1234 79 29 09). Fika i pausen ingår i priset.\nOm ni vill vara säkra på att få en plats måste ni swisha inträdet i förväg. Glöm inte att ange namn. Först till kvarn gäller. Läs mer: https://musik.kallmyr.se/forkop/\n\nVägbeskrivning till Kallmyr godtemplarhus:\nhttps://goo.gl/maps/9rP1pRKFFYoPCHDB6\n\nFör frågor eller mer information kontakta:\n\nBengt Larsson\nE-post: musik@kallmyr.se\nTelefon: 0651-38044\nMobil: 070-342 49 63\n\nArrangör: Ljusdals bygdegårdsförening i samarbete med Region Gävleborg.
URL:https://folk.nu/evenemang/musik-i-kallmyr-duo-amper-petrini/
LOCATION:Kallmyr godtemplarhus\, Norra Kallmyr 3\, Ljusdal\, 82794
ATTACH;FMTTYPE=image/jpeg:https://media2.folk.nu/2022/02/Amper-Petrini-FB-event-1200x628px.jpg
ORGANIZER;CN="Ljusdals%20bygdeg%C3%A5rdsf%C3%B6rening":MAILTO:musik@kallmyr.se
END:VEVENT
END:VCALENDAR