BEGIN:VCALENDAR
VERSION:2.0
PRODID:-//Folk.nu! - ECPv5.14.0.1//NONSGML v1.0//EN
CALSCALE:GREGORIAN
METHOD:PUBLISH
X-WR-CALNAME:Folk.nu!
X-ORIGINAL-URL:https://folk.nu
X-WR-CALDESC:Händelser för Folk.nu!
REFRESH-INTERVAL;VALUE=DURATION:PT1H
X-Robots-Tag:noindex
X-PUBLISHED-TTL:PT1H
BEGIN:VTIMEZONE
TZID:Europe/Stockholm
BEGIN:DAYLIGHT
TZOFFSETFROM:+0100
TZOFFSETTO:+0200
TZNAME:CEST
DTSTART:20220327T010000
END:DAYLIGHT
BEGIN:STANDARD
TZOFFSETFROM:+0200
TZOFFSETTO:+0100
TZNAME:CET
DTSTART:20221030T010000
END:STANDARD
BEGIN:DAYLIGHT
TZOFFSETFROM:+0100
TZOFFSETTO:+0200
TZNAME:CEST
DTSTART:20230326T010000
END:DAYLIGHT
BEGIN:STANDARD
TZOFFSETFROM:+0200
TZOFFSETTO:+0100
TZNAME:CET
DTSTART:20231029T010000
END:STANDARD
BEGIN:DAYLIGHT
TZOFFSETFROM:+0100
TZOFFSETTO:+0200
TZNAME:CEST
DTSTART:20240331T010000
END:DAYLIGHT
BEGIN:STANDARD
TZOFFSETFROM:+0200
TZOFFSETTO:+0100
TZNAME:CET
DTSTART:20241027T010000
END:STANDARD
BEGIN:DAYLIGHT
TZOFFSETFROM:+0100
TZOFFSETTO:+0200
TZNAME:CEST
DTSTART:20250330T010000
END:DAYLIGHT
BEGIN:STANDARD
TZOFFSETFROM:+0200
TZOFFSETTO:+0100
TZNAME:CET
DTSTART:20251026T010000
END:STANDARD
END:VTIMEZONE
BEGIN:VEVENT
DTSTART;TZID=Europe/Stockholm:20250906T190000
DTEND;TZID=Europe/Stockholm:20250906T210000
DTSTAMP:20260424T095611
CREATED:20250821T150938Z
LAST-MODIFIED:20250821T150938Z
UID:7608-1757185200-1757192400@folk.nu
SUMMARY:Musik i Kallmyr: Draupner 30 år
DESCRIPTION:Draupner är en samspelt trio som under trettio år förgyllt folkmusikvärlden med sin spelglädje och låtdynamik – de är också de artister som gästat Musik i Kallmyr flest gånger! Allt började 1995 med musiktävlingen Musik Direkt där Draupner kammade hem fyra av totalt sju priser – resten är historia.\nMixen av egna låtar och den traditionella låtskatten från Hälsingland har gjort Draupner till en av de ledande folkmusikgrupperna i Sverige. De vill inte vara för nyskapande utan hålla fast vid det traditionella men samtidigt ta de gamla låtarna till nya höjder med ett träffsäkert melodispel.\n\nFör frågor eller mer information kontakta:Bengt LarssonE-post: musik@kallmyr.seTelefon: 0651-38044Mobil: 070-658 71 24\nInträde 180 kr\, betalas i dörren (kontant eller Swish: 1234 79 29 09). Fika i pausen ingår i priset. Swisha gärna inträdet i förväg. Glöm inte att ange namn. Läs mer: https://musik.kallmyr.se/forkop/\nArrangör: Ljusdals bygdegårdsförening i samarbete med Kultur Gävleborg.
URL:https://folk.nu/evenemang/musik-i-kallmyr-draupner-30-ar/
LOCATION:Kallmyr godtemplarhus\, Norra Kallmyr 3\, Ljusdal\, 82794
ATTACH;FMTTYPE=image/jpeg:https://media2.folk.nu/2025/08/Draupner_MiK.jpg
ORGANIZER;CN="Ljusdals%20bygdeg%C3%A5rdsf%C3%B6rening":MAILTO:musik@kallmyr.se
END:VEVENT
BEGIN:VEVENT
DTSTART;TZID=Europe/Stockholm:20240803T190000
DTEND;TZID=Europe/Stockholm:20240803T203000
DTSTAMP:20260424T095611
CREATED:20240801T092215Z
LAST-MODIFIED:20240801T092215Z
UID:6513-1722711600-1722717000@folk.nu
SUMMARY:Musik i Kallmyr: Elin Therese Birkelund & Simon Stålspets
DESCRIPTION:Följ med till havet\, skogen\, stjärnorna och blomstrande sommarängar. Folksångerskan Elin Therese Birkelund bjuder tillsammans med folkmusikern Simon Stålspets på ett varierat program med en rad olika instrument. Programmet innehåller traditionella och nyskrivna visor och melodier från Norden. Duon framför både glädjefyllda visor med dansant sväng men även vackert melankolisk musik.\n\nFör frågor eller mer information kontakta:Bengt LarssonE-post: musik@kallmyr.seTelefon: 0651-38044Mobil: 070-658 71 24\n\nInträde 180 kr\, betalas i dörren (kontant eller Swish: 1234 79 29 09). Fika i pausen ingår i priset. Swisha gärna inträdet i förväg. Glöm inte att ange namn. Läs mer: https://musik.kallmyr.se/forkop/\n\nArrangör: Ljusdals bygdegårdsförening
URL:https://folk.nu/evenemang/musik-i-kallmyr-elin-therese-birkelund-simon-stalspets/
LOCATION:Kallmyr godtemplarhus\, Norra Kallmyr 3\, Ljusdal\, 82794
ATTACH;FMTTYPE=image/jpeg:https://media2.folk.nu/2024/08/Elin-Simon-FB-1200x628px.jpg
ORGANIZER;CN="Ljusdals%20bygdeg%C3%A5rdsf%C3%B6rening":MAILTO:musik@kallmyr.se
END:VEVENT
BEGIN:VEVENT
DTSTART;TZID=Europe/Stockholm:20240720T190000
DTEND;TZID=Europe/Stockholm:20240720T210000
DTSTAMP:20260424T095611
CREATED:20240716T095355Z
LAST-MODIFIED:20240716T095355Z
UID:6491-1721502000-1721509200@folk.nu
SUMMARY:Musik i Kallmyr: Två otrevliga flickor
DESCRIPTION:Hur ofta är två servitriser så dåliga på sitt jobb att det blir insändare i lokaltidningen om att man ska akta sig för dom två otrevliga flickorna?\nInte särskilt ofta\, men när det hände Alice och Molly Andersson tog dom hinten och lämnade sin karriär inom ostkake-mikrande och började skriva roliga folkmusiklåtar istället. Sen dess har dom tappert försökt förfära folkmusikvärlden med sin träblås -och dragspelsduo\, än med personpåhopp\, än med hädelser mot kulturarvet och bespottande av allt vi håller heligt.\n\nFör frågor eller mer information kontakta:Bengt LarssonE-post: musik@kallmyr.seTelefon: 0651-38044Mobil: 070-658 71 24\n\nInträde 180 kr\, betalas i dörren (kontant eller Swish: 1234 79 29 09). Fika i pausen ingår i priset. Swisha gärna inträdet i förväg. Glöm inte att ange namn. Läs mer: https://musik.kallmyr.se/forkop/\n\nArrangör: Ljusdals bygdegårdsförening
URL:https://folk.nu/evenemang/musik-i-kallmyr-tva-otrevliga-flickor/
LOCATION:Kallmyr godtemplarhus\, Norra Kallmyr 3\, Ljusdal\, 82794
ATTACH;FMTTYPE=image/jpeg:https://media2.folk.nu/2024/07/Tva-otrevliga-flickor-FB-1200x628px.jpg
ORGANIZER;CN="Ljusdals%20bygdeg%C3%A5rdsf%C3%B6rening":MAILTO:musik@kallmyr.se
END:VEVENT
BEGIN:VEVENT
DTSTART;TZID=Europe/Stockholm:20240420T190000
DTEND;TZID=Europe/Stockholm:20240420T210000
DTSTAMP:20260424T095612
CREATED:20240417T125422Z
LAST-MODIFIED:20240417T125422Z
UID:6353-1713639600-1713646800@folk.nu
SUMMARY:Musik i Kallmyr: Snickar-Erske 200 år - ett spelmansjubileum
DESCRIPTION:Kom och fira storspelmannen Snickar-Erskes 200-årsjubileum i Kallmyr godtemplarhus! Ulf Störling och Staffan Jonsson bjuder på låtar och berättelser om en av Hälsinglands största.\n\nSnickar-Erske (1824 – 1905) var en av sin tids skickligaste fiolspelmän och är en av de äldsta spelmännen som vi har låtar efter\, hela sextiofem låtar upptecknades efter honom år 1899 av Einar Övergaard\, låtar i en mångfald tonarter som allt som oftast har intrikata melodier med lägesspel och mycket varierade stråk. För att klara av uppdraget som dansspelman skulle man i Alfta/Ovanåker behärska tre slags polskor\, och i Erskers repertoar finner vi dessa: kringellåtar i både dur och moll\, somliga med anknytning till 1700-talets populärmusik\, medryckande slängpolskor som för tankarna till 1800-talets järnvägsbygge och därtill sprittande jämtpolskor som kom till bygden med ’surjämtar’ som försålde sina varor på Knåda marknad. Snickar Erskers egna kompositioner hör till de allra finaste hälsingelåtarna och bland hans elever räknas rikskände Jon Erik Öst som den mest framstående.\n\nMEDVERKANDE:Ulf Störling – fiol\, (f. 1959) är bollnässpelman\, sedan länge bosatt i Dalarna. Han är dokumenterad på Svenskt Visarkiv och blev riksspelman år 2008\, tilldelad Zorns guldmärke. På sjuttiotalet började han söka upp och intervjua gamla spelmän och förutom speluppdrag har han varit verksam som kursledare samt lärare på olika musikhögskolor och folkhögskolor.\n\nStaffan Jonsson – fiol\, (f. 1985). Sedan 2008 har han varit musikalisk ledare i Hälsinge Låtverkstad och Gävleborgs Ungdoms Folkband och inspirerat ungdomar att spela bland annat folkmusik från Hälsingland. Han blev riksspelman 2008 med just låtar från Snickar Eriks repertoar. Han har också fördjupat sig i norskt hardingfelespel\, med fokus på musiken från Hallingdal.\n\nFör frågor eller mer information kontakta:Bengt LarssonE-post: musik@kallmyr.seTelefon: 0651-38044Mobil: 070-658 71 24Inträde 180 kr\, betalas i dörren (kontant eller Swish: 1234 79 29 09). Fika i pausen ingår i priset. Swisha gärna inträdet i förväg. Glöm inte att ange namn. Läs mer: https://musik.kallmyr.se/forkop/\n\nArrangör: Ljusdals bygdegårdsförening i samarbete med Region Gävleborg\, med stöd av Statens Kulturråd.
URL:https://folk.nu/evenemang/musik-i-kallmyr-snickar-erske-200-ar-ett-spelmansjubileum/
LOCATION:Kallmyr godtemplarhus\, Norra Kallmyr 3\, Ljusdal\, 82794
ATTACH;FMTTYPE=image/jpeg:https://media2.folk.nu/2024/04/Snickar-Erske-FB-1200x628px.jpg
ORGANIZER;CN="Ljusdals%20bygdeg%C3%A5rdsf%C3%B6rening":MAILTO:musik@kallmyr.se
END:VEVENT
BEGIN:VEVENT
DTSTART;TZID=Europe/Stockholm:20231007T190000
DTEND;TZID=Europe/Stockholm:20231007T210000
DTSTAMP:20260424T095612
CREATED:20231003T101031Z
LAST-MODIFIED:20231003T101031Z
UID:5553-1696705200-1696712400@folk.nu
SUMMARY:Musik i Kallmyr: Duo SisuPlatense
DESCRIPTION:”Från storstaden och asfalten till de finska skogarna.”\n\nSisuPlatense är Tangoduon där Finland möter Argentina. Med Malmö som bas presenteras ett dynamiskt möte mellan två kulturer i ett program där musiken varvas med berättande om tangons rika historia. Det är en unik musikalisk resa som speglar bredden i musiken och dess tradition med allt från den rena tangomusiken till det konsertanta och dansanta.\n\nLåtar från tangons födelseplats\, finska vemodiga melodier tillsammans med en krydda folkmusik blandas med berättelser om en genre som lever och utvecklas än idag med en ny puls…\n\nDuons musikaliska bakgrunder har gjort att de har landat i en spännande kontext där instrumenten: bandoneon\, nyckelharpa\, gitarr\, fiol och piano mixas och skapar ny musikalisk atmosfär.\nDuon presenterar även sina egna kompositioner där folkmusik möter tango\, Finland möter Argentina. Med tydliga referenser från två kontinenter med stark påverkan av nutiden i Malmö.\n\nMedverkande:\nHedda Heiskanen: piano\, nyckelharpa\, fiol\, etc.\nJuanjo Passo: bandoneon\, gitarr\n\nFör frågor eller mer information kontakta:\nBengt Larsson\nE-post: musik@kallmyr.se\nTelefon: 0651-38044\nMobil: 070-658 71 24\n\nInträde 180 kr\, betalas i dörren (kontant eller Swish: 1234 79 29 09). Fika i pausen ingår i priset. Swisha gärna inträdet i förväg. Glöm inte att ange namn. Läs mer: https://musik.kallmyr.se/forkop/\n\nArrangör: Ljusdals bygdegårdsförening i samarbete med Kultur Gävleborg och FolkMix.
URL:https://folk.nu/evenemang/musik-i-kallmyr-duo-sisuplatense/
LOCATION:Kallmyr godtemplarhus\, Norra Kallmyr 3\, Ljusdal\, 82794
ATTACH;FMTTYPE=image/jpeg:https://media2.folk.nu/2023/10/Duo-SisuPlatense-slider.jpg
ORGANIZER;CN="Ljusdals%20bygdeg%C3%A5rdsf%C3%B6rening":MAILTO:musik@kallmyr.se
END:VEVENT
BEGIN:VEVENT
DTSTART;TZID=Europe/Stockholm:20230520T190000
DTEND;TZID=Europe/Stockholm:20230520T210000
DTSTAMP:20260424T095612
CREATED:20230509T092507Z
LAST-MODIFIED:20230509T092507Z
UID:5138-1684609200-1684616400@folk.nu
SUMMARY:Musik i Kallmyr: Lena Jonsson Trio
DESCRIPTION:För bara en knapp månad sedan vann Lena Jonsson Trio kategorin årets artist på Folk- och världsmusikgalan och nu kommer de till Musik i Kallmyr. Juryns motivering löd: ”Årets vinnare är en grupp som tillgängliggör instrumentalmusiken genom att väva samman tradition med ett innovativt och starkt visuellt uttryck. En sann ambassadör som synliggör och lyfter genren nationellt\, internationellt och inom musikvärlden i stort”. \nTrion vann så sent som 2021 också en grammis för sitt album ”Stories from the outside”. I Lena Jonsson Trio vävs Lenas kraftfulla fiolspel och Kristofer Sundströms drivande bas samman av Erik Ronströms varierade och lyhörda gitarrklanger. Räkna med att det blir en briljant folkmusikkonsert präglad av innerlig spelglädje\, humor\, inlevelse och utstrålning. \nFör frågor eller mer information kontakta: \nBengt Larsson\nE-post: musik@kallmyr.se\nTelefon: 0651-38044\nMobil: 070-658 71 24 \nInträde 180 kr\, betalas i dörren (kontant eller Swish: 1234 79 29 09). Fika i pausen ingår i priset. Swisha gärna inträdet i förväg. Glöm inte att ange namn. Läs mer: https://musik.kallmyr.se/forkop/ \nArrangör: Ljusdals bygdegårdsförening i samarbete med Kultur Gävleborg.
URL:https://folk.nu/evenemang/musik-i-kallmyr-lena-jonsson-trio/
LOCATION:Kallmyr godtemplarhus\, Norra Kallmyr 3\, Ljusdal\, 82794
ATTACH;FMTTYPE=image/jpeg:https://media2.folk.nu/2023/05/Lena-Jonsson-FB-1200x628px.jpg
ORGANIZER;CN="Ljusdals%20bygdeg%C3%A5rdsf%C3%B6rening":MAILTO:musik@kallmyr.se
END:VEVENT
BEGIN:VEVENT
DTSTART;TZID=Europe/Stockholm:20230325T150000
DTEND;TZID=Europe/Stockholm:20230325T170000
DTSTAMP:20260424T095612
CREATED:20230307T205716Z
LAST-MODIFIED:20230320T191802Z
UID:4713-1679756400-1679763600@folk.nu
SUMMARY:Musik i Kallmyr: Duo West / Rydvall
DESCRIPTION:Sedan 2018 har Duo West/Rydvall arbetat med att sammanföra de två musikaliska språken svensk spelmansmusik och barockmusik\, det senare med tonvikt på Johann Sebastian Bachs musik för soloviolin\, solocello och soloflöjt. Nu har du möjlighet att uppleva hur dessa två genrer förenas på scenen i det unikt välbevarade och byggnadsminnesförklarade Kallmyr godtemplarhus.\n\nKristine West och Erik Rydvall har turnerat i hela Norden samt Tyskland\, vid såväl Bachfestivaler\, folkmusikfestivaler samt kammarmusikscener. De släppte år 2020 sitt första gemensamma album\, ”Dancing with Bach”. De har båda växt upp med folkmusiken\, och även fördjupat sig i barockmusiken på olika sätt. De har önskat förena denna musik utifrån dess gemensamma nämnare. De har närmat sig barockmusiken utifrån dess hemvist i danssatser och låtliknande former\, medan de har tagit fram det akustiska och kammarmusikaliska i folkmusiken genom sin unika instrumentkombination.\n\nLäs mer i Facebook-eventet: https://www.facebook.com/events/5442377625864406/\n\nFoto: Elias Gammelgård.\n\nInträde 180 kr\, betalas i dörren (kontant eller Swish: 1234 79 29 09). Fika i pausen ingår i priset. Swisha gärna inträdet i förväg. Glöm inte att ange namn. Läs mer: https://musik.kallmyr.se/forkop/\n\nFör frågor eller mer information kontakta:\nBengt Larsson\nE-post: musik@kallmyr.se\nTelefon: 0651-38044\nMobil: 070-342 49 63\n\nArrangör: Ljusdals bygdegårdsförening i samarbete med Kultur Gävleborg och Folkmix.\n 
URL:https://folk.nu/evenemang/musik-i-kallmyr-duo-west-rydvall/
LOCATION:Kallmyr godtemplarhus\, Norra Kallmyr 3\, Ljusdal\, 82794
ATTACH;FMTTYPE=image/jpeg:https://media2.folk.nu/2023/03/West-Rydvall-FB-1920x1005px.jpg
ORGANIZER;CN="Ljusdals%20bygdeg%C3%A5rdsf%C3%B6rening":MAILTO:musik@kallmyr.se
END:VEVENT
BEGIN:VEVENT
DTSTART;TZID=Europe/Stockholm:20221113T150000
DTEND;TZID=Europe/Stockholm:20221113T170000
DTSTAMP:20260424T095612
CREATED:20221106T162744Z
LAST-MODIFIED:20221107T074220Z
UID:4111-1668351600-1668358800@folk.nu
SUMMARY:Musik i Kallmyr: Dubé & Nyberg
DESCRIPTION:Kontrabasisten Sébastien Dubé och gitarristen Simon Nyberg träffades på en fest där det blev ett stort jam som pågick fram till småtimmarna och när alla andra hade gått och lagt sig så var det bara Sébastien och Simon som envist fortsatte jammet. Folkmusik från olika längd- och breddgrader kombinerades med improvisationer och spelglädje och de bestämde att det vore roligt att slå följe i deras musikäventyr och bilda band!\n\nSébastien Dubé är en färgstark personlighet från Svenska kammarorkestern i Örebro\, Ale Möller Band\, med Fhager & Norrefalk m.fl. Bördig från Kanada och med en gedigen klassisk bakgrund har Dubé under en mängd år blivit känd i fältet folk- och världsmusik och improvisation på ett mycket imponerande sätt.\n\nSimon Nyberg\, gitarr och diverse stränginstrument\, har bakgrund i jazz och spelar idag främst folk- och världsmusik med bl.a. Jaron Freeman-Fox\, Six String Yada och senast Simon spelade i Kallmyr var det tillsammans med Lena Willemark & Jonas Knutsson.\n\nInträde 180 kr\, betalas i dörren (kontant eller Swish: 1234 79 29 09). Fika i pausen ingår i priset. Swisha gärna inträdet i förväg. Glöm inte att ange namn.\n\nLäs mer: https://musik.kallmyr.se/forkop/\n\nFör frågor eller mer information kontakta:\nBengt Larsson\nE-post: musik@kallmyr.se\nTelefon: 0651-38044\nMobil: 070-342 49 63\n\nArrangör: Ljusdals bygdegårdsförening i samarbete med Kultur Gävleborg och Folkmix
URL:https://folk.nu/evenemang/musik-i-kallmyr-dube-nyberg/
LOCATION:Kallmyr godtemplarhus\, Norra Kallmyr 3\, Ljusdal\, 82794
ATTACH;FMTTYPE=image/jpeg:https://media2.folk.nu/2022/11/Dube-och-Nyberg-1920x1080px.jpg
ORGANIZER;CN="Ljusdals%20bygdeg%C3%A5rdsf%C3%B6rening":MAILTO:musik@kallmyr.se
END:VEVENT
BEGIN:VEVENT
DTSTART;TZID=Europe/Stockholm:20221001T190000
DTEND;TZID=Europe/Stockholm:20221001T210000
DTSTAMP:20260424T095612
CREATED:20220908T062827Z
LAST-MODIFIED:20220908T062827Z
UID:3796-1664650800-1664658000@folk.nu
SUMMARY:Musik i Kallmyr: Tailcoat
DESCRIPTION:Tailcoat har skapat ett fräscht\, homogent och uppfriskande sound med variationsrika arrangemang. Gruppens sammansättning är unik i kombinationen av instrument och samspelet på topp mellan de skickliga instrumentalisterna. Här väcks också danslusten från första tonen!\n\nHenriette Ambæk Flach – Violin (DK)\nRasmus Brinck – Nyckelharpa (SE)\nEmil Ringtved Nielsen – Bass (DK)\nVillads Hoffman – Cittern (DK)\nMårten Hillbom – Percussion (SE)\n\nhttps://www.tailcoatmusic.com/\n\nKonserten genomförs i samarbete med Riksförbundet för Folkmusik och Dans\, med stöd från Statens Kulturråd.\n\nInträde 180 kr\, betalas i dörren (kontant eller Swish: 1234 79 29 09). Fika i pausen ingår i priset.\nSwisha gärna inträdet i förväg. Glöm inte att ange namn.\n\nVägbeskrivning till Kallmyr godtemplarhus:\nhttps://goo.gl/maps/9rP1pRKFFYoPCHDB6\n\nFör frågor eller mer information kontakta:\nBengt Larsson\nE-post: musik@kallmyr.se\nTelefon: 0651-38044\nMobil: 070-342 49 63\n\nArrangör: Ljusdals bygdegårdsförening.
URL:https://folk.nu/evenemang/musik-i-kallmyr-tailcoat/
LOCATION:Kallmyr godtemplarhus\, Norra Kallmyr 3\, Ljusdal\, 82794
ATTACH;FMTTYPE=image/jpeg:https://media2.folk.nu/2022/09/Tailcoat-MiK-FB-event-1920x1005px-HiQ.jpg
ORGANIZER;CN="Ljusdals%20bygdeg%C3%A5rdsf%C3%B6rening":MAILTO:musik@kallmyr.se
END:VEVENT
BEGIN:VEVENT
DTSTART;TZID=Europe/Stockholm:20220715T190000
DTEND;TZID=Europe/Stockholm:20220715T203000
DTSTAMP:20260424T095612
CREATED:20220709T153309Z
LAST-MODIFIED:20220709T153309Z
UID:3339-1657911600-1657917000@folk.nu
SUMMARY:Musik i Kallmyr: Jenny Jonsson  & Gustav Andrén
DESCRIPTION:Jenny Jonsson\, från Vålsjö i Järvsö\, och Gustav Andrén har länge på varsitt håll letat sig fram längs folkmusikens slingrande stigar innan de slutligen möttes på Högskolan för scen och musik i Göteborg\, där de båda studerat Världsmusik. De bildade en duo som med öppenhet och nyfikenhet drivs framåt i jakten på musik som berättar en historia. Berättelser om hur det en gång varit\, men också musik som säger något om vart vi står idag. Det blir ett spännande och glädjefyllt möte mellan blås och stråk där den äldre såväl som den moderna folkmusiken får ta plats. Äntligen kan Dalarna och Hälsingland en gång för alla samsas om rampljuset i denna duo där lyhördhet och samspel står i centrum. Allt detta har du nu möjlighet att uppleva i det unikt välbevarade och nyligen av Länsstyrelsen byggnadsminnesförklarade Kallmyr godtemplarhus. \n  \nPLATS: Kallmyr Godtemplarhus \nFredag 15 juli \nKl. 19:00 (insläpp från kl 18) \nInträde 180 kr\, betalas i dörren (kontant eller Swish: 1234 79 29 09). Fika i pausen ingår i priset. \nSwisha gärna inträdet i förväg. Glöm inte att ange namn. Först till kvarn gäller. Läs mer: https://musik.kallmyr.se/forkop/ \n  \nVägbeskrivning till Kallmyr godtemplarhus: \nhttps://goo.gl/maps/9rP1pRKFFYoPCHDB6 \n  \nFör frågor eller mer information kontakta: \nBengt Larsson \nE-post: musik@kallmyr.se \nTelefon: 0651-38044 \nMobil: 070-342 49 63 \nArrangör: Ljusdals bygdegårdsförening.
URL:https://folk.nu/evenemang/musik-i-kallmyr-jenny-jonsson-gustav-andren/
LOCATION:Kallmyr godtemplarhus\, Norra Kallmyr 3\, Ljusdal\, 82794
ATTACH;FMTTYPE=image/jpeg:https://media2.folk.nu/2022/07/Kopia-av-Kopia-av-GuJe_01_web.jpg
ORGANIZER;CN="Ljusdals%20bygdeg%C3%A5rdsf%C3%B6rening":MAILTO:musik@kallmyr.se
END:VEVENT
BEGIN:VEVENT
DTSTART;TZID=Europe/Stockholm:20220522T140000
DTEND;TZID=Europe/Stockholm:20220522T170000
DTSTAMP:20260424T095612
CREATED:20220428T193737Z
LAST-MODIFIED:20220428T193737Z
UID:2392-1653228000-1653238800@folk.nu
SUMMARY:Draupner inviger Kallmyr godtemplarhus som byggnadsminne
DESCRIPTION:Länsstyrelsen i Gävleborg har förklarat det unikt välbevarade Godtemplarhuset i Kallmyr som byggnadsminne. Att detta viktiga kulturarv får ett så starkt skydd måste firas – och vad kunde passa bättre än en invigningskonsert med folkmusikgruppen Draupner! Byggnadsminnet invigs av representanter för Länsstyrelsen och Länsmuseet\, det blir fika och tårta\, guidad rundvandring\, samt förtrollande vacker hälsingemusik med lokal anknytning. \nProgram\n14:00 Invigning av byggnadsminne\nFöljande invigningstalare kommer att berätta om Godtemplarhuset och vad det innebär att byggnaden förklaras som byggnadsminne. \n\nBengt Larsson\, ordförande i Ljusbringaren\nDaniel Olsson\, byggnadsantikvarie vid Länsmuseet\nCarina Lindqvist\, byggnadsantikvarie vid Länsstyrelsen\n\n14:30 Fika och tårta\nVi firar invigningen av byggnadsminnet med kaffe och tårta. \n14:50 Från From-Olle till Musik i Kallmyr\nLjusdals bygdegårdsförening presenterar sitt projekt “Från From-Olle till Musik i Kallmyr – en virtuell musikalisk resa i tid och rum” som genomförts under 2021 och stötts av Kulturens kapillärer och Region Gävleborg. Resultatet är en interaktiv virtuell rundtur i Kallmyr godtemplarhus och kringliggande byar\, där musiken är den röda tråden genom historien. Projektet har samarbetat med musikerna i Draupner och deras tolkningar av den lokale legenden och storspelmannen From-Olle är integrerade i den digitala upplevelsen. \n15:00 Invigningskonsert med Draupner\nIngen artist skulle passa bättre att inviga godtemplarhuset som byggnadsminne än folkmusikgruppen Draupner\, som består av Görgen Antonsson\, Henning Andersson och Tomas Lindberg. När Ljusdals bygdegårdsförening startade sin konsertserie Musik i Kallmyr här\, drog Draupner fullt hus på premiären. Två år senare kom de tillbaka för att fira gruppens 25-årsjubileum. Görgen Antonsson\, som är riksspelman\, har sina släktrötter på mammans sida i Kallmyr. Hon är född och uppvuxen i byn och Görgens morfar spelade teater på godtemplarhusets scen under 1930-talet. Storspelmannen From-Olle föddes ett par kilometer från platsen. Han är en stor inspirationskälla för Draupner och deras musik kan beskrivas som lika ståtlig som de fönsterrika Hälsingegårdarna – eller självaste godtemplarhuset i Kallmyr. \n16:15 Guidad visning av godtemplarhuset\nEfter konserten\, har den som vill\, möjlighet att få en guidad rundvandring i godtemplarhuset av föreningen Ljusbringarens ordförande Bengt Larsson. Han berättar om byggnadens historia\, hur den kom till och hur den räddades från att förfalla 1975\, samt vad som hänt sedan dess. \nFörköp biljetter\nDatum: Söndagen den 22 maj 2022 \nInträde: 180 kr (inkluderar fika med tårta) \nSwisha gärna inträdet i förväg till 1234 79 29 09\, så säkrar du din plats och underlättar vår planering. Skriv “Invigning” och ditt namn som meddelande. \nFacebook-event\nDu kan också anmäla dig till evenemanget via Facebook (observera dock att bara förköpta biljetter räknas som bokad plats). \nArrangör: Föreningen Ljusbringaren i samarbete med Ljusdals bygdegårdsförening\, Bygdegårdarnas riksförbund och Kulturrådet.
URL:https://folk.nu/evenemang/draupner-inviger-kallmyr-godtemplarhus-som-byggnadsminne/
LOCATION:Kallmyr godtemplarhus\, Norra Kallmyr 3\, Ljusdal\, 82794
ATTACH;FMTTYPE=image/jpeg:https://media2.folk.nu/2022/04/Invigning-byggnadsminne-med-Draupner-1024px-v1-2.jpg
ORGANIZER;CN="Ljusdals%20bygdeg%C3%A5rdsf%C3%B6rening":MAILTO:musik@kallmyr.se
END:VEVENT
BEGIN:VEVENT
DTSTART;TZID=Europe/Stockholm:20220507T190000
DTEND;TZID=Europe/Stockholm:20220507T203000
DTSTAMP:20260424T095612
CREATED:20220428T165111Z
LAST-MODIFIED:20220428T190234Z
UID:2384-1651950000-1651955400@folk.nu
SUMMARY:Musik i Kallmyr: Farangi
DESCRIPTION:Kontrabasisten Renaud Garcia-Fons och Claire Antonini på teorb\, bildade duon Farangi för många år sedan. Med tiden har deras musik berikats och förfinats mycket genom samarbete dem emellan men också genom möten med andra musiker inom olika genres. Det som knyter samman duon och ger den ett unikt uttryck är en gemensam kärlek till melodik\, rytmerna i tidig musik\, och en fascination för den modala musiken. Farangi är persiska för främling\, där främlingen är en tillresande besökare som vill fira glädjen i att musik är ett universellt språk som talar till allas hjärtan.\n\nRenaud Garcia-Fons\, femsträngad kontrabas\nClaire Antonni\, teorb\n\nFika i pausen ingår i priset.\n\nArrangör: Ljusdals bygdegårdsförening i samarbete med Region Gävleborg.
URL:https://folk.nu/evenemang/musik-i-kallmyr-farangi/
LOCATION:Kallmyr godtemplarhus\, Norra Kallmyr 3\, Ljusdal\, 82794
ATTACH;FMTTYPE=image/jpeg:https://media2.folk.nu/2022/04/Farangi-FB-event-1200x628px.jpg
ORGANIZER;CN="Ljusdals%20bygdeg%C3%A5rdsf%C3%B6rening":MAILTO:musik@kallmyr.se
END:VEVENT
BEGIN:VEVENT
DTSTART;TZID=Europe/Stockholm:20220226T190000
DTEND;TZID=Europe/Stockholm:20220226T203000
DTSTAMP:20260424T095612
CREATED:20220217T190749Z
LAST-MODIFIED:20220217T190749Z
UID:1195-1645902000-1645907400@folk.nu
SUMMARY:Musik i Kallmyr: Lena Willemark & Mikael Marin
DESCRIPTION:På Folk och Världsmusikgalan 2021 presenterade sig en ny duo för publiken. Lena Willemark och Mikael Marin hör sedan länge till Sveriges främsta folk-musiker. Mångsidigare än de flesta\, Lena som framstående sångerska och fiol-spelman och Mikael med sin viola. Bägge är utmärkta kompositörer och prisbelönta i många sammanhang. Nu har du chansen att höra dem live i Kallmyr godtemplarhus.\n\nPLATS: Kallmyr Godtemplarhus\nLördag 26 februari\nKl. 19:00 (insläpp från kl 18)\nInträde 180 kr\, betalas i dörren (kontant eller Swish: 1234 79 29 09). Fika i pausen ingår i priset.\nOm ni vill vara säkra på att få en plats måste ni swisha inträdet i förväg. Glöm inte att ange namn. Först till kvarn gäller. Läs mer: https://musik.kallmyr.se/forkop/\n\nVägbeskrivning till Kallmyr godtemplarhus:\nhttps://goo.gl/maps/9rP1pRKFFYoPCHDB6\n\nFör frågor eller mer information kontakta:\nBengt Larsson\nE-post: musik@kallmyr.se\nTelefon: 0651-38044\nMobil: 070-342 49 63\n\nArrangör: Ljusdals bygdegårdsförening i samarbete med Region Gävleborg.
URL:https://folk.nu/evenemang/musik-i-kallmyr-lena-willemark-mikael-marin/
LOCATION:Kallmyr godtemplarhus\, Norra Kallmyr 3\, Ljusdal\, 82794
ATTACH;FMTTYPE=image/jpeg:https://media2.folk.nu/2022/02/Willemark-Marin-FB-event-ej-skugga-1200x628px.jpg
ORGANIZER;CN="Ljusdals%20bygdeg%C3%A5rdsf%C3%B6rening":MAILTO:musik@kallmyr.se
END:VEVENT
BEGIN:VEVENT
DTSTART;TZID=Europe/Stockholm:20220205T190000
DTEND;TZID=Europe/Stockholm:20220205T203000
DTSTAMP:20260424T095612
CREATED:20220201T183222Z
LAST-MODIFIED:20220201T183222Z
UID:625-1644087600-1644093000@folk.nu
SUMMARY:Musik i Kallmyr: Duo Amper Petrini
DESCRIPTION:Öppenhet\, nyfikenhet och konstnärligt mod är signifikativt för musikerna Emilia Amper och Anna Petrini. Med olika musikaliska bakgrunder\, men ett gemensamt förhållningssätt till musiken\, bildade de sin duo 2020.\nMed folkmusiken och tidig musik som förtecken leker de en slags associationslek med genrerna och bygger en repertoar i jakt på det som gör att musik överlever\, århundrade efter århundrade.\nFolkmusiken och den tidiga musiken har många gemensamma nämnare. En av dem är att de genomsyras av det intima\, nära och lilla formatet.\n\nEmilia Amper nyckelharpa\, sång\nAnna Petrini blockflöjter\n\nFoto Olof Grind\n\nPLATS: Kallmyr Godtemplarhus\nLördag 5 februari\nKl. 19:00 (insläpp från kl 18)\nInträde 180 kr\, betalas i dörren (kontant eller Swish: 1234 79 29 09). Fika i pausen ingår i priset.\nOm ni vill vara säkra på att få en plats måste ni swisha inträdet i förväg. Glöm inte att ange namn. Först till kvarn gäller. Läs mer: https://musik.kallmyr.se/forkop/\n\nVägbeskrivning till Kallmyr godtemplarhus:\nhttps://goo.gl/maps/9rP1pRKFFYoPCHDB6\n\nFör frågor eller mer information kontakta:\n\nBengt Larsson\nE-post: musik@kallmyr.se\nTelefon: 0651-38044\nMobil: 070-342 49 63\n\nArrangör: Ljusdals bygdegårdsförening i samarbete med Region Gävleborg.
URL:https://folk.nu/evenemang/musik-i-kallmyr-duo-amper-petrini/
LOCATION:Kallmyr godtemplarhus\, Norra Kallmyr 3\, Ljusdal\, 82794
ATTACH;FMTTYPE=image/jpeg:https://media2.folk.nu/2022/02/Amper-Petrini-FB-event-1200x628px.jpg
ORGANIZER;CN="Ljusdals%20bygdeg%C3%A5rdsf%C3%B6rening":MAILTO:musik@kallmyr.se
END:VEVENT
END:VCALENDAR