BEGIN:VCALENDAR
VERSION:2.0
PRODID:-//Folk.nu! - ECPv5.14.0.1//NONSGML v1.0//EN
CALSCALE:GREGORIAN
METHOD:PUBLISH
X-WR-CALNAME:Folk.nu!
X-ORIGINAL-URL:https://folk.nu
X-WR-CALDESC:Händelser för Folk.nu!
REFRESH-INTERVAL;VALUE=DURATION:PT1H
X-Robots-Tag:noindex
X-PUBLISHED-TTL:PT1H
BEGIN:VTIMEZONE
TZID:Europe/Stockholm
BEGIN:DAYLIGHT
TZOFFSETFROM:+0100
TZOFFSETTO:+0200
TZNAME:CEST
DTSTART:20220327T010000
END:DAYLIGHT
BEGIN:STANDARD
TZOFFSETFROM:+0200
TZOFFSETTO:+0100
TZNAME:CET
DTSTART:20221030T010000
END:STANDARD
END:VTIMEZONE
BEGIN:VEVENT
DTSTART;TZID=Europe/Stockholm:20220409T180000
DTEND;TZID=Europe/Stockholm:20220409T200000
DTSTAMP:20260421T133541
CREATED:20220406T204653Z
LAST-MODIFIED:20220406T204653Z
UID:2229-1649527200-1649534400@folk.nu
SUMMARY:LÅT!
DESCRIPTION:Varmt välkomna till LÅT! 2022 – den årliga vårfestivalen där folkmusikinstitutionens studenter på Kungliga Musikhögskolan bjuder in till en stor musikfest. Årets tema är Prisma – reflektion av tradition.\nBoka din biljett gratis på KMHs hemsida. Efter konserten blir det jam\, pub och dans i foajén!\n\nSedan 1996 genomför folkmusikerna på KMH en storslagen konsert där institutionens alla studenter möts i olika ensembler\, däribland storbandet KMH-folk som i år är under konstnärlig ledning av Sara Parkman\, Hampus Norén och Juan Romero.\nÅrets tema PRISMA handlar om att tolka och inspireras av traditionen\, härma och infånga för att sedan reflektera traditionen i sitt eget ljus. Vi vill dela med oss av våra olika sätt att spela och tänka kring traditionsmusik\, dess historia\, nutid och framtid.\nLördag 9 april kl 18.00 i Kungasalen\nKungl. Musikhögskolan\, Valhallavägen 105\, Stockholm
URL:https://folk.nu/evenemang/lat/
LOCATION:Kungliga Musikhögskolan\, Vallhallavägen 105\, Stockholm\, 115 51
ATTACH;FMTTYPE=image/jpeg:https://media2.folk.nu/2022/04/LÅT.jpeg
END:VEVENT
END:VCALENDAR