BEGIN:VCALENDAR
VERSION:2.0
PRODID:-//Folk.nu! - ECPv5.14.0.1//NONSGML v1.0//EN
CALSCALE:GREGORIAN
METHOD:PUBLISH
X-WR-CALNAME:Folk.nu!
X-ORIGINAL-URL:https://folk.nu
X-WR-CALDESC:Händelser för Folk.nu!
REFRESH-INTERVAL;VALUE=DURATION:PT1H
X-Robots-Tag:noindex
X-PUBLISHED-TTL:PT1H
BEGIN:VTIMEZONE
TZID:Europe/Stockholm
BEGIN:DAYLIGHT
TZOFFSETFROM:+0100
TZOFFSETTO:+0200
TZNAME:CEST
DTSTART:20230326T010000
END:DAYLIGHT
BEGIN:STANDARD
TZOFFSETFROM:+0200
TZOFFSETTO:+0100
TZNAME:CET
DTSTART:20231029T010000
END:STANDARD
END:VTIMEZONE
BEGIN:VEVENT
DTSTART;TZID=Europe/Stockholm:20230224T180000
DTEND;TZID=Europe/Stockholm:20230224T190000
DTSTAMP:20260423T113741
CREATED:20230206T102457Z
LAST-MODIFIED:20230206T102457Z
UID:4639-1677261600-1677265200@folk.nu
SUMMARY:Anna Heikkinen & Längtans Kapell i Tierp
DESCRIPTION:Sverigefinnarnas dag firar vi med att släppa vår debutsingel och spela konsert med plats för dans! \nSingeln Nu sorgsen går jag här – Siks´oon mä suruinen släpps på Kakafon Records och blir ett första smakprov av det kommande debutalbumet Omenatango som släpps den 16 mars. \nKom till Kulturhuset Möbeln och lyssna! Dansa om du vill! Finsk tango\, polka och vals. \nAnna Heikkinen & Längtans Kapell söker genom sina tolkningar av den finska tangon efter historia och rötter\, en sverigefinsk identitet och ett förlorat språk. \nMedverkande: \nAnna Heikkinen\, sång och slagverk \nLarisa Ljungkorna-Mönttinen\, dragspel och sång \nIda Gillner\, sopransaxofon\, sång och slagverk \n 
URL:https://folk.nu/evenemang/anna-heikkinen-langtans-kapell-i-tierp/
LOCATION:Kulturhuset Möbeln\, Grevegatan 19-21\, Tierp\, 815 40
ATTACH;FMTTYPE=image/jpeg:https://media2.folk.nu/2023/02/Anna-Heikkinen-Längtans-Kapell-Fotograf-Magnus-Lorentzson-3.jpg
ORGANIZER;CN="Kulturhuset%20M%26ouml%3Bbeln":MAILTO:kultur-fritid@tierp.se
END:VEVENT
END:VCALENDAR