BEGIN:VCALENDAR
VERSION:2.0
PRODID:-//Folk.nu! - ECPv5.14.0.1//NONSGML v1.0//EN
CALSCALE:GREGORIAN
METHOD:PUBLISH
X-WR-CALNAME:Folk.nu!
X-ORIGINAL-URL:https://folk.nu
X-WR-CALDESC:Händelser för Folk.nu!
REFRESH-INTERVAL;VALUE=DURATION:PT1H
X-Robots-Tag:noindex
X-PUBLISHED-TTL:PT1H
BEGIN:VTIMEZONE
TZID:Europe/Stockholm
BEGIN:DAYLIGHT
TZOFFSETFROM:+0100
TZOFFSETTO:+0200
TZNAME:CEST
DTSTART:20220327T010000
END:DAYLIGHT
BEGIN:STANDARD
TZOFFSETFROM:+0200
TZOFFSETTO:+0100
TZNAME:CET
DTSTART:20221030T010000
END:STANDARD
END:VTIMEZONE
BEGIN:VEVENT
DTSTART;TZID=Europe/Stockholm:20220331T190000
DTEND;TZID=Europe/Stockholm:20220331T220000
DTSTAMP:20260421T120110
CREATED:20220217T201443Z
LAST-MODIFIED:20220217T201443Z
UID:1221-1648753200-1648764000@folk.nu
SUMMARY:Maine Coon trio + Stefan Bergman & Tapha Ndiongue Duo @ Villa Vulkan
DESCRIPTION:Välkommen till konsert på Villa Vulkans scen på Sockerbruket Arena den 31 mars!\nVi är stolta över att kunna presentera två akter till den första delen av konsertserien Music in a Circle:\n-Stefan Bergman och Tapha Ndiongue Duo – med gäst artist Sofia Källman.\n-Maine Coon trio\nDörrarna öppnar kl 19:00 och första bandet går på scen 19:30.\nPassa på att smaka på vår hemlagade gulash eller en smarrig bulle från vårt café!\n\nLänk för biljettköp kommer inom kort.\n***************\nStefan Bergman och Tapha Ndiongue Duo – med gäst Sofia Källman.\n\nRytmisk energi och lyriska melodier när en ny spännande duo intar scenen!\nDe nordiska och västafrikanska influenserna möts på ett självklart sätt i Stefan Bergmans\nkompositioner med både rytmisk energi och lyriska melodier. I ett litet format med elbas och\nvästafrikanskt slagverk skapas stor musik.\nStefan har förutom passion för nordisk folkmusik dessutom genom flera internationella\nturnéer och resor en stor kärlek till såväl västafrikansk som karibisk musik och musik från\nmellanöstern. Några samarbeten: Simbi\, Samara\, Den Fule\, Solo Cissokho\, Sousou och\nMaher Cissokho.\nTapha Ndiongue är en senegalesisk multi-instrumentalist som inspirerats av griots\,\nVästafrikas ”barder”: traditionella sångare och historieberättare\, i vänkretsen. Med musiken\nbidrar Tapha med såväl underhållning som livsvisdom vid sammankomster och högtider.\nTapha har turnerat och spelat med många artister och konstellationer\, både inom Sverige\noch utomlands.\nSofia Källman är sångare och medverkar i grupper som Trio Rop och skivaktuella Mor Dansar\,\nsom utnämnts till årets vistolkningar av musiktidningen LIRA. Som sångare rör hon sig mellan\ntraditionell och modern nordisk folkmusik\, liksom visa och pop. På scen berättar hon i toner\noch ord med en stark tro på kraften i det lilla.\n\n\n****************\nMaine Coon trio\n\nMed avstamp i norsk och svensk folkmusik blandar Maine Coon trio eget material med traditionella låtar såsom springar\, gangare och slängpolska. Skira klanger och lekfullhet möter improvisation och pulserande riff. Felor\, träblås och gitarr i ett tätt sammansvetsat samspel.\nTrion möttes på Högskolan för scen och musik i Göteborg. Arbetandes som lärare\, musiker och instrumentbyggare strävar bandet ständigt efter att träffas för att skapa musik.\nMaine Coon trios debutplatta släpptes juli 2020 i Göteborg i ett mindre konsertformat och bandet utnämndes till Årets nykomling 2020 av Lira Musikmagasin för skivan.\nAnna-Karin Andersson – hardangerfela\, fiol\, oktavfiol\nRobin Johansson – sopransaxofon\, basklarinett\nSøren Vinther Røgen – gitarr\, cittern\n\n\n************************************\nEtt samarbete med NBV Väst\, Musikverket & Pronto/Göteborg stad.
URL:https://folk.nu/evenemang/maine-coon-trio-stefan-bergman-tapha-ndiongue-duo-villa-vulkan/
LOCATION:Villa vulkan\, Göteborg\, Sockerbruket 23\, Göteborg
ATTACH;FMTTYPE=image/jpeg:https://media2.folk.nu/2022/02/273915470_3092153527667824_1081630897797019450_n.jpeg
END:VEVENT
END:VCALENDAR