BEGIN:VCALENDAR
VERSION:2.0
PRODID:-//Folk.nu! - ECPv5.14.0.1//NONSGML v1.0//EN
CALSCALE:GREGORIAN
METHOD:PUBLISH
X-WR-CALNAME:Folk.nu!
X-ORIGINAL-URL:https://folk.nu
X-WR-CALDESC:Händelser för Folk.nu!
REFRESH-INTERVAL;VALUE=DURATION:PT1H
X-Robots-Tag:noindex
X-PUBLISHED-TTL:PT1H
BEGIN:VTIMEZONE
TZID:Europe/Stockholm
BEGIN:DAYLIGHT
TZOFFSETFROM:+0100
TZOFFSETTO:+0200
TZNAME:CEST
DTSTART:20230326T010000
END:DAYLIGHT
BEGIN:STANDARD
TZOFFSETFROM:+0200
TZOFFSETTO:+0100
TZNAME:CET
DTSTART:20231029T010000
END:STANDARD
END:VTIMEZONE
BEGIN:VEVENT
DTSTART;TZID=Europe/Stockholm:20231027T190000
DTEND;TZID=Europe/Stockholm:20231027T230000
DTSTAMP:20260424T141713
CREATED:20230920T135545Z
LAST-MODIFIED:20230920T135545Z
UID:5518-1698433200-1698447600@folk.nu
SUMMARY:Ellika Frisell & Rafael Sida på Boklundens FredagsFolk!
DESCRIPTION:Välkomna till ännu en upplaga av FredagsFolk på Boklunden i Torna Hällestad! Mitt bland vresbokarna fylls scenen av livemusik\, folk strömmar till och startar helgen på bästa sätt. Dansrotundans varma atmosfär bjuder in till gemensamma upplevelser; köket är öppet och serverar en värmande soppbuffé med hembakt bröd\, eller varför inte en dignande räkmacka och något gott att dricka därtill.\nPå scenen denna höstkväll står inga mindre än Ellika Frisell ocjh Rafael Sida – en rytmernas allkonstnär känd för sitt mångsidiga sväng i gränslandet av olika världar\, som möter en nyfiken fiolspelman rotad i både spelmanstraditionen och den experimentella folkmusikscenen. Upplev ett nära och personligt mästarmöte med två av vår tids mest tonsättande traditionsbärare! Här hörs släktskapet mellan den skandinaviska folkmusiken och den afroamerikanska rytmtraditionen\, men framför allt samspelet mellan två starka artister som från olika håll djupdyker och utmanar låtar och sväng. Två världar som möts utan att krocka\, två skilda musikaliska språk som hela tiden behöver förstå vad den andra menar. Ett dynamiskt och laddat samspel som manar till dans!\n\nEfter konserten röjer vi golvet och musikerna spelar upp till dans\, mejla info@boklunden.se om ni är intresserad av att spela till dans som pausmusiker.\n\nKonserten är ett arrangemang av Boklunden i samarbete med Skånes Spelmansförbund\, Bilda Folk\, Musik i Syd samt nätverket Heja Lund!\nKvällens upplägg:\nPortarna öppnas kl 18.00\nKonsert kl 19\nkl 20-23: Spontant spel\, härligt häng\, fritt jam\, dans…\nEntré: 200:- betalas i dörren\, eller om du vill boka bord/förköpa biljetter så skicka ett mejl till info@boklunden.se.\nBarn under 12 år: gratis\nVi tar kontanter\, bankkort och Swish.
URL:https://folk.nu/evenemang/ellika-frisell-rafael-sida-pa-boklundens-fredagsfolk/
LOCATION:Boklunden\, Trollskogsvägen\, Hällestad 351\, Torna Hällestad\, 247 95
ATTACH;FMTTYPE=image/jpeg:https://media2.folk.nu/2023/09/ellika_rafael_1080.jpg
ORGANIZER;CN="Boklunden%20Konferens%20%26amp%3Bamp%3B%20Evenemang":MAILTO:info@boklunden.se
END:VEVENT
BEGIN:VEVENT
DTSTART;TZID=Europe/Stockholm:20231006T190000
DTEND;TZID=Europe/Stockholm:20231006T230000
DTSTAMP:20260424T141713
CREATED:20230920T135523Z
LAST-MODIFIED:20230920T135523Z
UID:5514-1696618800-1696633200@folk.nu
SUMMARY:West of Eden på Boklunden
DESCRIPTION:Välkommen till ännu en hejdundrande irländsk afton på Boklunden! Det blir god mat och dryck\, sessions och förstås konsert\, denna gång med West of Eden från Göteborg! Dörrarna öppnar kl 17\, konsert kl 19. Restaurangen är öppen och serverar irländsk meny med fulla rättigheter. Förboka bord genom att mejla info@boklunden.se för att garantera en plats. \nWest of Eden: ”The best of contemporary folk” (Irish Music Magazine)\nI 25 år nu har det charmiga bandet West of Eden underhållit sin publik. Med sin egen musik djupt rotad i den engelska och irländska folkmyllan har de framgångsrikt släppt ett dussintals skivor och turnerat över stora delar av Europa och ända bort till Kina. En konsert med West of Eden blir till en resa mellan akustiskt historieberättande intimitet och glad\, uppsluppen folkrock\, alltid framförd med äkta kärlek och respekt för den keltiska musiken. Välkommen!\nWest of Eden är:\nJenny Schaub: Sång\, dragspel\, tin whistle\nMartin Schaub: Sång\, akustisk gitarr\, mandolin\nLars Broman: Fiol\nHenning Sernhede: Elgitarr\, akustisk gitarr\, banjo\nMartin Holmlund: Kontrabas\, elbas\nOla Karlevo: Trummor\, bodhrán\nSessionmusiker är välkomna att höra av sig till info@boklunden.se!\nArrangemanget genomförs i samarbete med nätverket Heja Lund och Bilda Folk.
URL:https://folk.nu/evenemang/west-of-eden-pa-boklunden/
LOCATION:Boklunden\, Trollskogsvägen\, Hällestad 351\, Torna Hällestad\, 247 95
ATTACH;FMTTYPE=image/jpeg:https://media2.folk.nu/2023/09/westofeden1920x1080.jpg
ORGANIZER;CN="Kulturf%26ouml%3Breningen%20Lejongap":MAILTO:erik@ask-upmark.se
END:VEVENT
BEGIN:VEVENT
DTSTART;TZID=Europe/Stockholm:20230203T190000
DTEND;TZID=Europe/Stockholm:20230203T230000
DTSTAMP:20260424T141713
CREATED:20230124T102242Z
LAST-MODIFIED:20230124T102242Z
UID:4526-1675450800-1675465200@folk.nu
SUMMARY:FredagsFolk med Hedin & Meidell på Boklunden!
DESCRIPTION:Enda konserten i Skåne med fantastiska duon Hedin & Meidell – på den nya folkmusikscenen Boklunden i Torna Hällestad utanför Lund! \nIdas barockviolin och Johans olika nyckelharpor skapar rika klangvärldar när denna duo rör sig genom låttraditionens skiftande former och barockens sirliga uttryck. Musiken tar avstamp i 1700-talet\, men sträcker sig ända in i vår tid. Den formas av Idas många spelsätt och influenser från när och fjärran\, och av Johans unika sätt att ackompanjera och tänja på gränserna för nyckelharpans möjligheter. En musikalisk upplevelse där gammal musik får nytt liv i täta arrangemang och ett innerligt samspel. \nIda Meidell Blylod är folkmusiker och barockviolinist med en stark passion för fiolens rika mångsidighet och spektrum av uttryck. I hennes känsliga spel visar sig en verklig förmåga att skapa närvaro och göra varje framträdande unikt. Ida har under många år turnerat på de europeiska folkmusik- och barockscenerna\, och anlitas ofta som pedagog på internationella kurser i låtspel. \nJohan Hedin är en världsturnerande nyckelharpspelare från Småland som blivit förebild för många genom sättet att hantera sitt instrument. Hans musikaliska nyfikenhet är hela tiden ledstjärnan som för honom in i nya spännande samarbeten. Johans utveckling av nyckelharpan som instrument ger den nya möjligheter och ger musiken nya spelrum att frodas i. \nHedin & Meidell är på turné sponsrade av RFoD under februari och vi är jätteglada att kunna presentera deras enda konsert i Skåne på anrika nöjespalatset mitt i skogen\, Boklunden! Ända sedan 1913 har det dansats på denna klassiska dansrotunda belägen i Trollskogen utanför Dalby i Lundabygden\, och denna konsert utgör premiären för en nygammal verksamhet med folkmusik och dans i en unik miljö. Välkommen till FredagsFolk på Boklunden! Mat\, fika och kaffe finns till försäljning. \n 
URL:https://folk.nu/evenemang/fredagsfolk-med-hedin-meidell-pa-boklunden/
LOCATION:Boklunden\, Trollskogsvägen\, Hällestad 351\, Torna Hällestad\, 247 95
ATTACH;FMTTYPE=image/jpeg:https://media2.folk.nu/2023/01/facebook1b-scaled.jpg
ORGANIZER;CN="Kulturf%26ouml%3Breningen%20Lejongap":MAILTO:erik@ask-upmark.se
END:VEVENT
END:VCALENDAR