BEGIN:VCALENDAR
VERSION:2.0
PRODID:-//Folk.nu! - ECPv5.14.0.1//NONSGML v1.0//EN
CALSCALE:GREGORIAN
METHOD:PUBLISH
X-WR-CALNAME:Folk.nu!
X-ORIGINAL-URL:https://folk.nu
X-WR-CALDESC:Händelser för Folk.nu!
REFRESH-INTERVAL;VALUE=DURATION:PT1H
X-Robots-Tag:noindex
X-PUBLISHED-TTL:PT1H
BEGIN:VTIMEZONE
TZID:Europe/Stockholm
BEGIN:DAYLIGHT
TZOFFSETFROM:+0100
TZOFFSETTO:+0200
TZNAME:CEST
DTSTART:20220327T010000
END:DAYLIGHT
BEGIN:STANDARD
TZOFFSETFROM:+0200
TZOFFSETTO:+0100
TZNAME:CET
DTSTART:20221030T010000
END:STANDARD
END:VTIMEZONE
BEGIN:VEVENT
DTSTART;TZID=Europe/Stockholm:20220402T100000
DTEND;TZID=Europe/Stockholm:20220402T160000
DTSTAMP:20260421T115923
CREATED:20220331T080931Z
LAST-MODIFIED:20220331T100802Z
UID:2142-1648893600-1648915200@folk.nu
SUMMARY:Sångmanslaget – kurs i körsång till folkdans
DESCRIPTION:Körsång till folkdans – går det ens?\nLänge har det svenska folkmusikarvet varit del av svenska körers repertoar\, från gamla Uti vår hage till nyskrivna polskor och valser. Men går det att dansa till körsång? Deltagarna i kursen Sångmanslaget får lära sig grunderna i de vanliga folkdanserna och sjunger nyskrivna arrangemang med syftet att ackompanjera folkdans. Kursen är en laboration med idén av kören som ett spelmanslag och deltagarna får både dansa och sjunga ihop.\n\nKursen är en del av Körcentrum Syds podcastprojekt “Det kommer inga kor”\, som undersöker förhållandet mellan kör och folkmusik. Kurstillfällena kommer därför att spelas in och delar av materialet kommer användas i podcastens avsnitt\, efter godkännande av de medverkande.\n\nKursen är uppdelad på två kurstillfällen\, nämligen 2/4 kl 10-16 och 24/4 samma tider.\n\nVi söker dig som:\n\nSjungit i kör förut\nHar viss notläsningsförmåga och gehör\nVill testa att dansa folkdanserna till körsång och att sjunga i kör till dans\n\nHar du frågor? Skicka ett mail till detkommeringakor@gmail.com!
URL:https://folk.nu/evenemang/sangmanslaget-kurs-i-korsang-till-folkdans/
LOCATION:Musikhögskolan i Malmö\, Ystadvägen 25\, MALMÖ\, 21445
ATTACH;FMTTYPE=image/png:https://media2.folk.nu/2022/03/Sångmanslaget-636x424-1.png
END:VEVENT
END:VCALENDAR