BEGIN:VCALENDAR
VERSION:2.0
PRODID:-//Folk.nu! - ECPv5.14.0.1//NONSGML v1.0//EN
CALSCALE:GREGORIAN
METHOD:PUBLISH
X-WR-CALNAME:Folk.nu!
X-ORIGINAL-URL:https://folk.nu
X-WR-CALDESC:Händelser för Folk.nu!
REFRESH-INTERVAL;VALUE=DURATION:PT1H
X-Robots-Tag:noindex
X-PUBLISHED-TTL:PT1H
BEGIN:VTIMEZONE
TZID:Europe/Stockholm
BEGIN:DAYLIGHT
TZOFFSETFROM:+0100
TZOFFSETTO:+0200
TZNAME:CEST
DTSTART:20220327T010000
END:DAYLIGHT
BEGIN:STANDARD
TZOFFSETFROM:+0200
TZOFFSETTO:+0100
TZNAME:CET
DTSTART:20221030T010000
END:STANDARD
END:VTIMEZONE
BEGIN:VEVENT
DTSTART;TZID=Europe/Stockholm:20220222T190000
DTEND;TZID=Europe/Stockholm:20220222T203000
DTSTAMP:20260424T202206
CREATED:20220217T143318Z
LAST-MODIFIED:20220217T143318Z
UID:1076-1645556400-1645561800@folk.nu
SUMMARY:Willemark/Marin
DESCRIPTION:På Folk och Världsmusikgalan 2021 presenterade sig en ny duo för publiken. Lena Willemark och Mikael Marin hör sedan länge till Sveriges främsta folk-musiker. Mångsidigare än de flesta\, Lena som framstående sångerska och fiol-spelman och Mikael med sin viola. Bägge är utmärkta kompositörer och prisbelönta i många sammanhang.
URL:https://folk.nu/evenemang/willemark-marin/
LOCATION:Gävle Konserthus\, Kungsbäcksvägen 22\, Gävle\, Gävle
ATTACH;FMTTYPE=image/jpeg:https://media2.folk.nu/2022/02/Willemark-Marin-scaled.jpg
END:VEVENT
END:VCALENDAR