BEGIN:VCALENDAR
VERSION:2.0
PRODID:-//Folk.nu! - ECPv5.14.0.1//NONSGML v1.0//EN
CALSCALE:GREGORIAN
METHOD:PUBLISH
X-WR-CALNAME:Folk.nu!
X-ORIGINAL-URL:https://folk.nu
X-WR-CALDESC:Händelser för Folk.nu!
REFRESH-INTERVAL;VALUE=DURATION:PT1H
X-Robots-Tag:noindex
X-PUBLISHED-TTL:PT1H
BEGIN:VTIMEZONE
TZID:Europe/Stockholm
BEGIN:DAYLIGHT
TZOFFSETFROM:+0100
TZOFFSETTO:+0200
TZNAME:CEST
DTSTART:20220327T010000
END:DAYLIGHT
BEGIN:STANDARD
TZOFFSETFROM:+0200
TZOFFSETTO:+0100
TZNAME:CET
DTSTART:20221030T010000
END:STANDARD
END:VTIMEZONE
BEGIN:VEVENT
DTSTART;VALUE=DATE:20220420
DTEND;VALUE=DATE:20220423
DTSTAMP:20260421T151642
CREATED:20220412T073026Z
LAST-MODIFIED:20220412T073026Z
UID:2273-1650412800-1650671999@folk.nu
SUMMARY:Nordic Folk Alliance Göteborg  20-22 april 2022
DESCRIPTION:Nordic Folk Alliance är en nordisk showcasefestival och mötesplats för alla som verkar inom eller är intresserade av folk- och rootsmusik. Nordic Folk Alliance äger rum på Musikens hus\, Skeppet och Kulturlagret i Göteborg 20-22 april. \nHär samlas folk- och rootsmusikbranschen från de nordiska länderna under tre dagar. 20 band deltar i olika showcase\, det blir också seminarier och samtal. Registrering senast 14 april på www.nordicfolkalliance.com \nFörvaltningen för kulturutveckling i Västra Götalandsregionen arrangerar Nordic Folk Alliance 2022\, på uppdrag av NOMEX\, som består av de nordiska musikexportkontoren. Svenska samarbetsparter är Studieförbundet Bilda\, Riksförbundet för Folkmusik och Dans (RFoD)\, Musikcentrum Väst (MCV)\, Folkmusikens Hus\, Folk You och Göteborg & Co. \nNordic Folk Alliance är en del av den internationella familjen Folk Alliance International\, en av de största mötesplatserna i Nordamerika för folkmusik. \nLäs mer om Nordic Folk Alliance i Göteborg 2022 på www.nordicfolkalliance.com \n  \n 
URL:https://folk.nu/evenemang/nordic-folk-alliance-goteborg-20-22-april-2022/
LOCATION:Musikens hus\, Göteborg\, Djurgårdsgatan 13\, Göteborg\, 414 62 Göteborg
ATTACH;FMTTYPE=image/jpeg:https://media2.folk.nu/2022/04/PAUANNE_Aki-Pekka_Sinikoski016_ver2-3.jpg
END:VEVENT
END:VCALENDAR