BEGIN:VCALENDAR
VERSION:2.0
PRODID:-//Folk.nu! - ECPv5.14.0.1//NONSGML v1.0//EN
CALSCALE:GREGORIAN
METHOD:PUBLISH
X-WR-CALNAME:Folk.nu!
X-ORIGINAL-URL:https://folk.nu
X-WR-CALDESC:Händelser för Folk.nu!
REFRESH-INTERVAL;VALUE=DURATION:PT1H
X-Robots-Tag:noindex
X-PUBLISHED-TTL:PT1H
BEGIN:VTIMEZONE
TZID:Europe/Stockholm
BEGIN:DAYLIGHT
TZOFFSETFROM:+0100
TZOFFSETTO:+0200
TZNAME:CEST
DTSTART:20250330T010000
END:DAYLIGHT
BEGIN:STANDARD
TZOFFSETFROM:+0200
TZOFFSETTO:+0100
TZNAME:CET
DTSTART:20251026T010000
END:STANDARD
END:VTIMEZONE
BEGIN:VEVENT
DTSTART;TZID=Europe/Stockholm:20251228T170000
DTEND;TZID=Europe/Stockholm:20251228T235900
DTSTAMP:20260421T180809
CREATED:20251125T192231Z
LAST-MODIFIED:20251125T192231Z
UID:7930-1766941200-1766966340@folk.nu
SUMMARY:Midvinterstämman i Stjärnsund
DESCRIPTION:Dags för Midvinterstämman 2025 – 28 dec\, Fridhem Stjärnsund \nNär det är som allra mörkast\, då händer något riktigt kul i Stjärnsund: Midvinterstämman! \nLiksom i fjol sker stämman även i år på Fridhem\, som ligger mitt emot kyrkoallén\, Bruksallén 16. Vi utlovar ett bra dansgolv\, möjligheter att buskspela i Fridhems olika hörn\, god mat och god stämning! \nStämman börjar kl 17 och pågår så länge vi orkar hålla i gång. Servering av varm soppa\, mackor och fika. \nNågra hållpunkter under kvällen: \n18.00 Prova-på att dansa snoa och polka med Mia och Kent Rabb \n19.00 Spel till dans: Korsmora spelmän\, Lilla Folkorkestern och Avesta spelmanslag \n21.15 Öppen spellista till dans \nEntré: 80 kr (swish eller jämna kontanter) \nInga ytterskor är tillåtna i danssalen. Och du som tänker dansa: Kom ihåg att ta med inneskor med glatt sula! \nVandrarhemsrum kan hyras för övernattning\, 20% rabatt på ord pris. Tänk på att musik kan höras in i rummen. Rum bokas på https://frid.nu/vandrarhem/    Ange koden VS25 och klicka på ”Tillämpa”. Skjuts från och till tågstation kan beställas\, 450 kr/bil enkel tur\, max 4 personer. Bokning av skjuts: 073-922 96 86  \nParkering där det finns plats\, t.ex. vid Fridhem och Stjärnsundskiosken. (Det senare efter kl 18.) Man kan också parkera vid kyrkan\, dock inte i allén. \nM er information finns på Folkmusikfestens hemsida: www.folkmusikfestenistjarnsund.se \nKontakt:  \nAnnelie Hilmerby: 070-798 01 57 \nBjörn Gyldberg: bgyl@bahnhof.se \nVälkomna att spela\, lyssna\, dansa\, äta och sjunga!
URL:https://folk.nu/evenemang/midvinterstamman-i-stjarnsund/
LOCATION:Fridhems kursgård Stjärnsund\, Bruksallén 16\, Stjärnsund\, 776 74
ORGANIZER;CN="F%26ouml%3Breningen%20Folkmusikfesten%20i%20Stj%26auml%3Brnsund":MAILTO:mail@folkmusikfestenistjarnsund.se
END:VEVENT
BEGIN:VEVENT
DTSTART;VALUE=DATE:20250801
DTEND;VALUE=DATE:20250803
DTSTAMP:20260421T180809
CREATED:20250602T153015Z
LAST-MODIFIED:20250602T153015Z
UID:7451-1754006400-1754179199@folk.nu
SUMMARY:Folkmusikfesten i Stjärnsund
DESCRIPTION:I år firar Folkmusikfesten i Stjärnsund 20-årsjubileum! Som vanligt blir det två innehållsrika dagar i fantastisk bruksmiljö. Små och stora konserter\, kurser\, prova på-tillfällen\, dans till spelmansmusik\, vallmusikmorgon\, bruksmarknad med allspel\, spelmansstämma mm. I år kan vi bland mycket annat erbjuda en kompkurs med Peter Rousu\, dans på ett bra dansgolv på fredag kväll och folkliga klanger från Mellanöstern med Hassan Abo Alshamlat. Dessutom blir det tjuvstart i Smedjan på torsdag kväll med Ale Möller trio. För fullständigt program\, kursanmälningar och mer info\, se https://www.folkmusikfestenistjarnsund.se
URL:https://folk.nu/evenemang/folkmusikfesten-i-stjarnsund/
ATTACH;FMTTYPE=image/gif:https://media2.folk.nu/2025/06/FMF-Stjs-2025-logga-m-text.gif
ORGANIZER;CN="F%26ouml%3Breningen%20Folkmusikfesten%20i%20Stj%26auml%3Brnsund":MAILTO:mail@folkmusikfestenistjarnsund.se
END:VEVENT
END:VCALENDAR