BEGIN:VCALENDAR
VERSION:2.0
PRODID:-//Folk.nu! - ECPv5.14.0.1//NONSGML v1.0//EN
CALSCALE:GREGORIAN
METHOD:PUBLISH
X-WR-CALNAME:Folk.nu!
X-ORIGINAL-URL:https://folk.nu
X-WR-CALDESC:Händelser för Folk.nu!
REFRESH-INTERVAL;VALUE=DURATION:PT1H
X-Robots-Tag:noindex
X-PUBLISHED-TTL:PT1H
BEGIN:VTIMEZONE
TZID:Europe/Stockholm
BEGIN:DAYLIGHT
TZOFFSETFROM:+0100
TZOFFSETTO:+0200
TZNAME:CEST
DTSTART:20220327T010000
END:DAYLIGHT
BEGIN:STANDARD
TZOFFSETFROM:+0200
TZOFFSETTO:+0100
TZNAME:CET
DTSTART:20221030T010000
END:STANDARD
END:VTIMEZONE
BEGIN:VEVENT
DTSTART;TZID=Europe/Stockholm:20220409T190000
DTEND;TZID=Europe/Stockholm:20220409T201500
DTSTAMP:20260424T125019
CREATED:20220318T182318Z
LAST-MODIFIED:20220318T182318Z
UID:1875-1649530800-1649535300@folk.nu
SUMMARY:Landsbygdsupproret | Norrbo Folkets hus
DESCRIPTION:Landsbygdsupproret \nEtt musikaliskt manifest med nyskriven musik för våra landsbygder. \nLandsbygdsupproret är en föreställning om drömmar och utopier. Om byråkrati och rationalitet. Om hopp och att våga tro på något. Och om att vi\, som befolkar Sveriges landsbygder\, har en avgörande roll att spela i en rörelse framåt. Vårens första premiär är upphottad lokalpolitik paketerad som folkmusikshow. Det blir folkbildning och folkrörelse. Tillsammans med sin tremannaorkester vill musikern Samantha Ohlanders påbörja ett samtal om hur vi skapar det samhälle vi vill ha. \n– Landsbygdsupproret är inte till för staden. Det här riktar sig direkt till oss i periferin. Ett slags samhälleligt tankeexperiment där landsbygden med dess berättelser\, erfarenheter och kultur får stå i centrum. Genom musiken kan vi skapa samtal. Koppla ihop trådarna. Brodera ut. Väven växer. Väcker aktion. Och en vilja att ta makten över sin tillvaro\, säger Samantha Ohlanders. \nSamantha Ohlanders är sedan länge engagerad i landsbygdsfrågor. Hon har tidigare turnerat med Riksteatern i de hyllade föreställningarna Fäboland och Nationalparken. Hon är aktiv i föreningen Unga på landsbygden\, som jobbar för att förändra synen på landet och utmana den urbana normen samt arbetar som krönikör för Hälsingetidningarna med fokus på landsbygdsfrågor. \nFöreställningen görs i samarbete med Riksteatern. Gävleborgsturné våren 2022 och Riksteaterturné under hösten 2022. \nUrpremiär den 26 mars.
URL:https://folk.nu/evenemang/landsbygdsupproret-norrbo-folkets-hus/
LOCATION:Norrbo Folkets hus\, Norrbo\, Näsviken\, 82467
ATTACH;FMTTYPE=image/jpeg:https://media2.folk.nu/2022/03/Landsbygdsupproret-liggande-8.jpg
ORGANIZER;CN="Folkteatern%20G%26auml%3Bvleborg":MAILTO:info@folkteaterngavleborg.se
END:VEVENT
BEGIN:VEVENT
DTSTART;TZID=Europe/Stockholm:20220408T190000
DTEND;TZID=Europe/Stockholm:20220408T201500
DTSTAMP:20260424T125019
CREATED:20220318T182302Z
LAST-MODIFIED:20220318T182302Z
UID:1872-1649444400-1649448900@folk.nu
SUMMARY:Landsbygdsupproret | Fyren\, Norrsundet
DESCRIPTION:Landsbygdsupproret \nEtt musikaliskt manifest med nyskriven musik för våra landsbygder. \nLandsbygdsupproret är en föreställning om drömmar och utopier. Om byråkrati och rationalitet. Om hopp och att våga tro på något. Och om att vi\, som befolkar Sveriges landsbygder\, har en avgörande roll att spela i en rörelse framåt. Vårens första premiär är upphottad lokalpolitik paketerad som folkmusikshow. Det blir folkbildning och folkrörelse. Tillsammans med sin tremannaorkester vill musikern Samantha Ohlanders påbörja ett samtal om hur vi skapar det samhälle vi vill ha. \n– Landsbygdsupproret är inte till för staden. Det här riktar sig direkt till oss i periferin. Ett slags samhälleligt tankeexperiment där landsbygden med dess berättelser\, erfarenheter och kultur får stå i centrum. Genom musiken kan vi skapa samtal. Koppla ihop trådarna. Brodera ut. Väven växer. Väcker aktion. Och en vilja att ta makten över sin tillvaro\, säger Samantha Ohlanders. \nSamantha Ohlanders är sedan länge engagerad i landsbygdsfrågor. Hon har tidigare turnerat med Riksteatern i de hyllade föreställningarna Fäboland och Nationalparken. Hon är aktiv i föreningen Unga på landsbygden\, som jobbar för att förändra synen på landet och utmana den urbana normen samt arbetar som krönikör för Hälsingetidningarna med fokus på landsbygdsfrågor. \nFöreställningen görs i samarbete med Riksteatern. Gävleborgsturné våren 2022 och Riksteaterturné under hösten 2022. \nUrpremiär den 26 mars.
URL:https://folk.nu/evenemang/landsbygdsupproret-fyren-norrsundet/
LOCATION:Kulturhuset Fyren\, Norrsundet\, Kvistholmsvägen 21\, Norrsundet\, 817 30
ATTACH;FMTTYPE=image/jpeg:https://media2.folk.nu/2022/03/Landsbygdsupproret-liggande-7.jpg
ORGANIZER;CN="Folkteatern%20G%26auml%3Bvleborg":MAILTO:info@folkteaterngavleborg.se
END:VEVENT
BEGIN:VEVENT
DTSTART;TZID=Europe/Stockholm:20220407T190000
DTEND;TZID=Europe/Stockholm:20220407T201500
DTSTAMP:20260424T125019
CREATED:20220318T182248Z
LAST-MODIFIED:20220318T183339Z
UID:1869-1649358000-1649362500@folk.nu
SUMMARY:Landsbygdsupproret | Grängsbo Bygdegård
DESCRIPTION:Landsbygdsupproret \nEtt musikaliskt manifest med nyskriven musik för våra landsbygder. \nLandsbygdsupproret är en föreställning om drömmar och utopier. Om byråkrati och rationalitet. Om hopp och att våga tro på något. Och om att vi\, som befolkar Sveriges landsbygder\, har en avgörande roll att spela i en rörelse framåt. Vårens första premiär är upphottad lokalpolitik paketerad som folkmusikshow. Det blir folkbildning och folkrörelse. Tillsammans med sin tremannaorkester vill musikern Samantha Ohlanders påbörja ett samtal om hur vi skapar det samhälle vi vill ha. \n– Landsbygdsupproret är inte till för staden. Det här riktar sig direkt till oss i periferin. Ett slags samhälleligt tankeexperiment där landsbygden med dess berättelser\, erfarenheter och kultur får stå i centrum. Genom musiken kan vi skapa samtal. Koppla ihop trådarna. Brodera ut. Väven växer. Väcker aktion. Och en vilja att ta makten över sin tillvaro\, säger Samantha Ohlanders. \nSamantha Ohlanders är sedan länge engagerad i landsbygdsfrågor. Hon har tidigare turnerat med Riksteatern i de hyllade föreställningarna Fäboland och Nationalparken. Hon är aktiv i föreningen Unga på landsbygden\, som jobbar för att förändra synen på landet och utmana den urbana normen samt arbetar som krönikör för Hälsingetidningarna med fokus på landsbygdsfrågor. \nFöreställningen görs i samarbete med Riksteatern. Gävleborgsturné våren 2022 och Riksteaterturné under hösten 2022. \nUrpremiär den 26 mars.
URL:https://folk.nu/evenemang/landsbygdsupproret-grangsbo-bygdegard/
LOCATION:Grängsbo Bygdegård\, Grängsbo 805\, Viksjöfors\, 828 95
ATTACH;FMTTYPE=image/jpeg:https://media2.folk.nu/2022/03/Landsbygdsupproret-liggande-19.jpg
ORGANIZER;CN="Folkteatern%20G%26auml%3Bvleborg":MAILTO:info@folkteaterngavleborg.se
END:VEVENT
BEGIN:VEVENT
DTSTART;TZID=Europe/Stockholm:20220406T190000
DTEND;TZID=Europe/Stockholm:20220406T201500
DTSTAMP:20260424T125019
CREATED:20220318T182231Z
LAST-MODIFIED:20220318T182231Z
UID:1865-1649271600-1649276100@folk.nu
SUMMARY:Landsbygdsupproret | Hå ordenshus
DESCRIPTION:Landsbygdsupproret \nEtt musikaliskt manifest med nyskriven musik för våra landsbygder. \nLandsbygdsupproret är en föreställning om drömmar och utopier. Om byråkrati och rationalitet. Om hopp och att våga tro på något. Och om att vi\, som befolkar Sveriges landsbygder\, har en avgörande roll att spela i en rörelse framåt. Vårens första premiär är upphottad lokalpolitik paketerad som folkmusikshow. Det blir folkbildning och folkrörelse. Tillsammans med sin tremannaorkester vill musikern Samantha Ohlanders påbörja ett samtal om hur vi skapar det samhälle vi vill ha. \n– Landsbygdsupproret är inte till för staden. Det här riktar sig direkt till oss i periferin. Ett slags samhälleligt tankeexperiment där landsbygden med dess berättelser\, erfarenheter och kultur får stå i centrum. Genom musiken kan vi skapa samtal. Koppla ihop trådarna. Brodera ut. Väven växer. Väcker aktion. Och en vilja att ta makten över sin tillvaro\, säger Samantha Ohlanders. \nSamantha Ohlanders är sedan länge engagerad i landsbygdsfrågor. Hon har tidigare turnerat med Riksteatern i de hyllade föreställningarna Fäboland och Nationalparken. Hon är aktiv i föreningen Unga på landsbygden\, som jobbar för att förändra synen på landet och utmana den urbana normen samt arbetar som krönikör för Hälsingetidningarna med fokus på landsbygdsfrågor. \nFöreställningen görs i samarbete med Riksteatern. Gävleborgsturné våren 2022 och Riksteaterturné under hösten 2022. \nUrpremiär den 26 mars.
URL:https://folk.nu/evenemang/landsbygdsupproret-ha-ordenshus/
LOCATION:Hå ordenshus\, Hå 8396\, Bollnäs\, 821 92
ATTACH;FMTTYPE=image/jpeg:https://media2.folk.nu/2022/03/Landsbygdsupproret-liggande-6.jpg
ORGANIZER;CN="Folkteatern%20G%26auml%3Bvleborg":MAILTO:info@folkteaterngavleborg.se
END:VEVENT
BEGIN:VEVENT
DTSTART;TZID=Europe/Stockholm:20220405T190000
DTEND;TZID=Europe/Stockholm:20220405T201500
DTSTAMP:20260424T125019
CREATED:20220318T182218Z
LAST-MODIFIED:20220318T182218Z
UID:1861-1649185200-1649189700@folk.nu
SUMMARY:Landsbygdsupproret | Östergrändens Bygdegård
DESCRIPTION:Landsbygdsupproret \nEtt musikaliskt manifest med nyskriven musik för våra landsbygder. \nLandsbygdsupproret är en föreställning om drömmar och utopier. Om byråkrati och rationalitet. Om hopp och att våga tro på något. Och om att vi\, som befolkar Sveriges landsbygder\, har en avgörande roll att spela i en rörelse framåt. Vårens första premiär är upphottad lokalpolitik paketerad som folkmusikshow. Det blir folkbildning och folkrörelse. Tillsammans med sin tremannaorkester vill musikern Samantha Ohlanders påbörja ett samtal om hur vi skapar det samhälle vi vill ha. \n– Landsbygdsupproret är inte till för staden. Det här riktar sig direkt till oss i periferin. Ett slags samhälleligt tankeexperiment där landsbygden med dess berättelser\, erfarenheter och kultur får stå i centrum. Genom musiken kan vi skapa samtal. Koppla ihop trådarna. Brodera ut. Väven växer. Väcker aktion. Och en vilja att ta makten över sin tillvaro\, säger Samantha Ohlanders. \nSamantha Ohlanders är sedan länge engagerad i landsbygdsfrågor. Hon har tidigare turnerat med Riksteatern i de hyllade föreställningarna Fäboland och Nationalparken. Hon är aktiv i föreningen Unga på landsbygden\, som jobbar för att förändra synen på landet och utmana den urbana normen samt arbetar som krönikör för Hälsingetidningarna med fokus på landsbygdsfrågor. \nFöreställningen görs i samarbete med Riksteatern. Gävleborgsturné våren 2022 och Riksteaterturné under hösten 2022. \nUrpremiär den 26 mars.
URL:https://folk.nu/evenemang/landsbygdsupproret-ostergrandens-bygdegard/
LOCATION:Östergrändens Bygdegård\, Håckstaviken 58\, Hudiksvall\, 824 93
ATTACH;FMTTYPE=image/jpeg:https://media2.folk.nu/2022/03/Landsbygdsupproret-liggande-5.jpg
ORGANIZER;CN="Folkteatern%20G%26auml%3Bvleborg":MAILTO:info@folkteaterngavleborg.se
END:VEVENT
BEGIN:VEVENT
DTSTART;TZID=Europe/Stockholm:20220402T190000
DTEND;TZID=Europe/Stockholm:20220402T201500
DTSTAMP:20260424T125019
CREATED:20220318T182204Z
LAST-MODIFIED:20220318T182204Z
UID:1857-1648926000-1648930500@folk.nu
SUMMARY:Landsbygdsupproret | Bygdegården Altorp
DESCRIPTION:Landsbygdsupproret \nEtt musikaliskt manifest med nyskriven musik för våra landsbygder. \nLandsbygdsupproret är en föreställning om drömmar och utopier. Om byråkrati och rationalitet. Om hopp och att våga tro på något. Och om att vi\, som befolkar Sveriges landsbygder\, har en avgörande roll att spela i en rörelse framåt. Vårens första premiär är upphottad lokalpolitik paketerad som folkmusikshow. Det blir folkbildning och folkrörelse. Tillsammans med sin tremannaorkester vill musikern Samantha Ohlanders påbörja ett samtal om hur vi skapar det samhälle vi vill ha. \n– Landsbygdsupproret är inte till för staden. Det här riktar sig direkt till oss i periferin. Ett slags samhälleligt tankeexperiment där landsbygden med dess berättelser\, erfarenheter och kultur får stå i centrum. Genom musiken kan vi skapa samtal. Koppla ihop trådarna. Brodera ut. Väven växer. Väcker aktion. Och en vilja att ta makten över sin tillvaro\, säger Samantha Ohlanders. \nSamantha Ohlanders är sedan länge engagerad i landsbygdsfrågor. Hon har tidigare turnerat med Riksteatern i de hyllade föreställningarna Fäboland och Nationalparken. Hon är aktiv i föreningen Unga på landsbygden\, som jobbar för att förändra synen på landet och utmana den urbana normen samt arbetar som krönikör för Hälsingetidningarna med fokus på landsbygdsfrågor. \nFöreställningen görs i samarbete med Riksteatern. Gävleborgsturné våren 2022 och Riksteaterturné under hösten 2022. \nUrpremiär den 26 mars.
URL:https://folk.nu/evenemang/landsbygdsupproret-bygdegarden-altorp/
LOCATION:Bygdegården Altorp\, Altorp\, Norrala\, 826 94
ATTACH;FMTTYPE=image/jpeg:https://media2.folk.nu/2022/03/Landsbygdsupproret-liggande-4.jpg
ORGANIZER;CN="Folkteatern%20G%26auml%3Bvleborg":MAILTO:info@folkteaterngavleborg.se
END:VEVENT
BEGIN:VEVENT
DTSTART;TZID=Europe/Stockholm:20220401T190000
DTEND;TZID=Europe/Stockholm:20220401T201500
DTSTAMP:20260424T125019
CREATED:20220318T182150Z
LAST-MODIFIED:20220318T182150Z
UID:1853-1648839600-1648844100@folk.nu
SUMMARY:Landsbygdsupproret | Skogsta Folkets hus
DESCRIPTION:Landsbygdsupproret \nEtt musikaliskt manifest med nyskriven musik för våra landsbygder. \nLandsbygdsupproret är en föreställning om drömmar och utopier. Om byråkrati och rationalitet. Om hopp och att våga tro på något. Och om att vi\, som befolkar Sveriges landsbygder\, har en avgörande roll att spela i en rörelse framåt. Vårens första premiär är upphottad lokalpolitik paketerad som folkmusikshow. Det blir folkbildning och folkrörelse. Tillsammans med sin tremannaorkester vill musikern Samantha Ohlanders påbörja ett samtal om hur vi skapar det samhälle vi vill ha. \n– Landsbygdsupproret är inte till för staden. Det här riktar sig direkt till oss i periferin. Ett slags samhälleligt tankeexperiment där landsbygden med dess berättelser\, erfarenheter och kultur får stå i centrum. Genom musiken kan vi skapa samtal. Koppla ihop trådarna. Brodera ut. Väven växer. Väcker aktion. Och en vilja att ta makten över sin tillvaro\, säger Samantha Ohlanders. \nSamantha Ohlanders är sedan länge engagerad i landsbygdsfrågor. Hon har tidigare turnerat med Riksteatern i de hyllade föreställningarna Fäboland och Nationalparken. Hon är aktiv i föreningen Unga på landsbygden\, som jobbar för att förändra synen på landet och utmana den urbana normen samt arbetar som krönikör för Hälsingetidningarna med fokus på landsbygdsfrågor. \nFöreställningen görs i samarbete med Riksteatern. Gävleborgsturné våren 2022 och Riksteaterturné under hösten 2022. \nUrpremiär den 26 mars.
URL:https://folk.nu/evenemang/landsbygdsupproret-skogsta-folkets-hus/
LOCATION:Skogsta Folket hus\, Västra Bölevägen 5\, Tallåsen\, 827 40
ATTACH;FMTTYPE=image/jpeg:https://media2.folk.nu/2022/03/Landsbygdsupproret-liggande-3.jpg
ORGANIZER;CN="Folkteatern%20G%26auml%3Bvleborg":MAILTO:info@folkteaterngavleborg.se
END:VEVENT
BEGIN:VEVENT
DTSTART;TZID=Europe/Stockholm:20220331T190000
DTEND;TZID=Europe/Stockholm:20220331T201500
DTSTAMP:20260424T125019
CREATED:20220318T182135Z
LAST-MODIFIED:20220318T182135Z
UID:1849-1648753200-1648757700@folk.nu
SUMMARY:Landsbygdsupproret | Runemo Byagård
DESCRIPTION:Landsbygdsupproret \nEtt musikaliskt manifest med nyskriven musik för våra landsbygder. \nLandsbygdsupproret är en föreställning om drömmar och utopier. Om byråkrati och rationalitet. Om hopp och att våga tro på något. Och om att vi\, som befolkar Sveriges landsbygder\, har en avgörande roll att spela i en rörelse framåt. Vårens första premiär är upphottad lokalpolitik paketerad som folkmusikshow. Det blir folkbildning och folkrörelse. Tillsammans med sin tremannaorkester vill musikern Samantha Ohlanders påbörja ett samtal om hur vi skapar det samhälle vi vill ha. \n– Landsbygdsupproret är inte till för staden. Det här riktar sig direkt till oss i periferin. Ett slags samhälleligt tankeexperiment där landsbygden med dess berättelser\, erfarenheter och kultur får stå i centrum. Genom musiken kan vi skapa samtal. Koppla ihop trådarna. Brodera ut. Väven växer. Väcker aktion. Och en vilja att ta makten över sin tillvaro\, säger Samantha Ohlanders. \nSamantha Ohlanders är sedan länge engagerad i landsbygdsfrågor. Hon har tidigare turnerat med Riksteatern i de hyllade föreställningarna Fäboland och Nationalparken. Hon är aktiv i föreningen Unga på landsbygden\, som jobbar för att förändra synen på landet och utmana den urbana normen samt arbetar som krönikör för Hälsingetidningarna med fokus på landsbygdsfrågor. \nFöreställningen görs i samarbete med Riksteatern. Gävleborgsturné våren 2022 och Riksteaterturné under hösten 2022. \nUrpremiär den 26 mars.
URL:https://folk.nu/evenemang/landsbygdsupproret-runemo-byagard/
LOCATION:Runemo Byagård\, Kasernvägen 14\, Alfta\, 822 92
ATTACH;FMTTYPE=image/jpeg:https://media2.folk.nu/2022/03/Landsbygdsupproret-liggande-2.jpg
ORGANIZER;CN="Folkteatern%20G%26auml%3Bvleborg":MAILTO:info@folkteaterngavleborg.se
END:VEVENT
BEGIN:VEVENT
DTSTART;TZID=Europe/Stockholm:20220330T190000
DTEND;TZID=Europe/Stockholm:20220330T201500
DTSTAMP:20260424T125019
CREATED:20220318T182114Z
LAST-MODIFIED:20220318T182114Z
UID:1845-1648666800-1648671300@folk.nu
SUMMARY:Landsbygdsupproret | Ljusne Folkets hus
DESCRIPTION:Landsbygdsupproret \nEtt musikaliskt manifest med nyskriven musik för våra landsbygder. \nLandsbygdsupproret är en föreställning om drömmar och utopier. Om byråkrati och rationalitet. Om hopp och att våga tro på något. Och om att vi\, som befolkar Sveriges landsbygder\, har en avgörande roll att spela i en rörelse framåt. Vårens första premiär är upphottad lokalpolitik paketerad som folkmusikshow. Det blir folkbildning och folkrörelse. Tillsammans med sin tremannaorkester vill musikern Samantha Ohlanders påbörja ett samtal om hur vi skapar det samhälle vi vill ha. \n– Landsbygdsupproret är inte till för staden. Det här riktar sig direkt till oss i periferin. Ett slags samhälleligt tankeexperiment där landsbygden med dess berättelser\, erfarenheter och kultur får stå i centrum. Genom musiken kan vi skapa samtal. Koppla ihop trådarna. Brodera ut. Väven växer. Väcker aktion. Och en vilja att ta makten över sin tillvaro\, säger Samantha Ohlanders. \nSamantha Ohlanders är sedan länge engagerad i landsbygdsfrågor. Hon har tidigare turnerat med Riksteatern i de hyllade föreställningarna Fäboland och Nationalparken. Hon är aktiv i föreningen Unga på landsbygden\, som jobbar för att förändra synen på landet och utmana den urbana normen samt arbetar som krönikör för Hälsingetidningarna med fokus på landsbygdsfrågor. \nFöreställningen görs i samarbete med Riksteatern. Gävleborgsturné våren 2022 och Riksteaterturné under hösten 2022. \nUrpremiär den 26 mars.
URL:https://folk.nu/evenemang/landsbygdsupproret-ljusne-folkets-hus/
LOCATION:Ljusne Folket hus\, Granvägen 1\, Ljusne\, 820 20
ATTACH;FMTTYPE=image/jpeg:https://media2.folk.nu/2022/03/Landsbygdsupproret-liggande-1.jpg
ORGANIZER;CN="Folkteatern%20G%26auml%3Bvleborg":MAILTO:info@folkteaterngavleborg.se
END:VEVENT
BEGIN:VEVENT
DTSTART;TZID=Europe/Stockholm:20220326T153000
DTEND;TZID=Europe/Stockholm:20220326T164500
DTSTAMP:20260424T125019
CREATED:20220318T182101Z
LAST-MODIFIED:20220318T182101Z
UID:1842-1648308600-1648313100@folk.nu
SUMMARY:Landsbygdsupproret | Premiär
DESCRIPTION:Landsbygdsupproret \nEtt musikaliskt manifest med nyskriven musik för våra landsbygder. \nLandsbygdsupproret är en föreställning om drömmar och utopier. Om byråkrati och rationalitet. Om hopp och att våga tro på något. Och om att vi\, som befolkar Sveriges landsbygder\, har en avgörande roll att spela i en rörelse framåt. Vårens första premiär är upphottad lokalpolitik paketerad som folkmusikshow. Det blir folkbildning och folkrörelse. Tillsammans med sin tremannaorkester vill musikern Samantha Ohlanders påbörja ett samtal om hur vi skapar det samhälle vi vill ha. \n– Landsbygdsupproret är inte till för staden. Det här riktar sig direkt till oss i periferin. Ett slags samhälleligt tankeexperiment där landsbygden med dess berättelser\, erfarenheter och kultur får stå i centrum. Genom musiken kan vi skapa samtal. Koppla ihop trådarna. Brodera ut. Väven växer. Väcker aktion. Och en vilja att ta makten över sin tillvaro\, säger Samantha Ohlanders. \nSamantha Ohlanders är sedan länge engagerad i landsbygdsfrågor. Hon har tidigare turnerat med Riksteatern i de hyllade föreställningarna Fäboland och Nationalparken. Hon är aktiv i föreningen Unga på landsbygden\, som jobbar för att förändra synen på landet och utmana den urbana normen samt arbetar som krönikör för Hälsingetidningarna med fokus på landsbygdsfrågor. \nFöreställningen görs i samarbete med Riksteatern. Gävleborgsturné våren 2022 och Riksteaterturné under hösten 2022. \nUrpremiär den 26 mars.
URL:https://folk.nu/evenemang/landsbygdsupproret-premiar/
LOCATION:Kulturhuset Fyren\, Norrsundet\, Kvistholmsvägen 21\, Norrsundet\, 817 30
ATTACH;FMTTYPE=image/jpeg:https://media2.folk.nu/2022/03/Landsbygdsupproret-liggande.jpg
ORGANIZER;CN="Folkteatern%20G%26auml%3Bvleborg":MAILTO:info@folkteaterngavleborg.se
END:VEVENT
BEGIN:VEVENT
DTSTART;TZID=Europe/Stockholm:20220324T180000
DTEND;TZID=Europe/Stockholm:20220324T193000
DTSTAMP:20260424T125019
CREATED:20220317T135833Z
LAST-MODIFIED:20220317T135833Z
UID:1809-1648144800-1648150200@folk.nu
SUMMARY:Landsbygdsupproret | Generalrepetion
DESCRIPTION:Välkommen på generalrepetition! \nNu bjuder vi in till generalrepetitioner av den kommande showen Landsbygdsupproret där du som publik får ta del av det intensiva arbetet mot premiär. Fri entré\, men föranmälan krävs via vår hemsida: https://folkteaterngavleborg.se/program/landsbygdsupproret/ \nKom och få en inblick i hur föreställningen växer fram och får liv! \nOm Landsbygdsupproret \nEtt musikaliskt manifest med nyskriven musik för våra landsbygder. \nLandsbygdsupproret är en föreställning om drömmar och utopier. Om byråkrati och rationalitet. Om hopp och att våga tro på något. Och om att vi\, som befolkar Sveriges landsbygder\, har en avgörande roll att spela i en rörelse framåt. Vårens första premiär är upphottad lokalpolitik paketerad som folkmusikshow. Det blir folkbildning och folkrörelse. Tillsammans med sin tremannaorkester vill musikern Samantha Ohlanders påbörja ett samtal om hur vi skapar det samhälle vi vill ha. \n– Landsbygdsupproret är inte till för staden. Det här riktar sig direkt till oss i periferin. Ett slags samhälleligt tankeexperiment där landsbygden med dess berättelser\, erfarenheter och kultur får stå i centrum. Genom musiken kan vi skapa samtal. Koppla ihop trådarna. Brodera ut. Väven växer. Väcker aktion. Och en vilja att ta makten över sin tillvaro\, säger Samantha Ohlanders. \nSamantha Ohlanders är sedan länge engagerad i landsbygdsfrågor. Hon har tidigare turnerat med Riksteatern i de hyllade föreställningarna Fäboland och Nationalparken. Hon är aktiv i föreningen Unga på landsbygden\, som jobbar för att förändra synen på landet och utmana den urbana normen samt arbetar som krönikör för Hälsingetidningarna med fokus på landsbygdsfrågor. \nFöreställningen görs i samarbete med Riksteatern. Gävleborgsturné våren 2022 och Riksteaterturné under hösten 2022. \nUrpremiär den 26 mars.
URL:https://folk.nu/evenemang/landsbygdsupproret-generalrepetion-2/
LOCATION:Kulturhuset Fyren\, Norrsundet\, Kvistholmsvägen 21\, Norrsundet\, 817 30
ATTACH;FMTTYPE=image/jpeg:https://media2.folk.nu/2022/03/landsbygdsupproret_6W7A8322-1-scaled.jpg
ORGANIZER;CN="Folkteatern%20G%26auml%3Bvleborg":MAILTO:info@folkteaterngavleborg.se
END:VEVENT
BEGIN:VEVENT
DTSTART;TZID=Europe/Stockholm:20220323T190000
DTEND;TZID=Europe/Stockholm:20220323T203000
DTSTAMP:20260424T125019
CREATED:20220317T135814Z
LAST-MODIFIED:20220317T135814Z
UID:1805-1648062000-1648067400@folk.nu
SUMMARY:Landsbygdsupproret | Generalrepetion
DESCRIPTION:Välkommen på generalrepetition! \nNu bjuder vi in till generalrepetitioner av den kommande showen Landsbygdsupproret där du som publik får ta del av det intensiva arbetet mot premiär. Fri entré\, men föranmälan krävs via vår hemsida: https://folkteaterngavleborg.se/program/landsbygdsupproret/ \nKom och få en inblick i hur föreställningen växer fram och får liv! \nOm Landsbygdsupproret \nEtt musikaliskt manifest med nyskriven musik för våra landsbygder. \nLandsbygdsupproret är en föreställning om drömmar och utopier. Om byråkrati och rationalitet. Om hopp och att våga tro på något. Och om att vi\, som befolkar Sveriges landsbygder\, har en avgörande roll att spela i en rörelse framåt. Vårens första premiär är upphottad lokalpolitik paketerad som folkmusikshow. Det blir folkbildning och folkrörelse. Tillsammans med sin tremannaorkester vill musikern Samantha Ohlanders påbörja ett samtal om hur vi skapar det samhälle vi vill ha. \n– Landsbygdsupproret är inte till för staden. Det här riktar sig direkt till oss i periferin. Ett slags samhälleligt tankeexperiment där landsbygden med dess berättelser\, erfarenheter och kultur får stå i centrum. Genom musiken kan vi skapa samtal. Koppla ihop trådarna. Brodera ut. Väven växer. Väcker aktion. Och en vilja att ta makten över sin tillvaro\, säger Samantha Ohlanders.  \nSamantha Ohlanders är sedan länge engagerad i landsbygdsfrågor. Hon har tidigare turnerat med Riksteatern i de hyllade föreställningarna Fäboland och Nationalparken. Hon är aktiv i föreningen Unga på landsbygden\, som jobbar för att förändra synen på landet och utmana den urbana normen samt arbetar som krönikör för Hälsingetidningarna med fokus på landsbygdsfrågor. \nFöreställningen görs i samarbete med Riksteatern. Gävleborgsturné våren 2022 och Riksteaterturné under hösten 2022.  \nUrpremiär den 26 mars.
URL:https://folk.nu/evenemang/landsbygdsupproret-generalrepetion/
LOCATION:Kulturhuset Fyren\, Norrsundet\, Kvistholmsvägen 21\, Norrsundet\, 817 30
ATTACH;FMTTYPE=image/jpeg:https://media2.folk.nu/2022/03/landsbygdsupproret_6W7A8322-scaled.jpg
ORGANIZER;CN="Folkteatern%20G%26auml%3Bvleborg":MAILTO:info@folkteaterngavleborg.se
END:VEVENT
END:VCALENDAR