BEGIN:VCALENDAR
VERSION:2.0
PRODID:-//Folk.nu! - ECPv5.14.0.1//NONSGML v1.0//EN
CALSCALE:GREGORIAN
METHOD:PUBLISH
X-WR-CALNAME:Folk.nu!
X-ORIGINAL-URL:https://folk.nu
X-WR-CALDESC:Händelser för Folk.nu!
REFRESH-INTERVAL;VALUE=DURATION:PT1H
X-Robots-Tag:noindex
X-PUBLISHED-TTL:PT1H
BEGIN:VTIMEZONE
TZID:UTC
BEGIN:STANDARD
TZOFFSETFROM:+0000
TZOFFSETTO:+0000
TZNAME:UTC
DTSTART:20220101T000000
END:STANDARD
TZID:Europe/Stockholm
BEGIN:DAYLIGHT
TZOFFSETFROM:+0100
TZOFFSETTO:+0200
TZNAME:CEST
DTSTART:20220327T010000
END:DAYLIGHT
BEGIN:STANDARD
TZOFFSETFROM:+0200
TZOFFSETTO:+0100
TZNAME:CET
DTSTART:20221030T010000
END:STANDARD
END:VTIMEZONE
BEGIN:VEVENT
DTSTART;TZID=UTC:20220916T173000
DTEND;TZID=UTC:20220916T230000
DTSTAMP:20260423T102036
CREATED:20220829T112324Z
LAST-MODIFIED:20220829T145458Z
UID:3610-1663349400-1663369200@folk.nu
SUMMARY:Folkmusikkaféet Spel och dans
DESCRIPTION:Frivillig entréavgift \n\n\n\n\n\n17:30-19:15\nSpelmanslaget\n\n\n18:00-19:30\nTillsammansgruppen\n\n\n18:45-19:45\nNybörjardansstuga\n\n\n\nmed Mats Nilsson\n\n\n20:00-23:00\nSpel till dans\n\n\n\nFolkmusikkaféets spelmanslag och Triol inleder\, sedan följer öppen spellista\n\n\n\n  \n\n\n 
URL:https://folk.nu/evenemang/folkmusikkafeet-spel-och-dans/
LOCATION:Folkmusikkafeet\, Södra Allégatan 4\,\, Göteborg\, 413 01
ATTACH;FMTTYPE=image/jpeg:https://media2.folk.nu/2022/08/spel_och_dans_1.jpg
ORGANIZER;CN="Folkmusikkafeet":MAILTO:folkmusikkafeet@folkmusikkafeet.net
END:VEVENT
BEGIN:VEVENT
DTSTART;TZID=Europe/Stockholm:20220902T183000
DTEND;TZID=Europe/Stockholm:20220904T210000
DTSTAMP:20260423T102036
CREATED:20220823T095033Z
LAST-MODIFIED:20220823T122456Z
UID:3553-1662143400-1662325200@folk.nu
SUMMARY:Göteborg Folk Festival
DESCRIPTION:Göteborg Folk Festival startade 2019 och är en tre dagar lång festival med folkmusik från hela världen. Festivalen erbjuder något för alla –  för utöver en mängd olika konserter kan man även ta del av workshops\, spel till dans\, jamsessions\, artistintervjuer\, god mat och dryck\, låt- och danskurser och panelsamtal. \nFestivalen inleds traditionsenligt på Folkmusikkaféet Allégården med konserter\, kurser och dans på nordisk tema\, för att sedan övergå till folkmusik från hela världen på Musikens hus\, Hängmattan\, Skeppet och caféer och pubar runt Stigberstorget. \nSe program\, och boka biljett via vår hemsida:\nwww.goteborgfolkfestival.com
URL:https://folk.nu/evenemang/goteborg-folk-festival/
LOCATION:Musikens hus\, Göteborg\, Djurgårdsgatan 13\, Göteborg\, 414 62 Göteborg
ATTACH;FMTTYPE=image/png:https://media2.folk.nu/2022/08/Skarmavbild-2022-08-23-kl.-10.57.45.png
ORGANIZER;CN="Folkmusikkafeet":MAILTO:folkmusikkafeet@folkmusikkafeet.net
END:VEVENT
BEGIN:VEVENT
DTSTART;TZID=Europe/Stockholm:20220429T173000
DTEND;TZID=Europe/Stockholm:20220429T233000
DTSTAMP:20260423T102036
CREATED:20220218T112645Z
LAST-MODIFIED:20220219T161938Z
UID:1315-1651253400-1651275000@folk.nu
SUMMARY:Konsert och DANS: Ellika Frisell & Emma Reid|Folkmusikkaféet Allégården
DESCRIPTION:Två spelmän med musiken från Bingsjö som specialitet. En musik med tuggmotstånd\, vild\, vacker och egensinnig. Och Orsapolskorna\, låtar som pratar\, och svänger hemlighetsfullt.\nEmma och Ellika är spelmän med bredd och nyfikenhet\, aktiva i många projekt och grupper i folk och världsmusiken. I denna duo öser de ur sin favoritrepertoar\, till konsert och dans\, i ett intensivt samspel för öron och ögon. \n\n\n\n17:30-19:15\nSpelmanslaget\n\n\n18:45-19:45\nSpelstuga\n\n\n\nmed Lars-Gunnar Franzén\, låtar från Västerdalarna och Värmland\n\n\n18:45-19:45\nDansstuga\n\n\n\nmed Håkan Lindberg\, bodapolska\n\n\n20:00-23:00\nElika Frisell & Emma Reid\n\n\nI pausen\nI pausen spelar Kristians kapell
URL:https://folk.nu/evenemang/konsert-och-dans-ellika-frisell-emma-reid-folkmusikkafeet-allegarden/
LOCATION:Folkmusikkafeet\, Södra Allégatan 4\,\, Göteborg\, 413 01
ATTACH;FMTTYPE=image/jpeg:https://media2.folk.nu/2022/02/29april.jpg
ORGANIZER;CN="Folkmusikkafeet":MAILTO:folkmusikkafeet@folkmusikkafeet.net
END:VEVENT
BEGIN:VEVENT
DTSTART;TZID=Europe/Stockholm:20220422T173000
DTEND;TZID=Europe/Stockholm:20220422T233000
DTSTAMP:20260423T102036
CREATED:20220218T112657Z
LAST-MODIFIED:20220218T112657Z
UID:1312-1650648600-1650670200@folk.nu
SUMMARY:Spelmansstämma| Folkmusikkaféet Allégården
DESCRIPTION:17:30-19:15\nSpelmanslaget\n\n\n18:00-19:30\nTillsammansgruppen\n\n\n19:30-20:00\nAllspel i stora salen\n\n\n20:00-23:00\nSpel till dans\n\n\n\nefter lista i stora salen. Mams & Paps\, Tageltrång och Lei-la inleder. Fortsatt buskspel i resten av huset.\n\n\n\n\nVi tackar Mams & Paps som tar hand om caféet denna kvällen
URL:https://folk.nu/evenemang/spelmansstamma-folkmusikkafeet-allegarden/
LOCATION:Folkmusikkafeet\, Södra Allégatan 4\,\, Göteborg\, 413 01
ATTACH;FMTTYPE=image/jpeg:https://media2.folk.nu/2022/02/22april.jpg
ORGANIZER;CN="Folkmusikkafeet":MAILTO:folkmusikkafeet@folkmusikkafeet.net
END:VEVENT
BEGIN:VEVENT
DTSTART;TZID=Europe/Stockholm:20220408T180000
DTEND;TZID=Europe/Stockholm:20220408T235900
DTSTAMP:20260423T102036
CREATED:20220217T171616Z
LAST-MODIFIED:20220217T171616Z
UID:1127-1649440800-1649462340@folk.nu
SUMMARY:Folk Youth Minifestival #1
DESCRIPTION:Folkmusikkaféet öppnar upp dörrarna till Folk Youths allra första minifestival i samarbete med oss.\nFolk Youth Västra Götaland (FY VG) arrangerar folkmusik\, dans och slöjdprojekt av och med unga personer.\nVi lever genom folkkultur!\n\nLINE UP (med reservation för små omplaceringar)\nDANSSTUGA\n18:00 Folklig dans 1 0 1\nKONSERT\n19:00-20:00 Västanvinden duo\n20:00 Dans Magdalena Eriksson och Isak Eriksson\n20:30-21:30 Kuling\n21:30 Dans med Västanvinden\n22:00-23:00 Magdalena Eriksson och Isak Eriksson\n23:00-00:00 Dans\n00:00 Gå d-natt\n_______________\nEvenemanget sker med stöd av:\nFolkmusikkaféet\nGöteborg Stad\nKultur Ungdom\nFolk You\nBilda
URL:https://folk.nu/evenemang/folk-youth-minifestival-1/
LOCATION:Folkmusikkafeet\, Södra Allégatan 4\,\, Göteborg\, 413 01
ATTACH;FMTTYPE=image/png:https://media2.folk.nu/2022/02/FY-VG-minifestival_header.png
ORGANIZER;CN="Folkmusikkafeet":MAILTO:folkmusikkafeet@folkmusikkafeet.net
END:VEVENT
BEGIN:VEVENT
DTSTART;TZID=Europe/Stockholm:20220401T173000
DTEND;TZID=Europe/Stockholm:20220401T233000
DTSTAMP:20260423T102036
CREATED:20220218T112710Z
LAST-MODIFIED:20220219T162129Z
UID:1309-1648834200-1648855800@folk.nu
SUMMARY:Konsert & DANS: Kongero|Folkmusikkaféet Allégården
DESCRIPTION:Kongero tar lyssnaren på en musikalisk\, historisk och allmänmänsklig resa med nordiska folksånger som grund. Rafflande historier med rötter i medeltiden varvas med svängig dansmusik och sång. \n\n\n\n17:30-19:15\nSpelmanslaget\n\n\n18:45-19:45\nSpelstuga\n\n\n\nPolkor ur Skogstorpatraditionen med Torbjörn Olofsson\n\n\n20:00-23:00\nKongero\n\n\nI pausen\nI pausen spelar Gôtt\n\n\n\n  \nVi tackar Polskedanslaget som tar hand om caféet denna kvällen
URL:https://folk.nu/evenemang/konsert-dans-kongero-folkmusikkafeet-allegarden/
LOCATION:Folkmusikkafeet\, Södra Allégatan 4\,\, Göteborg\, 413 01
ATTACH;FMTTYPE=image/jpeg:https://media2.folk.nu/2022/02/1april.jpg
ORGANIZER;CN="Folkmusikkafeet":MAILTO:folkmusikkafeet@folkmusikkafeet.net
END:VEVENT
BEGIN:VEVENT
DTSTART;TZID=UTC:20220325T173000
DTEND;TZID=UTC:20220325T230000
DTSTAMP:20260423T102036
CREATED:20220314T195624Z
LAST-MODIFIED:20220314T195624Z
UID:1757-1648229400-1648249200@folk.nu
SUMMARY:Spel- och danskväll || Folkmusikkaféet Allégården
DESCRIPTION:Välkomna till årets andra spel- och danskväll. Den här helgen arrangerar vi en viskurs med Maria Röjås\, i samarbete med Malungs folkhögskola. Hon har en visstuga på fredagen som är öppen även för dem som inte går viskursen\, och hon trallar till dans första halvtimman på danskvällen.\n************\nkl 18:00-19:30 Tillsammansgruppen\nkl 20:00-23:00 Spel till dans. Maria Röjås\, Höstrusk och Västkustfolk inleder\, sedan följer öppen spellista\n———–\nFrivillig entréavgift\n**********\nHjälp oss hålla nere smittspridningen! Kom gärna i god tid för att undvika köbildning vid kassan\n***********\nServering\nKaffe och te\, alkoholfri öl. Kakor. Smörgåsar\, ofta i form av buffé (även veganskt). Med viss variation i utbudet från vecka till vecka beroende på vilken förening som ansvarar för kaféet.\nTillgänglighet\nHuvudentrén har trappor. Om du behöver finns också en hiss som går från ungdomsgården. Be någon påkalla entrévärdens uppmärksamhet så att de kan låsa upp\, och gå sedan runt hörnet och in på gården. Det är skyltat fram till dörren och innanför dörren är det skyltat till hissen.
URL:https://folk.nu/evenemang/spel-och-danskvall-folkmusikkafeet-allegarden/
LOCATION:Folkmusikkafeet\, Södra Allégatan 4\,\, Göteborg\, 413 01
ATTACH;FMTTYPE=image/jpeg:https://media2.folk.nu/2022/03/fmk.jpg
ORGANIZER;CN="Folkmusikkafeet":MAILTO:folkmusikkafeet@folkmusikkafeet.net
END:VEVENT
BEGIN:VEVENT
DTSTART;TZID=Europe/Stockholm:20220318T173000
DTEND;TZID=Europe/Stockholm:20220318T233000
DTSTAMP:20260423T102036
CREATED:20220218T085846Z
LAST-MODIFIED:20220309T220414Z
UID:1306-1647624600-1647646200@folk.nu
SUMMARY:Stordanskväll\,  Zara Helje & Mats Berglund
DESCRIPTION:Välkommen till en helkväll för alla dansare. Ingen konsert – dans från 20:00 till 23:00 (den som inte dansar kan givetvis sitta bredvid dansgolvet och lyssna. Ofta spelar spelmännen bättre till dans än på konsert). \nZara Helje med rötterna i Göteborg men numera spelledare i Malungs spelmanslag och naturaliserad dalkulla spelar låtar från västerdalarna. Mats Berglund från västra Värmland spelar låtar just därifrån. Det blir svårt att sitta still när det vankas halling! \n17:30-19:15 Spelmanslaget \n18:45-19:45 Spelstuga\nLåtar från östra och norra Värmland med Hans Grönlund \n18:45-19:45 Dansstuga\nmed Mats Nilsson\, värmlandspolska \n20:00-23:00 Mats Berglund & Zara Helje
URL:https://folk.nu/evenemang/stordanskvall-zara-helje-mats-berglund/
LOCATION:Folkmusikkafeet\, Södra Allégatan 4\,\, Göteborg\, 413 01
ATTACH;FMTTYPE=image/jpeg:https://media2.folk.nu/2022/02/saramats.jpg
ORGANIZER;CN="Folkmusikkafeet":MAILTO:folkmusikkafeet@folkmusikkafeet.net
END:VEVENT
BEGIN:VEVENT
DTSTART;TZID=Europe/Stockholm:20220311T190000
DTEND;TZID=Europe/Stockholm:20220311T233000
DTSTAMP:20260423T102036
CREATED:20220218T084711Z
LAST-MODIFIED:20220301T193425Z
UID:1297-1647025200-1647041400@folk.nu
SUMMARY:Ola Bäckström och Per Gudmundson
DESCRIPTION:Per Gudmundson har ett kraftfullt och känslosamt spelsätt\, och spelar både solo och med gruppen Frifot. Pers musikaliska hemvist och kraftkälla är fioltraditionen i Rättvik. Han kan också sägas vara den som blåste liv i den slumrande traditionen på svensk säckpipa för snart två decennier sedan. Per Gudmundson arbetar på Folkmusiken Hus i Rättvik\, och han försöker också hinna med att lära ut mellan varven. \nOla Bäckström är också fiolspelman. Han syns på scen främst i grupperna Swåp och Triptyk\, men liksom Per spelar han ofta och gärna solo eller i duo med andra spelmän. Det är Ola som är kraften bakom projektet Ungt Folk\, där unga människor som spelar svensk folkmusik finner varandra i nätverk. Ola arbetar även som pedagog. \n\n\n\n17:30-19:15\nSpelmanslaget\n\n\n18:45-19:45\nSpelstuga\n\n\n\nLekstugestämmas bästa 8 marslåtar med Tove Gladh\n\n\n18:45-19:45\nDansstuga\n\n\n\nmed Peter Nordqvist\, bodapolska\n\n\n20:00-23:00\nOla Bäckström & Per Gudmundson\n\n\nI pausen\nI pausen spelar I pausen spelar Västkustsallad\n\n\n\n  \nVi tackar Skjortor och Särkar som tar hand om caféet denna kvällen
URL:https://folk.nu/evenemang/konsert-och-dans-ola-backstrom-och-per-gudmundson-folkmusikkafeet-allegarden/
LOCATION:Folkmusikkafeet\, Södra Allégatan 4\,\, Göteborg\, 413 01
ATTACH;FMTTYPE=image/jpeg:https://media2.folk.nu/2022/02/11mars.jpg
ORGANIZER;CN="Folkmusikkafeet":MAILTO:folkmusikkafeet@folkmusikkafeet.net
END:VEVENT
BEGIN:VEVENT
DTSTART;TZID=Europe/Stockholm:20220304T173000
DTEND;TZID=Europe/Stockholm:20220304T233000
DTSTAMP:20260423T102036
CREATED:20220218T084834Z
LAST-MODIFIED:20220218T102117Z
UID:1303-1646415000-1646436600@folk.nu
SUMMARY:Spel- och danskväll| Folkmusikkaféet Allégården
DESCRIPTION:17:30-19:15\nSpelmanslaget\n\n\n18:00-19:30\nTillsammansgruppen\n\n\n20:00-23:00\nSpel till dans\n\n\n\nKråkstråk\, Dan Olsson och Lars-Gunnar Franzén och Triol inleder\, sedan följer öppen spellista
URL:https://folk.nu/evenemang/spel-och-danskvall/
LOCATION:Folkmusikkafeet\, Södra Allégatan 4\,\, Göteborg\, 413 01
ATTACH;FMTTYPE=image/jpeg:https://media2.folk.nu/2022/02/4mars.jpg
ORGANIZER;CN="Folkmusikkafeet":MAILTO:folkmusikkafeet@folkmusikkafeet.net
END:VEVENT
BEGIN:VEVENT
DTSTART;TZID=Europe/Stockholm:20220225T190000
DTEND;TZID=Europe/Stockholm:20220225T233000
DTSTAMP:20260423T102036
CREATED:20220218T084655Z
LAST-MODIFIED:20220218T084655Z
UID:1294-1645815600-1645831800@folk.nu
SUMMARY:TUULTENPESÄ | Folkmusikkaféet Allégården
DESCRIPTION:TUULTENPESÄ – Vindarnas möte\nTuultenpesä utvecklar och njuter av de färger och uttrycksmöjligheter som olika flöjter kan erbjuda. Med sina olika traditioner och unika bakgrunder som musiker och kompositörer korsbefruktar och skapar de nya sound och formspråk. Ett möte mellan ålderdomligt och modernt\, tradition och förnyelse.\nMed repetitiv rytmik\, modala melodier och flera melodiska lager skapar de med små medel stor variation och nya klanger. Ur den nordiska traditionen används polskor\, hallingar\, runosånger och annat. Minimalistisk musik från modern västerländsk konstmusik och olika andra folkmusiktraditioner är också en viktig inspirationskälla.\nKonserten är ca 2 x 45 minuter.\n___________________________\n********************\nDörrar öppnar 19:00\nKonsert 20:00\n–––––\nPris: 95-180 kr\nVUXEN 180 kr (ordinarie) 150 kr (medlem)\nUNGDOM/STUDENT 95 kr (ordinarie) 75 kr (medlem)\nRFoD-MEDLEM 160 kr (ordinarie) 130 kr (medlem)\nBARN/MEDJÄLPARE Gratis\nMedlemskap är ej obligatoriskt (sen våren 2020). Medlemskap kostar 50 kr per kalenderår.\n******\nInträde betalas på plats. Via Swish\, med kort eller kontant.\n******\nHjälp oss hålla nere smittspridningen genom att komma i god tid för att undvika köbildning vid kassan 
URL:https://folk.nu/evenemang/tuultenpesa-folkmusikkafeet-allegarden/
LOCATION:Folkmusikkafeet\, Södra Allégatan 4\,\, Göteborg\, 413 01
ATTACH;FMTTYPE=image/jpeg:https://media2.folk.nu/2022/02/25feb.jpg
ORGANIZER;CN="Folkmusikkafeet":MAILTO:folkmusikkafeet@folkmusikkafeet.net
END:VEVENT
BEGIN:VEVENT
DTSTART;TZID=Europe/Stockholm:20220218T190000
DTEND;TZID=Europe/Stockholm:20220218T233000
DTSTAMP:20260423T102036
CREATED:20220218T083103Z
LAST-MODIFIED:20220218T083103Z
UID:1290-1645210800-1645227000@folk.nu
SUMMARY:Konsert och DANS: Jenny Gustafsson & Hans Kennemark | Folkmusikkaféet Allégården
DESCRIPTION:Välkomna till konsert och dans på Folkmusikkaféet Allégården!\nJa\, de flesta av covid-restriktionerna har hävts\, och vi kan dansa igen.\nJenny Gustafsson och Hans Kennemark kommer och spelar och då blir det traditionella låtar från Västergötland med den energi och de framimproviserade arrangemang som bara den säregna publikkontakten på Allégården kan frambringa. Hans och Jenny har hjärtat fullt med berättelser om alla de legendariska spelmän de trakterar låtar av. Det blir en sen kväll\, omistlig!\nKonsert ca en timma\, sedan följer dans. I pausen spelar Tagel & Co.\n___________________________\n********************\nDörrar öppnar 19:00\nKonsert 20:00\n–––––\nPris: 85-160 kr\nVUXEN 160 kr (ordinarie) 130 kr (medlem)\nUNGDOM/STUDENT 85 kr (ordinarie) 65 kr (medlem)\nRFoD-MEDLEM 140 kr (ordinarie) 110 kr (medlem)\nBARN/MEDJÄLPARE Gratis\nMedlemskap är ej obligatoriskt (sen våren 2020). Medlemskap kostar 50 kr per kalenderår.\n******\nInträde betalas på plats. Via Swish\, med kort eller kontant.\n******\nHjälp oss hålla nere smittspridningen genom att komma i god tid för att undvika köbildning vid kassan \n___________________________\n********************\nTillgänglighet\nHuvudentrén har trappor. Om du behöver finns också en hiss som går från ungdomsgården. Be någon påkalla entrévärdens uppmärksamhet så att de kan låsa upp\, och gå sedan runt hörnet och in på gården. Det är skyltat fram till dörren och innanför dörren är det skyltat till hissen.\nDe flesta av covid-restriktionerna tas bort 9/2. Det enda som kvarstår är att den som har symptom ska stanna hemma\, och att ovaccinerade vuxna ska tillämpa extra försiktighet och undvika trängsel samt stora folksamlingar inomhus. Det kommer att bli svårare att hålla avstånd när vi tar in större publik och har dans. Vi förväntar oss därför att alla som besöker Folkmusikkaféet är friska och (minst) dubbelvaccinerade mot covid19 samt följer de senaste restriktionerna från FHM.
URL:https://folk.nu/evenemang/konsert-och-dans-jenny-gustafsson-hans-kennemark-folkmusikkafeet-allegarden/
LOCATION:Folkmusikkafeet\, Södra Allégatan 4\,\, Göteborg\, 413 01
ATTACH;FMTTYPE=image/jpeg:https://media2.folk.nu/2022/02/hansjenny.jpg
ORGANIZER;CN="Folkmusikkafeet":MAILTO:folkmusikkafeet@folkmusikkafeet.net
END:VEVENT
END:VCALENDAR