BEGIN:VCALENDAR
VERSION:2.0
PRODID:-//Folk.nu! - ECPv5.14.0.1//NONSGML v1.0//EN
CALSCALE:GREGORIAN
METHOD:PUBLISH
X-WR-CALNAME:Folk.nu!
X-ORIGINAL-URL:https://folk.nu
X-WR-CALDESC:Händelser för Folk.nu!
REFRESH-INTERVAL;VALUE=DURATION:PT1H
X-Robots-Tag:noindex
X-PUBLISHED-TTL:PT1H
BEGIN:VTIMEZONE
TZID:Europe/Stockholm
BEGIN:DAYLIGHT
TZOFFSETFROM:+0100
TZOFFSETTO:+0200
TZNAME:CEST
DTSTART:20240331T010000
END:DAYLIGHT
BEGIN:STANDARD
TZOFFSETFROM:+0200
TZOFFSETTO:+0100
TZNAME:CET
DTSTART:20241027T010000
END:STANDARD
END:VTIMEZONE
BEGIN:VEVENT
DTSTART;VALUE=DATE:20241215
DTEND;VALUE=DATE:20241216
DTSTAMP:20260424T111327
CREATED:20241104T161407Z
LAST-MODIFIED:20241104T161407Z
UID:6886-1734220800-1734307199@folk.nu
SUMMARY:Jul på Folkmusikens hus – Malin & Bengan\, Boda och Rättviks spelmanslag\, konsert och dans
DESCRIPTION:Julmusik\, glögg\, spel och dans. Kan det bli bättre? Kom till Folkmusikens hus och låt dig dras med i julstämningen bland jullåtar\, änglaröster och juldofter. \n14.00 Spela med Boda spelmanslag\nVi börjar dagen med att spela låtar med Boda spelmanslag. 14.00 tar laget plats i utställningen och du är välkommen att ta med instrument och sitta in och spela med! \n16.00 Julkonsert med Malin och Bengan\nMöt två traditionsbärare i en intim\, avskalad konsert där rösterna och berättandet får ta plats. Innerligt\, varmt och humoristiskt blir det när dessa artister blandar folkmusik\, jazz och visa med ett stort mått av improvisation och lekfullhet. \nMalin Foxdal – sång\, oktavmandolin\nBengan Janson – sång\, dragspel \n18.00 Dans\nEfter konserten inleder Boda spelmanslag dansen. Rättviks spelmanslag fortsätter och därefter blir det dans till fri spellista. \nServering av glögg och julfika under eftermiddagen och kvällen..
URL:https://folk.nu/evenemang/jul-pa-folkmusikens-hus-malin-bengan-boda-och-rattviks-spelmanslag-konsert-och-dans/
LOCATION:Folkmusikens hus\, Dalagatan 7\, Rättvik\, 795 31
ATTACH;FMTTYPE=image/jpeg:https://media2.folk.nu/2024/11/abicart_malinbengan.jpg
ORGANIZER;CN="Folkmusikens%20hus":MAILTO:kontakt@folkmusikenshus.se
END:VEVENT
BEGIN:VEVENT
DTSTART;TZID=Europe/Stockholm:20241124T180000
DTEND;TZID=Europe/Stockholm:20241124T190000
DTSTAMP:20260424T111327
CREATED:20241104T160000Z
LAST-MODIFIED:20241104T160000Z
UID:6872-1732471200-1732474800@folk.nu
SUMMARY:Rydvall och Mjelva - Folklore och fantasy
DESCRIPTION:Erik Rydvall och Olav Luksengård Mjelva är två av musikerna som hörs på soundtracket till exempelvis God of War: Ragnarök och The Rings of Power. Under deras konserter möts nyckelharpa och den norska hardingfelan i ett helt unikt samspel. \nUnder konserten med Rydvall och Mjelva får vi höra musik de spelat in till soundtracken\, men också berättelser om hur det är att samarbeta med spelkompositörer och hur de medverkat till skapandet av ljudlandskap och teman till karaktärer och platser i filmer\, serier och spel. Hur gick det till när Hollywood ringde? Hur ser processen ut\, bakom det vi tittare och spelentusiaster ser? \n23-24 november anordnar Dalarnas museum “Dalarnas Fantasy och Folklore Festival” med föreläsningar\, utställningar\, workshops\, konserter och mycket mer. Konserten “Rydvall och Mjelva” är ett samarbete mellan Folkmusikens hus och Dalarnas museum i samband med festivalen. \nPlats: Dalarnas museum
URL:https://folk.nu/evenemang/rydvall-och-mjelva-folklore-och-fantasy/
LOCATION:Dalarnas museum\, Stigaregatan 2-4\, Falun\, 79121
ATTACH;FMTTYPE=image/jpeg:https://media2.folk.nu/2024/11/Bild-700x420red-scaled.jpg
ORGANIZER;CN="Folkmusikens%20hus":MAILTO:kontakt@folkmusikenshus.se
END:VEVENT
BEGIN:VEVENT
DTSTART;TZID=Europe/Stockholm:20241109T200000
DTEND;TZID=Europe/Stockholm:20241109T210000
DTSTAMP:20260424T111327
CREATED:20241104T164218Z
LAST-MODIFIED:20241104T164218Z
UID:6878-1731182400-1731186000@folk.nu
SUMMARY:Ale Möller – Xeno Manía
DESCRIPTION:XENO MANÍA – LUSTEN TILL DET FRÄMMANDE \nAle Möller har alltid haft förmågan att med ett nyfiket och öppet sinne plocka fram unika röster i musiken\, både när han verkar i internationella kretsar eller på hemmaplan. Det Möllerska soundet lockar lyssnaren att öppna nya dörrar. I rollen som estradör\, musikant\, kompositör\, professor och inspirerad föreläsare fortsätter Ale Möller att utmana och expandera musikens gränser. \nDet som började som ett beställningsverk från Sveriges Radio har nu landat i det albumet  och musikkonstverket XENO MANÍA. Ale Möller har tagit fasta på inspirationen från fyra av sina stora inspiratörer: en grekisk amanes-sångare\, en indisk baul-guru\, en legendarisk dalaspelman och en riti-spelare från Västafrika. \n– Tidigare har det alltid varit de fysiska mötena med spelvänner runt om i världen som fått igång mig. Men med XENO MANÍA upptäckte jag att de mötena allt oftare sker inuti mitt huvud. Många av mina stora inspiratörer lever ju inte längre\, men känns ändå så oerhört närvarande. Det blir lite som att jamma med de som inte längre finns! \nMed dubbla slagverk\, blåsarsektion och nyckelharpa som blandar sig med Ales alla udda instrument skapas en egen klang. Det här niomannabandet är noga utvalt av ciceronen Ale\, där varje medlem är ett starkt namn med en egen karriär. Här finns det som är signifikant för Ale Möllers konstnärskap: Ales musik blir aldrig mainstream och han lyckas kombinera det traditionella med det nya och angelägna. \n————————— \nAle Möller (div instrument)\nJonas Knutsson (saxar) och Klas Toresson \nAnna Malmström (klarinetter)\nJohan Graden (piano/keyboard)\nKarin Hammar (trombon)\nErik Rydvall (nyckelharpa)\nFelicia Westberg (bas)\nLiliana Zavala (percussion)\nRobin Cochrane (percussion) \nKonserten är en del av Folkmusiknatta och biljett köps till hela Folkmusiknattaevenemanget (helhelg eller lördagsbiljett).
URL:https://folk.nu/evenemang/ale-moller-xeno-mania/
LOCATION:Kulturhuset tio14\, Teatergatan 3\, Falun
ATTACH;FMTTYPE=image/jpeg:https://media2.folk.nu/2024/11/XENOMANIA-88-foto-OLOF_GRIND-scaled-1.jpg
ORGANIZER;CN="Folkmusikens%20hus":MAILTO:kontakt@folkmusikenshus.se
END:VEVENT
BEGIN:VEVENT
DTSTART;VALUE=DATE:20241108
DTEND;VALUE=DATE:20241110
DTSTAMP:20260424T111327
CREATED:20241104T160931Z
LAST-MODIFIED:20241104T160931Z
UID:6883-1731024000-1731196799@folk.nu
SUMMARY:Folkmusiknatta 2024
DESCRIPTION:Folkmusiknatta är festivalen för dig som söker ljuset när mörkret är som tätast\, för dig som söker musikaliska möten\, för dig som längtar efter att dansa\, för dig som vill höra bra folkmusik och för dig som bara vill vara bland\, och tillsammans med\, många trevliga människor.  \nFredag 8/11\nLördag 9/11\nKulturhuset tio14  \n\n\n\n\n\n\n\n\n\n\n\n\n\n\nFolkmusiknatta börjar redan på fredagen då bland annat Alhlberg\, Ek och Rosvall med Ulrika Bodén spelar. \nPå lördagen bjuds barnen på en gratis föreställning som heter Långt bort i skogen. Det blir även gratis work-shops på eftermiddagen.  Ungdomarna i Ungt Folk inleder sedan kvällen på Klubbscenen. Vill du dansa så gör du det till Malungs Folkhögskola\, Besta Tanterna och Falu Spelmanslag eller så sätter du dig och lyssnar på finstämd folkmusik i Ljusgården. \nHela programmet finns här.\n\n\n\n\n\n\n\n 
URL:https://folk.nu/evenemang/folkmusiknatta-2024/
LOCATION:Kulturhuset tio14\, Teatergatan 3\, Falun
ATTACH;FMTTYPE=image/jpeg:https://media2.folk.nu/2024/11/Folknatta_gangster_webb2.jpg
ORGANIZER;CN="Folkmusikens%20hus":MAILTO:kontakt@folkmusikenshus.se
END:VEVENT
END:VCALENDAR