BEGIN:VCALENDAR
VERSION:2.0
PRODID:-//Folk.nu! - ECPv5.14.0.1//NONSGML v1.0//EN
CALSCALE:GREGORIAN
METHOD:PUBLISH
X-WR-CALNAME:Folk.nu!
X-ORIGINAL-URL:https://folk.nu
X-WR-CALDESC:Händelser för Folk.nu!
REFRESH-INTERVAL;VALUE=DURATION:PT1H
X-Robots-Tag:noindex
X-PUBLISHED-TTL:PT1H
BEGIN:VTIMEZONE
TZID:Europe/Stockholm
BEGIN:DAYLIGHT
TZOFFSETFROM:+0100
TZOFFSETTO:+0200
TZNAME:CEST
DTSTART:20220327T010000
END:DAYLIGHT
BEGIN:STANDARD
TZOFFSETFROM:+0200
TZOFFSETTO:+0100
TZNAME:CET
DTSTART:20221030T010000
END:STANDARD
TZID:UTC
BEGIN:STANDARD
TZOFFSETFROM:+0000
TZOFFSETTO:+0000
TZNAME:UTC
DTSTART:20220101T000000
END:STANDARD
END:VTIMEZONE
BEGIN:VEVENT
DTSTART;TZID=Europe/Stockholm:20221125T200000
DTEND;TZID=Europe/Stockholm:20221125T223000
DTSTAMP:20260420T125736
CREATED:20220914T111549Z
LAST-MODIFIED:20220914T111549Z
UID:3827-1669406400-1669415400@folk.nu
SUMMARY:Öppen folkdanskväll
DESCRIPTION:Välkommen att prova på folkdans med Folkdanssällskapet National. \nVåra musiker spelar och dansledarna lär ut folkdanser från mestadels Sverige men också från andra länder. \nDet kostar inget att vara med men vi bryter ca kl. 21:00 för fika á 10:-/person.
URL:https://folk.nu/evenemang/oppen-folkdanskvall/
LOCATION:Gräfsnäsgården\, Landskapsstugevägen 2\, Göteborg
ORGANIZER;CN="Folkdanss%26auml%3Bllskapet%20National":MAILTO:sekr.national@folkdansringen.se
END:VEVENT
BEGIN:VEVENT
DTSTART;TZID=Europe/Stockholm:20221028T200000
DTEND;TZID=Europe/Stockholm:20221028T223000
DTSTAMP:20260420T125736
CREATED:20220914T111603Z
LAST-MODIFIED:20220914T111603Z
UID:3829-1666987200-1666996200@folk.nu
SUMMARY:Öppen Folkdanskväll på Kulturnatta 2022
DESCRIPTION:Välkommen att prova på folkdans med Folkdanssällskapet National. \nVåra musiker spelar och dansledarna lär ut folkdanser från mestadels Sverige men också från andra länder. \nDet kostar inget att vara med men vi bryter ca kl. 21:00 för fika á 10:-/person.
URL:https://folk.nu/evenemang/oppen-folkdanskvall-pa-kulturnatta-2022/
LOCATION:Gräfsnäsgården\, Landskapsstugevägen 2\, Göteborg
ORGANIZER;CN="Folkdanss%26auml%3Bllskapet%20National":MAILTO:sekr.national@folkdansringen.se
END:VEVENT
BEGIN:VEVENT
DTSTART;TZID=Europe/Stockholm:20220930T200000
DTEND;TZID=Europe/Stockholm:20220930T223000
DTSTAMP:20260420T125736
CREATED:20220914T111529Z
LAST-MODIFIED:20220914T111529Z
UID:3825-1664568000-1664577000@folk.nu
SUMMARY:Öppna folkdanskvällar
DESCRIPTION:Välkommen att prova på folkdans med Folkdanssällskapet National. \nVåra musiker spelar och dansledarna lär ut folkdanser från mestadels Sverige men också från andra länder. \nDet kostar inget att vara med men vi bryter ca kl. 21:00 för fika á 10:-/person.
URL:https://folk.nu/evenemang/oppna-folkdanskvallar/
LOCATION:Gräfsnäsgården\, Landskapsstugevägen 2\, Göteborg
ORGANIZER;CN="Folkdanss%26auml%3Bllskapet%20National":MAILTO:sekr.national@folkdansringen.se
END:VEVENT
BEGIN:VEVENT
DTSTART;TZID=Europe/Stockholm:20220520T180000
DTEND;TZID=Europe/Stockholm:20220520T190000
DTSTAMP:20260420T125736
CREATED:20220226T210555Z
LAST-MODIFIED:20220228T064300Z
UID:1533-1653069600-1653073200@folk.nu
SUMMARY:Folkdans för barn
DESCRIPTION:Folklig dans till levande musik för barn 7-12 år. Vi dansar i Gräfsnäsgårdens annex i Slottsskogen klockan 18-19 varannan fredag med start vecka 8.\nDet är gratis att prova på men bli gärna medlem om du kommer flera gånger. Det kostar 300:-/år för barn och ungdomar.
URL:https://folk.nu/evenemang/folkdans-for-barn-6/
LOCATION:Gräfsnäsgårdens annex\, Slottsskogen\, Landskapsstugevägen 2\, Göteborg
ATTACH;FMTTYPE=image/jpeg:https://media2.folk.nu/2022/02/CCEF20D8-4946-4AF2-8BD3-D7FD1A54B341.jpeg
ORGANIZER;CN="Folkdanss%26auml%3Bllskapet%20National":MAILTO:sekr.national@folkdansringen.se
END:VEVENT
BEGIN:VEVENT
DTSTART;TZID=Europe/Stockholm:20220506T180000
DTEND;TZID=Europe/Stockholm:20220506T190000
DTSTAMP:20260420T125736
CREATED:20220226T210537Z
LAST-MODIFIED:20220227T154325Z
UID:1530-1651860000-1651863600@folk.nu
SUMMARY:Folkdans för barn
DESCRIPTION:Folklig dans till levande musik för barn 7-12 år. Vi dansar i Gräfsnäsgårdens annex i Slottsskogen klockan 18-19 varannan fredag med start vecka 8.\nDet är gratis att prova på men bli gärna medlem om du kommer flera gånger. Det kostar 300:-/år för barn och ungdomar.
URL:https://folk.nu/evenemang/folkdans-for-barn-5/
LOCATION:Gräfsnäsgårdens annex\, Slottsskogen\, Landskapsstugevägen 2\, Göteborg
ATTACH;FMTTYPE=image/jpeg:https://media2.folk.nu/2022/02/37856A75-6737-4BED-9567-CFC2986E05CD.jpeg
ORGANIZER;CN="Folkdanss%26auml%3Bllskapet%20National":MAILTO:sekr.national@folkdansringen.se
END:VEVENT
BEGIN:VEVENT
DTSTART;TZID=UTC:20220429T183000
DTEND;TZID=UTC:20220429T220000
DTSTAMP:20260420T125736
CREATED:20220425T092539Z
LAST-MODIFIED:20220425T092539Z
UID:2368-1651257000-1651269600@folk.nu
SUMMARY:Dansens dag i Göteborg
DESCRIPTION:En dag full med dans!\nFolkdanssällskapet National och GNDS bjuder upp till dans och musik på Götaplatsen. Dans och spel i kvällssolen för och med de som passerar. 18.30\nEfter dansen på Göteplatsen är alla välkomna till Gräfsnäsgården för lite soppa\, fika och sedan kvällsdans på fint trägolv med Nationals spelmän som välkomnar alla som vill vara med och spela på kvällen. Från kl 19:00\nVill du ha soppa så anmäl dig gärna till  ylva.ewaldz@gmail.com – kostnad: 40 kr för soppan och fika!
URL:https://folk.nu/evenemang/dansens-dag-i-goteborg/
LOCATION:Götaplatsen\, Göteborg
ATTACH;FMTTYPE=image/jpeg:https://media2.folk.nu/2022/03/dansfotter.jpg
ORGANIZER;CN="Folkdanss%26auml%3Bllskapet%20National":MAILTO:sekr.national@folkdansringen.se
END:VEVENT
BEGIN:VEVENT
DTSTART;TZID=Europe/Stockholm:20220422T180000
DTEND;TZID=Europe/Stockholm:20220422T190000
DTSTAMP:20260420T125736
CREATED:20220226T210525Z
LAST-MODIFIED:20220226T210525Z
UID:1527-1650650400-1650654000@folk.nu
SUMMARY:Folkdans för barn
DESCRIPTION:Folklig dans till levande musik för barn 7-12 år. Vi dansar i Gräfsnäsgårdens annex i Slottsskogen klockan 18-19 varannan fredag med start vecka 8.\nDet är gratis att prova på men bli gärna medlem om du kommer flera gånger. Det kostar 300:-/år för barn och ungdomar.
URL:https://folk.nu/evenemang/folkdans-for-barn-4/
LOCATION:Gräfsnäsgårdens annex\, Slottsskogen\, Landskapsstugevägen 2\, Göteborg
ATTACH;FMTTYPE=image/jpeg:https://media2.folk.nu/2022/02/3AAABDCC-6E11-4C32-86D3-FB1FEEFD89AA.jpeg
ORGANIZER;CN="Folkdanss%26auml%3Bllskapet%20National":MAILTO:sekr.national@folkdansringen.se
END:VEVENT
BEGIN:VEVENT
DTSTART;TZID=Europe/Stockholm:20220408T180000
DTEND;TZID=Europe/Stockholm:20220408T190000
DTSTAMP:20260420T125736
CREATED:20220227T154355Z
LAST-MODIFIED:20220227T154355Z
UID:1521-1649440800-1649444400@folk.nu
SUMMARY:Folkdans för barn
DESCRIPTION:Folklig dans till levande musik för barn 7-12 år. Vi dansar i Gräfsnäsgårdens annex i Slottsskogen kl 18-19 varannan fredag med start v 8.\nDet är gratis att prova på men bli gärna medlem om du kommer flera gånger. Det kostar 300:-/år för barn och ungdomar.
URL:https://folk.nu/evenemang/folkdans-for-barn-7/
LOCATION:Gräfsnäsgårdens annex\, Slottsskogen\, Landskapsstugevägen 2\, Göteborg
ATTACH;FMTTYPE=image/jpeg:https://media2.folk.nu/2022/02/C3AE047D-E9C3-4021-8577-4FD58087200B.jpeg
ORGANIZER;CN="Folkdanss%26auml%3Bllskapet%20National":MAILTO:sekr.national@folkdansringen.se
END:VEVENT
BEGIN:VEVENT
DTSTART;TZID=Europe/Stockholm:20220325T180000
DTEND;TZID=Europe/Stockholm:20220325T190000
DTSTAMP:20260420T125736
CREATED:20220226T210503Z
LAST-MODIFIED:20220227T154534Z
UID:1517-1648231200-1648234800@folk.nu
SUMMARY:Folkdans för barn
DESCRIPTION:Folklig dans till levande musik för barn 7-12 år. Vi dansar i Gräfsnäsgårdens annex i Slottsskogen klockan 18-19 varannan fredag med start vecka 8. \nDet är gratis att prova på men bli gärna medlem om du kommer flera gånger. Det kostar 300:-/år för barn och ungdomar.
URL:https://folk.nu/evenemang/folkdans-for-barn-3/
LOCATION:Gräfsnäsgårdens annex\, Slottsskogen\, Landskapsstugevägen 2\, Göteborg
ATTACH;FMTTYPE=image/jpeg:https://media2.folk.nu/2022/02/3701D4A2-EA14-4AD1-B55B-CB595D1EEEAA.jpeg
ORGANIZER;CN="Folkdanss%26auml%3Bllskapet%20National":MAILTO:sekr.national@folkdansringen.se
END:VEVENT
BEGIN:VEVENT
DTSTART;TZID=Europe/Stockholm:20220311T180000
DTEND;TZID=Europe/Stockholm:20220311T190000
DTSTAMP:20260420T125736
CREATED:20220226T210446Z
LAST-MODIFIED:20220227T154522Z
UID:1514-1647021600-1647025200@folk.nu
SUMMARY:Folkdans för barn
DESCRIPTION:Folklig dans till levande musik för barn 7-12 år. Vi dansar i Gräfsnäsgårdens annex i Slottsskogen klockan 18-19 varannan fredag med start vecka 8.\nDet är gratis att prova på men bli gärna medlem om du kommer flera gånger. Det kostar 300:-/år för barn och ungdomar.
URL:https://folk.nu/evenemang/folkdans-for-barn-2/
LOCATION:Gräfsnäsgårdens annex\, Slottsskogen\, Landskapsstugevägen 2\, Göteborg
ATTACH;FMTTYPE=image/jpeg:https://media2.folk.nu/2022/02/7AC621D5-D6B4-4D44-B31B-9D10ED3A0571.jpeg
ORGANIZER;CN="Folkdanss%26auml%3Bllskapet%20National":MAILTO:sekr.national@folkdansringen.se
END:VEVENT
BEGIN:VEVENT
DTSTART;TZID=Europe/Stockholm:20220225T180000
DTEND;TZID=Europe/Stockholm:20220225T190000
DTSTAMP:20260420T125736
CREATED:20220224T080408Z
LAST-MODIFIED:20220224T080408Z
UID:1476-1645812000-1645815600@folk.nu
SUMMARY:Folkdans för barn
DESCRIPTION:Folklig dans till levande musik för barn mellan 7-12 år. Vi dansar kl 18-19 varannan fredag med start vecka 8. Kom och prova på!
URL:https://folk.nu/evenemang/folkdans-for-barn/
LOCATION:Gräfsnäsgårdens annex\, Slottsskogen\, Landskapsstugevägen 2\, Göteborg
ATTACH;FMTTYPE=image/jpeg:https://media2.folk.nu/2022/02/516434C5-D24D-4B3E-9BB9-14495660AF4E.jpeg
ORGANIZER;CN="Folkdanss%26auml%3Bllskapet%20National":MAILTO:sekr.national@folkdansringen.se
END:VEVENT
END:VCALENDAR