BEGIN:VCALENDAR
VERSION:2.0
PRODID:-//Folk.nu! - ECPv5.14.0.1//NONSGML v1.0//EN
CALSCALE:GREGORIAN
METHOD:PUBLISH
X-WR-CALNAME:Folk.nu!
X-ORIGINAL-URL:https://folk.nu
X-WR-CALDESC:Händelser för Folk.nu!
REFRESH-INTERVAL;VALUE=DURATION:PT1H
X-Robots-Tag:noindex
X-PUBLISHED-TTL:PT1H
BEGIN:VTIMEZONE
TZID:Europe/Stockholm
BEGIN:DAYLIGHT
TZOFFSETFROM:+0100
TZOFFSETTO:+0200
TZNAME:CEST
DTSTART:20230326T010000
END:DAYLIGHT
BEGIN:STANDARD
TZOFFSETFROM:+0200
TZOFFSETTO:+0100
TZNAME:CET
DTSTART:20231029T010000
END:STANDARD
END:VTIMEZONE
BEGIN:VEVENT
DTSTART;TZID=Europe/Stockholm:20231118T183000
DTEND;TZID=Europe/Stockholm:20231118T220000
DTSTAMP:20260421T133449
CREATED:20231025T143423Z
LAST-MODIFIED:20231025T143423Z
UID:5680-1700332200-1700344800@folk.nu
SUMMARY:Danskväll med Tensta Spelmanslag och Folkdansringen Stockholm
DESCRIPTION:Danskväll med Tensta Spelmanslag och en blandad repertoar med både pardans och folkdanser. \nTid: kl. 18.30-22.00\nDatum: Lördag 18 november\nEntré: 120 kr (om du inte har deltagit i Folkdansringen Stockholms kurs med tema Uppland under dagen\, då är det gratis inträde\, se separat evenemang på folk.nu om kursen). Betalas med kontanter eller Swish. \nMöjlighet finns att köpa fika (30 kr) under kvällen. \nReservation för ändringar. \nFrågor dans-musik@folkdansringen-stockholm.se \nArrangör: Folkdansringen Stockholm
URL:https://folk.nu/evenemang/danskvall-med-tensta-spelmanslag-och-folkdansringen-stockholm/
LOCATION:Danderydsgården\, Noragårdsvägen 27\, Danderyd\, Sverige
ATTACH;FMTTYPE=image/jpeg:https://media2.folk.nu/2023/10/danskvall-18-november-2023-folkdansringen-stockholm.jpg
ORGANIZER;CN="Folkdansringen%20Stockhlm":MAILTO:kansliet@folkdansringen-stockholm.se
END:VEVENT
END:VCALENDAR