BEGIN:VCALENDAR
VERSION:2.0
PRODID:-//Folk.nu! - ECPv5.14.0.1//NONSGML v1.0//EN
CALSCALE:GREGORIAN
METHOD:PUBLISH
X-WR-CALNAME:Folk.nu!
X-ORIGINAL-URL:https://folk.nu
X-WR-CALDESC:Händelser för Folk.nu!
REFRESH-INTERVAL;VALUE=DURATION:PT1H
X-Robots-Tag:noindex
X-PUBLISHED-TTL:PT1H
BEGIN:VTIMEZONE
TZID:Europe/Stockholm
BEGIN:DAYLIGHT
TZOFFSETFROM:+0100
TZOFFSETTO:+0200
TZNAME:CEST
DTSTART:20220327T010000
END:DAYLIGHT
BEGIN:STANDARD
TZOFFSETFROM:+0200
TZOFFSETTO:+0100
TZNAME:CET
DTSTART:20221030T010000
END:STANDARD
BEGIN:DAYLIGHT
TZOFFSETFROM:+0100
TZOFFSETTO:+0200
TZNAME:CEST
DTSTART:20230326T010000
END:DAYLIGHT
BEGIN:STANDARD
TZOFFSETFROM:+0200
TZOFFSETTO:+0100
TZNAME:CET
DTSTART:20231029T010000
END:STANDARD
BEGIN:DAYLIGHT
TZOFFSETFROM:+0100
TZOFFSETTO:+0200
TZNAME:CEST
DTSTART:20240331T010000
END:DAYLIGHT
BEGIN:STANDARD
TZOFFSETFROM:+0200
TZOFFSETTO:+0100
TZNAME:CET
DTSTART:20241027T010000
END:STANDARD
TZID:UTC
BEGIN:STANDARD
TZOFFSETFROM:+0000
TZOFFSETTO:+0000
TZNAME:UTC
DTSTART:20220101T000000
END:STANDARD
END:VTIMEZONE
BEGIN:VEVENT
DTSTART;TZID=Europe/Stockholm:20240414T093000
DTEND;TZID=Europe/Stockholm:20240414T160000
DTSTAMP:20260424T112142
CREATED:20240320T110139Z
LAST-MODIFIED:20240320T110139Z
UID:6277-1713087000-1713110400@folk.nu
SUMMARY:Folkdräktsmarknad 2024
DESCRIPTION:Köp och sälj – allt inom folkdräkt\n*Har du dräktdelar eller en hel dräkt som du skulle vilja sälja?\n*Vill du köpa en dräkt eller del av dräkt? \nPlats: Gräfsnäsgårdens Annex\,\nLandskapsstugevägen 2\, Slottsskogen\, Göteborg \nkl 9:30 – 12:00 Inlämning för försäljning\nkl 12-13 paus för iordningställande – men fiket är öppet\nkl 13:00 – 16:00 Försäljning\nServering hela dagen av kaffe/te\, goda smörgåsar o kakor \nUpplysningar: Stina Olsson 0724 48 23 07\, Anita Nyberg 0708 98 72 78
URL:https://folk.nu/evenemang/folkdraktsmarknad-2024/
LOCATION:Gräfsnäsgårdens annex\, Slottsskogen\, Landskapsstugevägen 2\, Göteborg
ATTACH;FMTTYPE=image/jpeg:https://media2.folk.nu/2024/03/Folkdraktsmarknad-–-14-april-2024.jpg
END:VEVENT
BEGIN:VEVENT
DTSTART;TZID=Europe/Stockholm:20240303T100000
DTEND;TZID=Europe/Stockholm:20240303T150000
DTSTAMP:20260424T112142
CREATED:20240227T130306Z
LAST-MODIFIED:20240227T130306Z
UID:6189-1709460000-1709478000@folk.nu
SUMMARY:Temadag laga & ändra
DESCRIPTION:Om dräkten börjar bli sliten\, lite ful\, inte sitter så bra längre osv\nMAN KAN NÄSTAN ALLTID GÖRA NÅGOT ÅT DET\nVi berättar och visar exempel på hur man kan åtgärda olika problem. Vi kommer att\nha ett stort antal plagg med exempel.\nUtställning av dräktplagg\nTa gärna med din dräktdel som du har problem med!\nI slutet av dagen: sektionen hjälper till med råd och synpunkter på deltagarnas\negna medhavda plagg\, som kan behöva åtgärd. Vi hinner inte hjälpa till praktiskt\,\nmen kan ge råd och bedömningar.\nOM ÖNSKEMÅL FINNS\nKan vi erbjuda att ordna en uppföljningsträff när man kan få mera handfast hjälp\nmed hur man kan göra.
URL:https://folk.nu/evenemang/temadag-laga-andra-2/
LOCATION:Gräfsnäsgårdens annex\, Slottsskogen\, Landskapsstugevägen 2\, Göteborg
ATTACH;FMTTYPE=image/jpeg:https://media2.folk.nu/2024/02/temadag-VT-24-laga-andra-1.jpg
END:VEVENT
BEGIN:VEVENT
DTSTART;TZID=Europe/Stockholm:20240303T100000
DTEND;TZID=Europe/Stockholm:20240303T150000
DTSTAMP:20260424T112142
CREATED:20240227T130237Z
LAST-MODIFIED:20240227T130237Z
UID:6187-1709460000-1709478000@folk.nu
SUMMARY:Temadag laga & ändra
DESCRIPTION:Om dräkten börjar bli sliten\, lite ful\, inte sitter så bra längre osv\nMAN KAN NÄSTAN ALLTID GÖRA NÅGOT ÅT DET\nVi berättar och visar exempel på hur man kan åtgärda olika problem. Vi kommer att\nha ett stort antal plagg med exempel.\nUtställning av dräktplagg\nTa gärna med din dräktdel som du har problem med!\nI slutet av dagen: sektionen hjälper till med råd och synpunkter på deltagarnas\negna medhavda plagg\, som kan behöva åtgärd. Vi hinner inte hjälpa till praktiskt\,\nmen kan ge råd och bedömningar.\nOM ÖNSKEMÅL FINNS\nKan vi erbjuda att ordna en uppföljningsträff när man kan få mera handfast hjälp\nmed hur man kan göra.
URL:https://folk.nu/evenemang/temadag-laga-andra/
LOCATION:Gräfsnäsgårdens annex\, Slottsskogen\, Landskapsstugevägen 2\, Göteborg
ATTACH;FMTTYPE=image/jpeg:https://media2.folk.nu/2024/02/temadag-VT-24-laga-andra.jpg
END:VEVENT
BEGIN:VEVENT
DTSTART;TZID=Europe/Stockholm:20230924T110000
DTEND;TZID=Europe/Stockholm:20230924T140000
DTSTAMP:20260424T112142
CREATED:20230906T073538Z
LAST-MODIFIED:20230906T073538Z
UID:5444-1695553200-1695564000@folk.nu
SUMMARY:Studiebesök Bräcke Hembygdsgård\, Tjörn
DESCRIPTION:Ta chansen att se de gamla originalen till Bohusdräkterna! \n  \nUlla Centergran\, övriga dräktsektionen samt Hembygdsföreningen på Tjörn berättar om kläderna som finns i samlingarna. \nPå Bräcke hembygdsgård på Tjörn finns de flesta original som vi kopierar till Bohusdräkterna. Det är gamla plagg från början av 1800-talet. Det är spännande att se hur de ser ut\, materialen och hur man sydde.  Man lär sig väldigt mycket av att se gamla kläder i verkligheten.
URL:https://folk.nu/evenemang/studiebesok-bracke-hembygdsgard-tjorn/
ATTACH;FMTTYPE=image/jpeg:https://media2.folk.nu/2023/09/Affisch-Bracke.jpg
END:VEVENT
BEGIN:VEVENT
DTSTART;TZID=Europe/Stockholm:20230910T110000
DTEND;TZID=Europe/Stockholm:20230910T150000
DTSTAMP:20260424T112142
CREATED:20230906T065709Z
LAST-MODIFIED:20230906T065709Z
UID:5440-1694343600-1694358000@folk.nu
SUMMARY:Kulturarvsdagen
DESCRIPTION:Vi kommer att ha försäljning av bröd\, konsthantverk\, sylt\, honung mm\, handarbete\, slöjd\, dräkt\, musik\, guidning av våra lokaler\, visor\, uppvisning av våra herrskapsdansare och pröva på dans.
URL:https://folk.nu/evenemang/kulturarvsdagen-2/
LOCATION:Gräfsnäsgården\, Landskapsstugevägen 2\, Göteborg
ATTACH;FMTTYPE=image/png:https://media2.folk.nu/2023/09/Kulturarvsdagen-10-september-2023-1.png
END:VEVENT
BEGIN:VEVENT
DTSTART;TZID=Europe/Stockholm:20230910T110000
DTEND;TZID=Europe/Stockholm:20230910T150000
DTSTAMP:20260424T112142
CREATED:20230906T065657Z
LAST-MODIFIED:20230906T065657Z
UID:5438-1694343600-1694358000@folk.nu
SUMMARY:Kulturarvsdagen
DESCRIPTION:Vi kommer att ha försäljning av bröd\, konsthantverk\, sylt\, honung mm\, handarbete\, slöjd\, dräkt\, musik\, guidning av våra lokaler\, visor\, uppvisning av våra herrskapsdansare och pröva på dans.
URL:https://folk.nu/evenemang/kulturarvsdagen/
LOCATION:Gräfsnäsgården\, Landskapsstugevägen 2\, Göteborg
ATTACH;FMTTYPE=image/png:https://media2.folk.nu/2023/09/Kulturarvsdagen-10-september-2023.png
END:VEVENT
BEGIN:VEVENT
DTSTART;TZID=Europe/Stockholm:20230606T110000
DTEND;TZID=Europe/Stockholm:20230606T170000
DTSTAMP:20260424T112142
CREATED:20230530T122131Z
LAST-MODIFIED:20230530T122131Z
UID:5192-1686049200-1686070800@folk.nu
SUMMARY:6 juni - Nationaldagen
DESCRIPTION:Denna dagen handlar om dans\, musik\, sång och annat. Hela dagen finns det god fika till försäljning\, hantverkslotteri\, demo av dräktsömnad och slöjd\, samt prova-på-slöjd för barn o vuxna\, guidningar i husen hela dagen.
URL:https://folk.nu/evenemang/6-juni-nationaldagen-2/
ATTACH;FMTTYPE=image/jpeg:https://media2.folk.nu/2023/05/Program-nat-dag-2023.jpg
END:VEVENT
BEGIN:VEVENT
DTSTART;TZID=Europe/Stockholm:20221116T170000
DTEND;TZID=Europe/Stockholm:20221116T200000
DTSTAMP:20260424T112142
CREATED:20221108T150757Z
LAST-MODIFIED:20221108T152244Z
UID:4119-1668618000-1668628800@folk.nu
SUMMARY:Hantverkscafé
DESCRIPTION:Ta med ditt hantverk och kom\, ingen föranmälan. Har du speciella Önskemål om hjälp så hör gärna av dig till Inger-Lise Riphagen 070-4800651 eller Vera Östnäs 031-7018985.
URL:https://folk.nu/evenemang/hantverkscafe-2/
LOCATION:Gräfsnäsgårdens annex\, Slottsskogen\, Landskapsstugevägen 2\, Göteborg
ATTACH;FMTTYPE=image/png:https://media2.folk.nu/2022/11/Bild-Facebook-1.png
END:VEVENT
BEGIN:VEVENT
DTSTART;TZID=Europe/Stockholm:20221016T100000
DTEND;TZID=Europe/Stockholm:20221016T150000
DTSTAMP:20260424T112142
CREATED:20220922T065158Z
LAST-MODIFIED:20220922T065158Z
UID:3868-1665914400-1665932400@folk.nu
SUMMARY:Temadag om Mansdräkter
DESCRIPTION:Tradition och förändring\, mansdräkter och strumpeband! \n*Tradition och förändring\n– modets och uniformernas inverkan på de folkliga mansdräkterna\nUlla Centergran talar om indelningsverket och dess inverkan på manskläderna. Ulla Centergran är fil.dr. i etnologi och har ägnat sig åt folkdräkter och bygdedräkter i teori och praktik\, i nästan hela sitt liv. \n* Mansdräkter från Sveriges olika delar\nThomas Johansson talar om mansdräkter och mansplagg och visar många exempel. Det blir lite extra fokus på Thomas eget område\, Sjuhäradsbygden.\nThomas Johansson ingår i en grupp i Borås som har studerat det folkliga dräktskicket i Sjuhäradsbygden i många år\, både genom att läsa bouppteckningar och studera gamla kläder. Thomas är också duktig att sy och har kurser i dräktsömnad. Han är en del av dräktsektionen på ”Riks”. \n* Strumpeband \nbehövs både för att inte strumporna ska åka ner och som en dekorativ del av dräkten. Det blir demonstration av olika tekniker och du får chans att själv känna på dessa tekniker. \nSöndag 16 oktober 2022\, kl 10 – 15\ni Gräfsnäsgårdens Annex\, Slottsskogen Göteborg   \nPris 180 kr för medlem och 220 kr ej medlem\nLunchsmörgås och kaffe/te ingår i priset. \nAnmäl dig genom att klicka här \nAlla är välkomna ! \nDräktsektionen Folkdansringen Göteborg \nEtt samarbete med Kulturens
URL:https://folk.nu/evenemang/temadag-om-mansdrakter-2/
LOCATION:Gräfsnäsgården\, Landskapsstugevägen 2\, Göteborg
ATTACH;FMTTYPE=image/jpeg:https://media2.folk.nu/2022/09/Mansdrakter-2022-affisch-2-1-scaled.jpg
END:VEVENT
BEGIN:VEVENT
DTSTART;TZID=Europe/Stockholm:20221016T100000
DTEND;TZID=Europe/Stockholm:20221016T150000
DTSTAMP:20260424T112142
CREATED:20220922T065142Z
LAST-MODIFIED:20220922T065142Z
UID:3866-1665914400-1665932400@folk.nu
SUMMARY:Temadag om Mansdräkter
DESCRIPTION:Tradition och förändring\, mansdräkter och strumpeband! \n*Tradition och förändring\n– modets och uniformernas inverkan på de folkliga mansdräkterna\nUlla Centergran talar om indelningsverket och dess inverkan på manskläderna. Ulla Centergran är fil.dr. i etnologi och har ägnat sig åt folkdräkter och bygdedräkter i teori och praktik\, i nästan hela sitt liv. \n* Mansdräkter från Sveriges olika delar\nThomas Johansson talar om mansdräkter och mansplagg och visar många exempel. Det blir lite extra fokus på Thomas eget område\, Sjuhäradsbygden.\nThomas Johansson ingår i en grupp i Borås som har studerat det folkliga dräktskicket i Sjuhäradsbygden i många år\, både genom att läsa bouppteckningar och studera gamla kläder. Thomas är också duktig att sy och har kurser i dräktsömnad. Han är en del av dräktsektionen på ”Riks”. \n* Strumpeband \nbehövs både för att inte strumporna ska åka ner och som en dekorativ del av dräkten. Det blir demonstration av olika tekniker och du får chans att själv känna på dessa tekniker. \nSöndag 16 oktober 2022\, kl 10 – 15\ni Gräfsnäsgårdens Annex\, Slottsskogen Göteborg   \nPris 180 kr för medlem och 220 kr ej medlem\nLunchsmörgås och kaffe/te ingår i priset. \nAnmäl dig genom att klicka här \nAlla är välkomna ! \nDräktsektionen Folkdansringen Göteborg \nEtt samarbete med Kulturens
URL:https://folk.nu/evenemang/temadag-om-mansdrakter/
LOCATION:Gräfsnäsgården\, Landskapsstugevägen 2\, Göteborg
ATTACH;FMTTYPE=image/jpeg:https://media2.folk.nu/2022/09/Mansdrakter-2022-affisch-2-scaled.jpg
END:VEVENT
BEGIN:VEVENT
DTSTART;TZID=Europe/Stockholm:20221005T170000
DTEND;TZID=Europe/Stockholm:20221005T200000
DTSTAMP:20260424T112142
CREATED:20221003T140104Z
LAST-MODIFIED:20221004T073022Z
UID:3961-1664989200-1665000000@folk.nu
SUMMARY:Hantverkscafé
DESCRIPTION:Klockan 17.00 startar det upp i Källarfiket\, Gräfsnäsgårdens Annex. Inger-Lise Riphagen och Vera Östnäs bjuder in. Ta med ditt hantverk och kom\, ingen föranmälan. Har du speciella önskemål om hjälp så hör gärna av dig till någon av dem innan. Läs mer på \nhttps://goteborg.folkdansringen.se/kalender/icalrepeat.detail/2022/10/05/12359/111\,119\,122/hantverkscafe
URL:https://folk.nu/evenemang/hantverkscafe/
LOCATION:Gräfsnäsgårdens annex\, Slottsskogen\, Landskapsstugevägen 2\, Göteborg
END:VEVENT
BEGIN:VEVENT
DTSTART;TZID=Europe/Stockholm:20220526T123000
DTEND;TZID=Europe/Stockholm:20220526T233000
DTSTAMP:20260424T112142
CREATED:20220517T032048Z
LAST-MODIFIED:20220517T065856Z
UID:2802-1653568200-1653607800@folk.nu
SUMMARY:Slottskogsstämman
DESCRIPTION:Äntligen blir det åter spelmansstämma i vår vackra Gräfsnäsgård i Slottsskogen\, Göteborg. Allspel\, låt- och viskurs\, snabbkurs i folkdans och dans till härlig musik kvällen lång. Allspelsövning startar kl 12:30 och klockan 14:00 är det invigning med Allspel. Fika och enklare mat finns att köpa och i övrigt är det gratis att deltaga. Rikliga möjligheter till buskspel.
URL:https://folk.nu/evenemang/slottskogsstamman/
LOCATION:Gräfsnäsgården\, Landskapsstugevägen 2\, Göteborg
ATTACH;FMTTYPE=image/png:https://media2.folk.nu/2022/05/39D7E7F3-DF11-4613-933B-BDDA2D681B12.png
END:VEVENT
BEGIN:VEVENT
DTSTART;TZID=UTC:20220226T190000
DTEND;TZID=UTC:20220226T220000
DTSTAMP:20260424T112142
CREATED:20220225T151705Z
LAST-MODIFIED:20220225T151705Z
UID:1508-1645902000-1645912800@folk.nu
SUMMARY:Polskedanskväll
DESCRIPTION:På dagen den 26 februari kommer delar av Polskemärkeskommittén och Bedömningsnämnden till Gräfsnäsgården och lär ut polskor! Detta i ett led för att få berätta och sprida kunskap om polskeuppdansningen och förhoppningsvis locka många par att anmäla sig för att dansa upp 2022. Kursen är lördagen den 26 februari mellan 09.30 – 16.30 med avbrott för lunch (lunch ingår i priset) Kostnad 400 kr/person för medlemmar i Folkdansringen. 600 kr/person för icke medlemmar.\nFrån kl 19.00 är det polskedanskväll som är öppna för alla och där bl.a. musikerna Bengt Jonsson\, Kerstin Palm\, Gunnar Östergårds och Annika Andersson från Hälsingland medverkar. Samt lokala Mellgrens blandning från Göteborg! Danskvällen kostar 80 kr inkl. fika.
URL:https://folk.nu/evenemang/polskedanskvall/
LOCATION:Gräfsnäsgården\, Landskapsstugevägen 2\, Göteborg
ATTACH;FMTTYPE=image/jpeg:https://media2.folk.nu/2022/02/bingsjo-e1645802207389.jpg
END:VEVENT
END:VCALENDAR