BEGIN:VCALENDAR
VERSION:2.0
PRODID:-//Folk.nu! - ECPv5.14.0.1//NONSGML v1.0//EN
CALSCALE:GREGORIAN
METHOD:PUBLISH
X-WR-CALNAME:Folk.nu!
X-ORIGINAL-URL:https://folk.nu
X-WR-CALDESC:Händelser för Folk.nu!
REFRESH-INTERVAL;VALUE=DURATION:PT1H
X-Robots-Tag:noindex
X-PUBLISHED-TTL:PT1H
BEGIN:VTIMEZONE
TZID:UTC
BEGIN:STANDARD
TZOFFSETFROM:+0000
TZOFFSETTO:+0000
TZNAME:UTC
DTSTART:20250101T000000
END:STANDARD
TZID:Europe/Stockholm
BEGIN:DAYLIGHT
TZOFFSETFROM:+0100
TZOFFSETTO:+0200
TZNAME:CEST
DTSTART:20230326T010000
END:DAYLIGHT
BEGIN:STANDARD
TZOFFSETFROM:+0200
TZOFFSETTO:+0100
TZNAME:CET
DTSTART:20231029T010000
END:STANDARD
END:VTIMEZONE
BEGIN:VEVENT
DTSTART;TZID=UTC:20250404T090000
DTEND;TZID=UTC:20250405T220000
DTSTAMP:20260424T095439
CREATED:20250213T151937Z
LAST-MODIFIED:20250213T161220Z
UID:7215-1743757200-1743890400@folk.nu
SUMMARY:Folk & Världsmusikgalan
DESCRIPTION:Folk & Världsmusikgalan 2025 – En hel helg av musik\, dans och samtal! \nDatum: 4–5 april 2025Plats: Uppsala Konsert & Kongress\, Vaksala torg 1\, UppsalaBiljetter & paketpriser: Tickster \nEn hyllning till folk- och världsmusiken\nFolk & Världsmusikgalan är tillbaka – och i år bjuder vi på en hel helg fylld av konserter\, samtal\, workshops och dans. Upplev två dagar av inspiration\, fördjupning och firande\, där vi lyfter fram musikens kraft och bredd genom möten med artister\, forskare\, eldsjälar och dansare. \nNordic Folk Alliance pågår parallellt\nSamtidigt som galan arrangeras även Nordic Folk Alliance på Uppsala Konsert & Kongress – en mötesplats för den nordiska och internationella folkmusikscenen med showcasekonserter\, seminarier och nätverkande. \nVill du ta del av båda evenemangen? Det finns paketpris för hela helgen.Mer information om program och deltagare finns på www.nordicfolkalliance.com. \n\nProgramöversikt – Folk & Världsmusikgalan\nFredag 4 april – Kringarrangemang och konserter10:45–12:00 | ”Och sen då?” – Panel om nyckelharpan som immateriellt kulturarv13:00–14:15 | Status och statuter – Var hör folksången hemma?13:00–14:15 | Vad behövs idag – för en vital och global scen imorgon? (Interaktivt samtal)19:00–20:00 | Dansa uppländskt! – Dansworkshop med Folkdansringen i Uppland20:00–21:30 | Uppländsk folkmusikkväll – En hyllning till regionens rika folkmusiktradition \nLördag 5 april – Panelsamtal\, konserter och galakonsert10:45–11:45 | Vi voro tusenden – Uppsala Musikforums roll i folkmusikens utveckling12:40–13:00 | Konsert med ULV (Uplands Låtverkstad) – Ungdomar spelar uppländsk folkmusik13:00–14:30 | LÅT! med KMH Folk – Kungliga Musikhögskolans vårkonsert18:30–19:00 | 6–86 år – Dansuppvisning med Tensta Folkdanslag \nGalakonsert med prisutdelningLördag 5 april kl. 19:15–22:00 \nHöjdpunkten på helgen är den stora galakonserten\, där vi firar de främsta inom folk- och världsmusiken. Kvällen leds av Kalle Moraeus och Alice Andersson och bjuder på en storslagen konsert samt utdelning av priser i sju kategorier. \n\nStjärnspäckade liveframträdanden\nPrisutdelning i sju kategorier\nEfterfest och mingel på Katalin\n\nBiljetterna är begränsade – säkra din plats redan idag.Tickster \nFör mer information om programmet\, nominerade och artister\, samt paketpriser och det parallella programmet på Nordic Folk Alliance\, besök: www.folkgalan.se och www.nordicfolkalliance.com. \n\nStarta galahelgen redan torsdag 3 april\nTorsdag 3 april kl. 19:30 bjuder Fränder & Vänner in till Fränder & Vänner International Folk Music Festival på Uppsala Social Club – en kväll fylld av gränslös folkmusik och härlig stämning. \nPerfekt uppladdning inför Folk & Världsmusikgalan. Kom och fira med oss!Biljetter till festivalen köps via en separat länk – mer information kommer snart. \n\nFolk & Världsmusikgalan arrangeras av Riksförbundet för Folkmusik och Dans i samarbete med Eric Sahlström Institutet\, Folk You – Folkkultur för Unga\, Folkmusikens Hus\, Uppsala Konsert & Kongress och Musik i Uppland. \nFler samarbetsparter är Uplands Spelmansförbund\, Folkdansringen Uppland\, Sensus\, Stallet Världens Musik\, Sveriges Spelmäns Riksförbund\, LÅT! – Kungliga Musikhögskolan\, EPOS – Equality and Plurality on Stage\, Stim\, Musikalliansen\, Gustav Adolfs Akademien med flera. \nGalan genomförs med stöd från Region Uppsala\, Uppsala Kommun\, Världsklass Uppsala och Kulturrådet
URL:https://folk.nu/evenemang/folk-varldsmusikgalan/
LOCATION:Uppsala Konsert & Kongress\, Vaksalagatan 1\, Uppsala\, 753 31\, Sverige
ATTACH;FMTTYPE=image/png:https://media2.folk.nu/2025/02/FOV_TicketsBanner.png
ORGANIZER;CN="Riksf%C3%B6rbundet%20f%C3%B6r%20Folkmusik%20och%20Dans":MAILTO:info@rfod.se
END:VEVENT
BEGIN:VEVENT
DTSTART;TZID=Europe/Stockholm:20231210T170000
DTEND;TZID=Europe/Stockholm:20231210T173000
DTSTAMP:20260424T095439
CREATED:20231023T075956Z
LAST-MODIFIED:20231023T075956Z
UID:5670-1702227600-1702229400@folk.nu
SUMMARY:SkåneFolk - Terminskonsert!
DESCRIPTION:Välkommen på konsert med Skånes svängigaste ungdomsfolkband\, SkåneFolk! De skapar ny musik ur den anrika folkmusiktradtionen. I ett ljudrum av stråk\, blås och slagverk får glada visor och fartfyllda schottisar en touch av nutida groove. SkåneFolk handleds av mentorerna Malte Zeberg & Anna Frykstam.
URL:https://folk.nu/evenemang/skanefolk-terminskonsert/
LOCATION:Rehab Kultur\, Spånehusvägen 83\, Malmö\, 21439
ATTACH;FMTTYPE=image/jpeg:https://media2.folk.nu/2023/10/20230924_150638-scaled.jpg
ORGANIZER;CN="Sk%26aring%3Bne%20folk%20youth%20ensamble":MAILTO:skanefolkyouthensamble@gmail.com
END:VEVENT
BEGIN:VEVENT
DTSTART;VALUE=DATE:20230414
DTEND;VALUE=DATE:20230416
DTSTAMP:20260424T095439
CREATED:20220909T130532Z
LAST-MODIFIED:20230309T173755Z
UID:3806-1681430400-1681603199@folk.nu
SUMMARY:Folk & Världsmusikgalan 2023
DESCRIPTION:Efter elva folk- och världsmusikgalor\, varav de senaste två helt digitala\, är det dags för galan att återuppstå den 15 april 2023 i ett av världens högsta trähus\, Sara kulturhus i Skellefteå.  \nGalaprogrammet kommer att fyllas med fantastiska liveframträdanden\, prisutdelning och härliga kringaktiviteter. Vi är exalterade över att vi snart ses igen. Spara datumet så kommer mer information om galan och allt runt omkring inom kort. \nHuvudarrangör för Folk & Världsmusikgalan är Riksförbundet för Folkmusik och Dans. Galans partners är Folk You – Folkkultur för unga\, Eric Sahlström Institutet och Folkmusikens Hus. Övriga samarbetspartners för kommande gala är Norrlandsoperan\, Sara kulturhus\, Kulturens Bildningsverksamhet\, Västerbottens Spelmansförbund och Burträsksvängen med flera \nFrån och med nu är Folk & Världsmusikgalan biennal och arrangeras vartannat år. Annars är allt som vanligt\, förslagslådan öppnar den 1 oktober på folkgalan.se och juryn är förväntansfull att se era förslag! \nSe hela programmet på www.folkgalan.se
URL:https://folk.nu/evenemang/folk-varldsmusikgalan-2023/
LOCATION:Sara kulturhus\, Kanalgatan 43b\, Skellefteå\, 931 31
ATTACH;FMTTYPE=image/jpeg:https://media2.folk.nu/2022/09/FOV22_Banner_1-1-scaled.jpg
ORGANIZER;CN="Riksf%C3%B6rbundet%20f%C3%B6r%20Folkmusik%20och%20Dans":MAILTO:info@rfod.se
END:VEVENT
END:VCALENDAR