BEGIN:VCALENDAR
VERSION:2.0
PRODID:-//Folk.nu! - ECPv5.14.0.1//NONSGML v1.0//EN
CALSCALE:GREGORIAN
METHOD:PUBLISH
X-WR-CALNAME:Folk.nu!
X-ORIGINAL-URL:https://folk.nu
X-WR-CALDESC:Händelser för Folk.nu!
REFRESH-INTERVAL;VALUE=DURATION:PT1H
X-Robots-Tag:noindex
X-PUBLISHED-TTL:PT1H
BEGIN:VTIMEZONE
TZID:Europe/Stockholm
BEGIN:DAYLIGHT
TZOFFSETFROM:+0100
TZOFFSETTO:+0200
TZNAME:CEST
DTSTART:20230326T010000
END:DAYLIGHT
BEGIN:STANDARD
TZOFFSETFROM:+0200
TZOFFSETTO:+0100
TZNAME:CET
DTSTART:20231029T010000
END:STANDARD
END:VTIMEZONE
BEGIN:VEVENT
DTSTART;TZID=Europe/Stockholm:20230304T193000
DTEND;TZID=Europe/Stockholm:20230304T233000
DTSTAMP:20260421T120136
CREATED:20230129T223557Z
LAST-MODIFIED:20230129T223557Z
UID:4588-1677958200-1677972600@folk.nu
SUMMARY:Felan-kväll med Väsen
DESCRIPTION:Konsert & danskväll + spel på loftet. Konsert 19:30-20:30\, därefter dans och buskspel på loftet.
URL:https://folk.nu/evenemang/felan-kvall-med-vasen/
LOCATION:Teaterladan i Wadköping\, Örebro\, Bertil Waldéns gata 1\, Örebro
ATTACH;FMTTYPE=image/jpeg:https://media2.folk.nu/2023/01/Vasen-Duo-Mellan-scaled.jpg
ORGANIZER;CN="Felan%2C%20%26Ouml%3Brebro":MAILTO:felan_ffod@hotmail.com
END:VEVENT
END:VCALENDAR