BEGIN:VCALENDAR
VERSION:2.0
PRODID:-//Folk.nu! - ECPv5.14.0.1//NONSGML v1.0//EN
CALSCALE:GREGORIAN
METHOD:PUBLISH
X-WR-CALNAME:Folk.nu!
X-ORIGINAL-URL:https://folk.nu
X-WR-CALDESC:Händelser för Folk.nu!
REFRESH-INTERVAL;VALUE=DURATION:PT1H
X-Robots-Tag:noindex
X-PUBLISHED-TTL:PT1H
BEGIN:VTIMEZONE
TZID:Europe/Stockholm
BEGIN:DAYLIGHT
TZOFFSETFROM:+0100
TZOFFSETTO:+0200
TZNAME:CEST
DTSTART:20220327T010000
END:DAYLIGHT
BEGIN:STANDARD
TZOFFSETFROM:+0200
TZOFFSETTO:+0100
TZNAME:CET
DTSTART:20221030T010000
END:STANDARD
BEGIN:DAYLIGHT
TZOFFSETFROM:+0100
TZOFFSETTO:+0200
TZNAME:CEST
DTSTART:20230326T010000
END:DAYLIGHT
BEGIN:STANDARD
TZOFFSETFROM:+0200
TZOFFSETTO:+0100
TZNAME:CET
DTSTART:20231029T010000
END:STANDARD
BEGIN:DAYLIGHT
TZOFFSETFROM:+0100
TZOFFSETTO:+0200
TZNAME:CEST
DTSTART:20240331T010000
END:DAYLIGHT
BEGIN:STANDARD
TZOFFSETFROM:+0200
TZOFFSETTO:+0100
TZNAME:CET
DTSTART:20241027T010000
END:STANDARD
BEGIN:DAYLIGHT
TZOFFSETFROM:+0100
TZOFFSETTO:+0200
TZNAME:CEST
DTSTART:20250330T010000
END:DAYLIGHT
BEGIN:STANDARD
TZOFFSETFROM:+0200
TZOFFSETTO:+0100
TZNAME:CET
DTSTART:20251026T010000
END:STANDARD
TZID:UTC
BEGIN:STANDARD
TZOFFSETFROM:+0000
TZOFFSETTO:+0000
TZNAME:UTC
DTSTART:20250101T000000
END:STANDARD
END:VTIMEZONE
BEGIN:VEVENT
DTSTART;TZID=Europe/Stockholm:20250412T160000
DTEND;TZID=Europe/Stockholm:20250413T030000
DTSTAMP:20260421T221901
CREATED:20250304T123739Z
LAST-MODIFIED:20250304T123739Z
UID:7308-1744473600-1744513200@folk.nu
SUMMARY:Dans i Tobo- Festival 12 april 2025
DESCRIPTION:Välkommen till årets dansfestival på Eric Sahlström Institutet. \n Det är roligt med alla musiker och dansare som under åren varit med och gjort festivalen till vad den är idag. Med festivalen vill vi i år igen skapa ett tillfälle att spela och dansa tillsammans – vi har ett rum med fin akustik\, bra dansgolv och möjlighet att få mat\, fika och vickning tillsammans. Vi har bjudit in musiker som tycker om att spela till dans och inte minst alla festivalbesökare\, som ju är hela poängen. Det blir dans och musik i ett trivsamt format! \nDörrarna öppnas klockan fyra på eftermiddagen och festivalmusikerna spelar till tvåtiden på natten\, därefter är det spellista fram till morgonen därpå. \nNu gör vi det här igen! \nÅrets festivalmusiker är \nJenny Bergman Högberg\, Täpp Jenny Nylander och Täpp Ida Almlöf\, \nErlend Viken \nEllika Frisell \nKjell Erik Eriksson \n Du kan vara en av festivaldansarna!
URL:https://folk.nu/evenemang/dans-i-tobo-festival-12-april-2025/
LOCATION:Eric Sahlström Institutet\, Bruksgatan 3\, Tobo\, 74850\, Sverige
ATTACH;FMTTYPE=image/jpeg:https://media2.folk.nu/2025/03/Untitled_3-300x300-1.jpg
ORGANIZER;CN="Eric%20Sahlstr%26ouml%3Bm%20Institutet":MAILTO:info@esitobo.org
END:VEVENT
BEGIN:VEVENT
DTSTART;TZID=Europe/Stockholm:20250407T090000
DTEND;TZID=Europe/Stockholm:20250411T150000
DTSTAMP:20260421T221901
CREATED:20250304T122937Z
LAST-MODIFIED:20250304T122937Z
UID:7305-1744016400-1744383600@folk.nu
SUMMARY:Dans i Tobo\, kursveckan
DESCRIPTION:I vår bjuder vi in till den årliga kursveckan i dans 7-11 april. Då har du möjlighet att delta i en kursvecka på Eric Sahlström Institutet som vänder sig till dig som vill finslipa din dans och fördjupa dina kunskaper. \nVeckan avslutas med Dansfestival på lördagen den 12 april\, välkommen att stanna kvar på den! \nPå kursen i år kommer vi att dansa polska. Vi som undervisar på kursen är Andreas Berchtold\, Ami Dregelid\, Kristofer Pettersson och Olof Misgeld. Undervisningen har musikaliskt och dansant fokus – du kommer att få dansa och lyssna till Kristofers och Olofs spel och syftet är att det ska vara lätt och kul och samtidigt ge fördjupad kunskap. Vi använder metoder där du får öva och pröva\, känna och uppleva i kroppen. Vi kommer att jobba med rörelsekvalitet\, balans\, musik\, teknik mm – allt för att få till en avspänd\, energifylld och musikalisk dans. Med Kristofer och Andreas får du dansa slängpolska\, med Olof och Ami blir det Orsapolska.
URL:https://folk.nu/evenemang/dans-i-tobo-kursveckan/
LOCATION:Eric Sahlström Institutet\, Bruksgatan 3\, Tobo\, 74850\, Sverige
ATTACH;FMTTYPE=image/jpeg:https://media2.folk.nu/2025/03/DiT_25_larare_ny-300x300-1.jpg
ORGANIZER;CN="Eric%20Sahlstr%26ouml%3Bm%20Institutet":MAILTO:info@esitobo.org
END:VEVENT
BEGIN:VEVENT
DTSTART;TZID=UTC:20250404T090000
DTEND;TZID=UTC:20250405T220000
DTSTAMP:20260421T221901
CREATED:20250213T151937Z
LAST-MODIFIED:20250213T161220Z
UID:7215-1743757200-1743890400@folk.nu
SUMMARY:Folk & Världsmusikgalan
DESCRIPTION:Folk & Världsmusikgalan 2025 – En hel helg av musik\, dans och samtal! \nDatum: 4–5 april 2025Plats: Uppsala Konsert & Kongress\, Vaksala torg 1\, UppsalaBiljetter & paketpriser: Tickster \nEn hyllning till folk- och världsmusiken\nFolk & Världsmusikgalan är tillbaka – och i år bjuder vi på en hel helg fylld av konserter\, samtal\, workshops och dans. Upplev två dagar av inspiration\, fördjupning och firande\, där vi lyfter fram musikens kraft och bredd genom möten med artister\, forskare\, eldsjälar och dansare. \nNordic Folk Alliance pågår parallellt\nSamtidigt som galan arrangeras även Nordic Folk Alliance på Uppsala Konsert & Kongress – en mötesplats för den nordiska och internationella folkmusikscenen med showcasekonserter\, seminarier och nätverkande. \nVill du ta del av båda evenemangen? Det finns paketpris för hela helgen.Mer information om program och deltagare finns på www.nordicfolkalliance.com. \n\nProgramöversikt – Folk & Världsmusikgalan\nFredag 4 april – Kringarrangemang och konserter10:45–12:00 | ”Och sen då?” – Panel om nyckelharpan som immateriellt kulturarv13:00–14:15 | Status och statuter – Var hör folksången hemma?13:00–14:15 | Vad behövs idag – för en vital och global scen imorgon? (Interaktivt samtal)19:00–20:00 | Dansa uppländskt! – Dansworkshop med Folkdansringen i Uppland20:00–21:30 | Uppländsk folkmusikkväll – En hyllning till regionens rika folkmusiktradition \nLördag 5 april – Panelsamtal\, konserter och galakonsert10:45–11:45 | Vi voro tusenden – Uppsala Musikforums roll i folkmusikens utveckling12:40–13:00 | Konsert med ULV (Uplands Låtverkstad) – Ungdomar spelar uppländsk folkmusik13:00–14:30 | LÅT! med KMH Folk – Kungliga Musikhögskolans vårkonsert18:30–19:00 | 6–86 år – Dansuppvisning med Tensta Folkdanslag \nGalakonsert med prisutdelningLördag 5 april kl. 19:15–22:00 \nHöjdpunkten på helgen är den stora galakonserten\, där vi firar de främsta inom folk- och världsmusiken. Kvällen leds av Kalle Moraeus och Alice Andersson och bjuder på en storslagen konsert samt utdelning av priser i sju kategorier. \n\nStjärnspäckade liveframträdanden\nPrisutdelning i sju kategorier\nEfterfest och mingel på Katalin\n\nBiljetterna är begränsade – säkra din plats redan idag.Tickster \nFör mer information om programmet\, nominerade och artister\, samt paketpriser och det parallella programmet på Nordic Folk Alliance\, besök: www.folkgalan.se och www.nordicfolkalliance.com. \n\nStarta galahelgen redan torsdag 3 april\nTorsdag 3 april kl. 19:30 bjuder Fränder & Vänner in till Fränder & Vänner International Folk Music Festival på Uppsala Social Club – en kväll fylld av gränslös folkmusik och härlig stämning. \nPerfekt uppladdning inför Folk & Världsmusikgalan. Kom och fira med oss!Biljetter till festivalen köps via en separat länk – mer information kommer snart. \n\nFolk & Världsmusikgalan arrangeras av Riksförbundet för Folkmusik och Dans i samarbete med Eric Sahlström Institutet\, Folk You – Folkkultur för Unga\, Folkmusikens Hus\, Uppsala Konsert & Kongress och Musik i Uppland. \nFler samarbetsparter är Uplands Spelmansförbund\, Folkdansringen Uppland\, Sensus\, Stallet Världens Musik\, Sveriges Spelmäns Riksförbund\, LÅT! – Kungliga Musikhögskolan\, EPOS – Equality and Plurality on Stage\, Stim\, Musikalliansen\, Gustav Adolfs Akademien med flera. \nGalan genomförs med stöd från Region Uppsala\, Uppsala Kommun\, Världsklass Uppsala och Kulturrådet
URL:https://folk.nu/evenemang/folk-varldsmusikgalan/
LOCATION:Uppsala Konsert & Kongress\, Vaksalagatan 1\, Uppsala\, 753 31\, Sverige
ATTACH;FMTTYPE=image/png:https://media2.folk.nu/2025/02/FOV_TicketsBanner.png
ORGANIZER;CN="Riksf%C3%B6rbundet%20f%C3%B6r%20Folkmusik%20och%20Dans":MAILTO:info@rfod.se
END:VEVENT
BEGIN:VEVENT
DTSTART;TZID=Europe/Stockholm:20230218T130000
DTEND;TZID=Europe/Stockholm:20230218T130000
DTSTAMP:20260421T221901
CREATED:20221216T180930Z
LAST-MODIFIED:20221219T095920Z
UID:4294-1676725200-1676725200@folk.nu
SUMMARY:Nyfiken på Eric Sahlström Institutet – kurs\, spel\, dans\, fest
DESCRIPTION:Prova på – \nDu som är nyfiken på verksamheten på Eric Sahlström Institutet i Tobo är välkommen att besöka oss den 18 februari – det blir kurs och dans- och spelkväll. \nDu kanske är nyfiken på våra danskvällar\, helg/veckokurser\, nyckelharpsbygge\, dagskurser eller rent av är sugen på att söka våra ett-åriga kurser i spel eller dans. \nVi börjar klockan halv två och då kan du få information och få tillfälle ett ställa frågor. Du bjuds på fika och vid halv tre får du delta i en kortare kurs med de pedagoger som undervisar på våra ettåriga utbildningar. Är du intresserad av dans får du möta Andreas Berchtold och Ami Dregelid och vill du hellre spela möter du Jeanette Evansson\, Josefina Paulsson och Niklas Roswall. \nOm du vill är du välkommen att stanna kvar under kvällen. Samma dag pågår också en återträff för tidigare kursdeltagare så det blir middag\, spel\, dans\, jam och festligheter tillsammans med dem hela kvällen och natten. \n”Prova på” – kursen är gratis men om du vill stanna och äta middag och dansa/spela under kvällen kostar det en liten slant. \nVälkommen till Tobo! \nFör mer information och boka biljett – se vår hemsida: https://esitobo.org/evenemang/atertraff-pa-esi-och-prova-pa/ \nFör att vi ska veta hur många som kommer behöver du\, även om det är gratis\, boka en biljett även för kursen på eftermiddagen. \nTill Tobo tar du dig med pendeltåg till Tobo station se ul.se eller med bil. \n\n\n\n\n\n\n  \nDATUM\n\n18 feb 2023\n\n\n\n  \nTID\n  \n\n13:00 – 23:55\n\n\n\n KATEGORI \n\nDans\n\n\nKurs\n\n\nSpel/Låtar\n\n\n\n\n\n\n\nPlats / arrangör: Eric Sahlström Institutet\, Bruksgatan 3 i Tobo\nLänk till evenemangssida: http://esitobo.org/evenemang/atertraff-pa-esi-och-prova-pa/
URL:https://folk.nu/evenemang/nyfiken-pa-eric-sahlstrom-institutet-kurs-spel-dans-fest/
LOCATION:Eric Sahlström Institutet\, Bruksgatan 3\, Tobo\, 74850\, Sverige
ATTACH;FMTTYPE=image/jpeg:https://media2.folk.nu/2022/12/ESI_AiT_kvall-scaled.jpg
ORGANIZER;CN="Eric%20Sahlstr%26ouml%3Bm%20Institutet":MAILTO:info@esitobo.org
END:VEVENT
BEGIN:VEVENT
DTSTART;TZID=Europe/Stockholm:20230128T100000
DTEND;TZID=Europe/Stockholm:20230128T170000
DTSTAMP:20260421T221901
CREATED:20221219T080351Z
LAST-MODIFIED:20221219T100014Z
UID:4302-1674900000-1674925200@folk.nu
SUMMARY:DANSA BODAPOLSKA med AMI och ANDREAS
DESCRIPTION:Lär dig dansa Bodapolska och utveckla dina kunskaper i och om den musik- och danstraditionen. \nBodapolska är en musik och dans som Andreas och Ami tycker mycket om och gärna dansar. De har dansat dansen sen de var unga\, i många sammanhang\, med många olika dansare och spelmän. Inspirerade av musik med Laggar Astrid\, Laggar Anders\, Påhl Olle och Röjås Jonas har kunskapen utvecklats och dansen formats till vad den är för dem idag. \nUnder kursen kommer du att få dansa mycket\, pröva och öva på att dansa tillsammans\, använda dig av musiken och utveckla rörelser med den schvung\, kraft och dynamik som är speciell för polska från Boda. \nVi kommer att använda oss av referensmaterial i form av t.ex. arkivfilm\, bl.a. från WebbFIOL. \nDagen ägnas åt att dansa med varandra\, lyssna på musik\, titta på och analysera dans och sedan dansa igen. Efter kursen kommer du ha mer kunskap i och om att dansa polska från Boda. \nAnmäl dig senast 16 januari\, alla är välkomna 🙂 \nMÅLGRUPP \nAlla är välkomna att anmäla sig. \nLÄRARE  \nAmi Dregelid och Andreas Berchtold är dansare och pedagoger med stor lust att få folk att dansa.  Ami och Andreas har mer än tjugo års erfarenhet av att arbeta med utbildning i folkdans. Deras dansande och undervisning har haft stort inflytande på folkdansmiljön och utvecklat fältet i praktiken.
URL:https://folk.nu/evenemang/dansa-bodapolska-med-ami-och-andreas/
LOCATION:Eric Sahlström Institutet\, Bruksgatan 3\, Tobo\, 74850\, Sverige
ATTACH;FMTTYPE=image/jpeg:https://media2.folk.nu/2022/12/Dans-uppifran-ESI.jpg
ORGANIZER;CN="Eric%20Sahlstr%26ouml%3Bm%20Institutet":MAILTO:info@esitobo.org
END:VEVENT
BEGIN:VEVENT
DTSTART;TZID=Europe/Stockholm:20230128T100000
DTEND;TZID=Europe/Stockholm:20230128T170000
DTSTAMP:20260421T221901
CREATED:20221219T080323Z
LAST-MODIFIED:20221219T095943Z
UID:4299-1674900000-1674925200@folk.nu
SUMMARY:Spelkurs - arrangering och samspel med Niklas Roswall 28 januari
DESCRIPTION:KURSBESKRIVNING \nPå den här kursen kommer du att få arbeta med arrangering och samspel i folkmusikstil. Vi lär oss att använda olika verktyg som till exempel tersstämma\, riff\, komp\, bordun och arrangerar låtar tillsammans. Vi kommer även att arbeta med samspel\, hur man spelar tillsammans och vad man kan tänka på då. \nSpelkursen ges vid två fristående tillfällen\, 28 januari och 22 april. Det andra tillfället bygger vidare på kunskaperna från det första men det går bra att delta vid bara ett av tillfällena\, beroende på vad du är mest intresserad av och vilka förkunskaper du har. \nUnder kursen i januari fokuserar vi på att prova olika arrangeringsverktyg och tekniker i färdiga arrangemang medan vi 22 april fördjupar oss i teorin bakom och övar på att själva skapa arrangemang och variera samspelet i konstellationer av olika storlek. \nDenna kurs blir som ett koncentrat av ämnet folkmusikarrangering som Niklas har undervisat i på ESI under 25 år nu. Ett ämne som handlar om samspel i folkmusikstil\, från duo till spelmanslag och stora grupper.
URL:https://folk.nu/evenemang/spelkurs-arrangering-och-samspel-med-niklas-roswall-28-januari/
LOCATION:Eric Sahlström Institutet\, Bruksgatan 3\, Tobo\, 74850\, Sverige
ATTACH;FMTTYPE=image/jpeg:https://media2.folk.nu/2022/12/Niklas-Roswall-fotograf-Per-Helander.jpg
ORGANIZER;CN="Eric%20Sahlstr%26ouml%3Bm%20Institutet":MAILTO:info@esitobo.org
END:VEVENT
BEGIN:VEVENT
DTSTART;TZID=Europe/Stockholm:20221018T190000
DTEND;TZID=Europe/Stockholm:20221018T210000
DTSTAMP:20260421T221901
CREATED:20220928T185022Z
LAST-MODIFIED:20220928T185022Z
UID:3935-1666119600-1666126800@folk.nu
SUMMARY:Helena Allena - berättarkonsert med Thuva Härdelin
DESCRIPTION:Thuva Härdelin\, folkmusiker och riksspelman med rötterna i Delsbo\, Hälsingland. Hon kommer från en familj som spelat i många generationer tillbaka och är fjärde generationens riksspelman. Nu har hon skapat en berättarkonsert\, en gripande historia om Helena Allena. Kom och upplev när Thuva Härdelin berätta om Helena Allena där hela alltet inramas av hennes eleganta fiolspel.\nBerättelsen om Helena Allena är en sann berättelse. Eller så har den endast glimtar av sanning. Helenas sanning. Hörsägen blandas med fakta och kryddas med myter och fantasi\, så som många berättelser inom folkkulturen sedan länge berättats. Detsamma kan sägas om traditionell folkmusik. I mötet med samtida musik influeras\, berikas och utvecklas den och det är inte alltid lätt att urskilja de olika influenserna från varandra. Med musik\, berättande och projektioner tar Thuva Härdelin med dig in i en sagovärld\, eller är det på riktigt?\nPå scen: Thuva Härdelin – fiol\, berättande\nBiljetter: Säljes på plats (företrädelsevis Swish) 150 kr (stud. pensionär. 120 kr).
URL:https://folk.nu/evenemang/helena-allena-berattarkonsert-med-thuva-hardelin/
LOCATION:Eric Sahlström Institutet\, Bruksgatan 3\, Tobo\, 74850\, Sverige
ATTACH;FMTTYPE=image/jpeg:https://media2.folk.nu/2022/09/HelenaAlena_2_16-9-1-scaled.jpg
ORGANIZER;CN="Eric%20Sahlstr%26ouml%3Bm%20Institutet":MAILTO:info@esitobo.org
END:VEVENT
BEGIN:VEVENT
DTSTART;TZID=Europe/Stockholm:20221012T190000
DTEND;TZID=Europe/Stockholm:20221012T210000
DTSTAMP:20260421T221901
CREATED:20220928T184621Z
LAST-MODIFIED:20220928T184621Z
UID:3929-1665601200-1665608400@folk.nu
SUMMARY:Tailcoat
DESCRIPTION:Ett up and coming band på folkscenen!\nTailcoat har skapat ett fräscht\, homogent och uppfriskande sound med\nvariationsrika arrangemang. Gruppens sammansättning är unik i\nkombinationen av instrument och samspelet på topp mellan de skickliga\ninstrumentalisterna. Här väcks också danslusten från första tonen!\nRFoD´s programråd\nTailcoat består av Henriette Ambæk Flach (Violin/DK)\, Rasmus Brinck\n(Nyckelharpa/SE)\, Emil Ringtved Nielsen (Bass/DK)\, Villads Hoffman\n(Cittern/DK) och Mårten Hillbom (percussion/SE).\nKonserten genomförs i samarbete med Riksförbundet för Folkmusik och\nDans\, med stöd från Statens Kulturråd.\nhttps://www.tailcoatmusic.com/music\nhttps://www.facebook.com/Tailcoatmusic\nhttps://open.spotify.com/artist/7Dz9CjZFNCaJN1Z3om67eZ…\n”Tailcoat is urban instrumental folk at it’s best! It sounds like slow\ndancing on wooden floors\, and provides the soundtrack for your\ndaydreaming and sleepless nights.”
URL:https://folk.nu/evenemang/tailcoat-2/
LOCATION:Eric Sahlström Institutet\, Bruksgatan 3\, Tobo\, 74850\, Sverige
ATTACH;FMTTYPE=image/jpeg:https://media2.folk.nu/2022/09/Tailcoat_Ivan-Boll_highres012.jpg
ORGANIZER;CN="Eric%20Sahlstr%26ouml%3Bm%20Institutet":MAILTO:info@esitobo.org
END:VEVENT
END:VCALENDAR