BEGIN:VCALENDAR
VERSION:2.0
PRODID:-//Folk.nu! - ECPv5.14.0.1//NONSGML v1.0//EN
CALSCALE:GREGORIAN
METHOD:PUBLISH
X-WR-CALNAME:Folk.nu!
X-ORIGINAL-URL:https://folk.nu
X-WR-CALDESC:Händelser för Folk.nu!
REFRESH-INTERVAL;VALUE=DURATION:PT1H
X-Robots-Tag:noindex
X-PUBLISHED-TTL:PT1H
BEGIN:VTIMEZONE
TZID:Europe/Stockholm
BEGIN:DAYLIGHT
TZOFFSETFROM:+0100
TZOFFSETTO:+0200
TZNAME:CEST
DTSTART:20230326T010000
END:DAYLIGHT
BEGIN:STANDARD
TZOFFSETFROM:+0200
TZOFFSETTO:+0100
TZNAME:CET
DTSTART:20231029T010000
END:STANDARD
BEGIN:DAYLIGHT
TZOFFSETFROM:+0100
TZOFFSETTO:+0200
TZNAME:CEST
DTSTART:20240331T010000
END:DAYLIGHT
BEGIN:STANDARD
TZOFFSETFROM:+0200
TZOFFSETTO:+0100
TZNAME:CET
DTSTART:20241027T010000
END:STANDARD
BEGIN:DAYLIGHT
TZOFFSETFROM:+0100
TZOFFSETTO:+0200
TZNAME:CEST
DTSTART:20250330T010000
END:DAYLIGHT
BEGIN:STANDARD
TZOFFSETFROM:+0200
TZOFFSETTO:+0100
TZNAME:CET
DTSTART:20251026T010000
END:STANDARD
BEGIN:DAYLIGHT
TZOFFSETFROM:+0100
TZOFFSETTO:+0200
TZNAME:CEST
DTSTART:20260329T010000
END:DAYLIGHT
BEGIN:STANDARD
TZOFFSETFROM:+0200
TZOFFSETTO:+0100
TZNAME:CET
DTSTART:20261025T010000
END:STANDARD
END:VTIMEZONE
BEGIN:VEVENT
DTSTART;TZID=Europe/Stockholm:20260419T120000
DTEND;TZID=Europe/Stockholm:20260419T130000
DTSTAMP:20260420T164415
CREATED:20260321T222024Z
LAST-MODIFIED:20260321T222024Z
UID:8201-1776600000-1776603600@folk.nu
SUMMARY:Lunchkonsert: Från Berlin till Delsbo - från hembygden till världen: Luise Rube tolkar Karin Grellssons visor
DESCRIPTION:Luise Rube\, folksångerska och flöjtist med rötter i Berlin och över 15 års erfarenhet av svensk folkmusik\, presenterar ett soloprogram som väcker liv i den bortglömda visskatt efter traditionsbäraren och sångerskan Karin Grellsson från Delsbo. Karin\, som i år skulle ha fyllt 130 år\, samlade på sig en bred repertoar fylld av både underhållande visor och kärleksfulla låtar om hembygden. \nI detta program tolkar Luise Karins visor med egna arrangemang där sång\, folkliga flöjter\, kantele och shrutibox skapar en rik och kontrastfull ljudbild. Konserten bjuder på en resa som är både intim och berättande\, men även kraftfull och svängig. \nStor inspiration i arbetet med programmet har Luise fått från Ulrika Bodén och Emma Härdelin\, två av Sveriges främsta folksångerskor och mentorsgestalter. Med en bakgrund i studier både i Sverige och Norge och gedigen folkmusikererfarenhet för Luise Rube Karin Grellssons visor in i samtiden med respekt och nyfikenhet. \nDatum:   Söndag 19 april\nTid:         12:00\nInsläpp: 11:30\nPris:        100 kr (eller det du kan eller vill ge)\nPlats:      Delsbo Tingshus \nBildcred: Mathieu Hebeisen
URL:https://folk.nu/evenemang/lunchkonsert-fran-berlin-till-delsbo-fran-hembygden-till-varlden-luise-rube-tolkar-karin-grellssons-visor/
LOCATION:Delsbo Tingshus\, Stationsgatan 7\, Delsbo\, 820 60
ATTACH;FMTTYPE=image/jpeg:https://media2.folk.nu/2026/03/KG-solo-staende-Luise-stor-Karin-liten.jpg
ORGANIZER;CN="Dellenkultur":MAILTO:info@dellenkultur.nu
END:VEVENT
BEGIN:VEVENT
DTSTART;TZID=Europe/Stockholm:20230209T190000
DTEND;TZID=Europe/Stockholm:20230209T200000
DTSTAMP:20260420T164415
CREATED:20230128T103223Z
LAST-MODIFIED:20230128T103223Z
UID:4577-1675969200-1675972800@folk.nu
SUMMARY:Konsert med Hedin & Meidell
DESCRIPTION:Idas barockfiol och Johans olika nyckelharpor skapar rika klangvärldar när denna duo rör sig genom låttraditionens skiftande former. Musiken tar avstamp i 1700- talet\, men sträcker sig ända in i vår tid. Den formas av Idas många spelsätt och influenser från när och fjärran\, och av Johans unika sätt att ackompanjera och tänja på gränserna för nyckelharpans möjligheter. En musikalisk upplevelse där gamla låtar får nytt liv i täta arrangemang och ett innerligt samspel.\n\nBoka plats genom att maila\ninfo@dellenkultur.nu\n”Hedin & Meidell”\n\nKonserten arrangeras gemensamt av Delsbo Hembygdsförening och Dellenkultur\, i samarbete med Riksförbundet för Folkmusik och Dans.
URL:https://folk.nu/evenemang/konsert-med-hedin-meidell/
LOCATION:Delsbo Tingshus\, Stationsgatan 7\, Delsbo\, 820 60
ATTACH;FMTTYPE=image/jpeg:https://media2.folk.nu/2023/01/Hedin-och-Meidell-16-9-2-scaled.jpeg
ORGANIZER;CN="Delsbo%20Hembygdsf%C3%B6rening":MAILTO:delsbostamman@gmail.com
END:VEVENT
END:VCALENDAR