BEGIN:VCALENDAR
VERSION:2.0
PRODID:-//Folk.nu! - ECPv5.14.0.1//NONSGML v1.0//EN
CALSCALE:GREGORIAN
METHOD:PUBLISH
X-WR-CALNAME:Folk.nu!
X-ORIGINAL-URL:https://folk.nu
X-WR-CALDESC:Händelser för Folk.nu!
REFRESH-INTERVAL;VALUE=DURATION:PT1H
X-Robots-Tag:noindex
X-PUBLISHED-TTL:PT1H
BEGIN:VTIMEZONE
TZID:UTC
BEGIN:STANDARD
TZOFFSETFROM:+0000
TZOFFSETTO:+0000
TZNAME:UTC
DTSTART:20220101T000000
END:STANDARD
TZID:Europe/Stockholm
BEGIN:DAYLIGHT
TZOFFSETFROM:+0100
TZOFFSETTO:+0200
TZNAME:CEST
DTSTART:20220327T010000
END:DAYLIGHT
BEGIN:STANDARD
TZOFFSETFROM:+0200
TZOFFSETTO:+0100
TZNAME:CET
DTSTART:20221030T010000
END:STANDARD
END:VTIMEZONE
BEGIN:VEVENT
DTSTART;TZID=UTC:20220721T190000
DTEND;TZID=UTC:20220721T193000
DTSTAMP:20260421T234848
CREATED:20220502T173036Z
LAST-MODIFIED:20220503T163514Z
UID:2487-1658430000-1658431800@folk.nu
SUMMARY:Burträsksvängen: Minneskonsert för Bengt Göran Staaf del I
DESCRIPTION:En av Burträsksvängens största profiler finns inte mer. Bengt Göran avled i november 2021. Alltsedan slutet av 70-talet har han varit en av hörnpelarna kring Burträsksvängen och utan honom hade nog arrangemanget inte existerat idag. Bengt Göran kommer för alltid att vara en del av föreningens historia och därför arrangerar vi en minneskonsert till hans ära med olika musiker som stod honom nära. \nCatarina Abelli – dragspel\, orgel\, fiol\, sång\nSunniva Abelli – nyckelharpa\, sång\nCatarina lärde känna Bengt-Göran i 1970-talets musikrörelse och folkmusikvåg. När Sunniva som vuxen musiker samarbetat med olika ljudtekniker har BG varit en favorit\, få har haft samma förståelse för och kunskap om en levande akustisk ljudbild. Musiken de spelar rör sig mellan folkmusik\, visa\, improvisation och egna kompositioner.
URL:https://folk.nu/evenemang/burtrasksvangen-minneskonsert-for-bengt-goran-staaf-del-ii/
LOCATION:Hembygdsområdet i Burträsk\, Långåkersgatan 16\, Burträsk\, 937 31
ATTACH;FMTTYPE=image/jpeg:https://media2.folk.nu/2022/05/minne2.jpg
ORGANIZER;CN="Burtr%C3%A4sksv%C3%A4ngen":MAILTO:hansoveforssell@hotmail.com
END:VEVENT
BEGIN:VEVENT
DTSTART;TZID=UTC:20220721T160000
DTEND;TZID=UTC:20220721T170000
DTSTAMP:20260421T234848
CREATED:20220503T144525Z
LAST-MODIFIED:20220503T144525Z
UID:2557-1658419200-1658422800@folk.nu
SUMMARY:Berättarföreställning på Burträsksvängen: Karl-Viktor Burman 150 år
DESCRIPTION:Vi uppmärksammar att i år är det 150 år sedan storspelmannen Karl Viktor Burman föddes i Ljusvattnet\, Burträsk. Året var 1872. \nMed hjälp av anekdoter och minnesbilder får vi åtnjuta en spännande historisk tillbakablick över vår spelmanslegend. De som berättar och kåserar är: \n  \nMats Nordström\, Boden. En av Norrbottens stora folkmusikprofiler. Stor kännare av Spel-Viktor. \nBengt Martinsson\, Luleå. Ett levande orakel i både folkmusik och dans. Han har letat fram otaliga skatter under årens lopp. \nStaffan Lundmark\, Umeå. Västerbottens historiska folkmusikorakel. Kan allt och lite till om de gamla spelmännen och kvinnorna.
URL:https://folk.nu/evenemang/berattarforestallning-pa-burtrasksvangen-karl-viktor-burman-150-ar/
LOCATION:Hembygdsområdet i Burträsk\, Långåkersgatan 16\, Burträsk\, 937 31
ATTACH;FMTTYPE=image/jpeg:https://media2.folk.nu/2022/05/berattBUR.jpg
ORGANIZER;CN="Burtr%C3%A4sksv%C3%A4ngen":MAILTO:hansoveforssell@hotmail.com
END:VEVENT
BEGIN:VEVENT
DTSTART;TZID=Europe/Stockholm:20220721T153000
DTEND;TZID=Europe/Stockholm:20220724T160000
DTSTAMP:20260421T234848
CREATED:20220127T173832Z
LAST-MODIFIED:20220503T164432Z
UID:587-1658417400-1658678400@folk.nu
SUMMARY:Burträsksvängen – Spelmansstämma i Norr
DESCRIPTION:Konserter\, buskspel\, workshops\, kurser\, dans och en massa annat fantastiskt!! \nOBS! Vissa konserter har entré och behöver förbokas.
URL:https://folk.nu/evenemang/burtrasksvangen-spelmansstamma-i-norr/
LOCATION:Hembygdsområdet i Burträsk\, Långåkersgatan 16\, Burträsk\, 937 31
ATTACH;FMTTYPE=image/jpeg:https://media2.folk.nu/2022/01/burtr.jpeg
ORGANIZER;CN="Burtr%C3%A4sksv%C3%A4ngen":MAILTO:hansoveforssell@hotmail.com
END:VEVENT
BEGIN:VEVENT
DTSTART;TZID=UTC:20220707T190000
DTEND;TZID=UTC:20220707T200000
DTSTAMP:20260421T234848
CREATED:20220505T170610Z
LAST-MODIFIED:20220516T173405Z
UID:2648-1657220400-1657224000@folk.nu
SUMMARY:Folklig trio i sommarkväll: Rodebjer & Myrin med Sandra Berggren
DESCRIPTION:Rodebjer & Myrin är en duo som består av Albin Myrin och Ingrid Rodebjer. De har spelat turnéer under somrarna i Sverige och är just nu aktuella med sin debut EP – Spegling\, som släpps under våren 2022. Deras repertoar består av både egenskrivna låtar och visor samt traditionella låtar i egna arrangemang. Till sommaren bjuder de in Sandra Berggren som de träffade på Kungliga Musikhögskolan i Stockholm. \nI ett efterlängtat samarbete bjuder trion in till en konsert i folklig ton som bjuder in till både gemenskap och glädje. I en sättning med klarinett\, sång och fiol får vemodet i traditionella melodier möta ett medryckande sväng i såväl vals som polska. Konserten i Burträsk består av kända sommarvisor och oupptäckta melodier i personliga tolkningar av den levande traditionen. Med rötter i norsk och svensk folkmusiktradition skapar trion ett musikaliskt samtal som utgår från melodiernas känslor och uttryck i en öppen och talande klangvärld. \nAlbin Myrin – Klarinett & sång \nIngrid Rodebjer – Fiol & sång \nSandra Berggren – Fiol & sång
URL:https://folk.nu/evenemang/folklig-trio-i-sommarkvall-rodebjer-myrin-med-sandra-berggren/
LOCATION:Burträsk kyrka\, Burträsk
ATTACH;FMTTYPE=image/jpeg:https://media2.folk.nu/2022/05/BURRodebjer-Myrin-med-Sandra-Berggren-002-scaled.jpg
ORGANIZER;CN="Burtr%C3%A4sksv%C3%A4ngen":MAILTO:hansoveforssell@hotmail.com
END:VEVENT
BEGIN:VEVENT
DTSTART;TZID=UTC:20220705T130000
DTEND;TZID=UTC:20220705T160000
DTSTAMP:20260421T234848
CREATED:20220516T175331Z
LAST-MODIFIED:20220516T175331Z
UID:2785-1657026000-1657036800@folk.nu
SUMMARY:Spelträff i Burträsk
DESCRIPTION:Kom och njut av vacker natur och hejdlöst spel även när det inte är Burträsksväng – varje tisdag i juli på hembygdsområdet i Burträsk!
URL:https://folk.nu/evenemang/speltraff-i-burtrask/2022-07-05/
LOCATION:Hembygdsområdet i Burträsk\, Långåkersgatan 16\, Burträsk\, 937 31
ATTACH;FMTTYPE=image/jpeg:https://media2.folk.nu/2022/05/speltraff-scaled.jpg
ORGANIZER;CN="Burtr%C3%A4sksv%C3%A4ngen":MAILTO:hansoveforssell@hotmail.com
END:VEVENT
BEGIN:VEVENT
DTSTART;TZID=UTC:20220703T140000
DTEND;TZID=UTC:20220703T143000
DTSTAMP:20260421T234848
CREATED:20220517T152631Z
LAST-MODIFIED:20220517T152718Z
UID:2822-1656856800-1656858600@folk.nu
SUMMARY:Kyrkhelgen i Skellefteå: Berättarkonsert med Ukuleleorkestern
DESCRIPTION:Ukuleleorkestern spelar och berättar: Allan Edwalls liv och visor \nAllan Edwall var en av våra mest folkkära skådespelare\, men vad många inte känner till är att han också var en mycket begåvad kompositör.\nAllans visor är fyllda med både burlesk humor och den djupaste sorg. I sina visor synliggör han sin vrede över samhällets alla orättvisor. Mellan sångerna ger vi glimtar ur Allan liv. \nMedverkande: Robert Persson\, Hans-Ove Forssell\, Johan Lingegård\, Gudrun Berggren\, Åsa Persson\, Ann-Sofie Persson.
URL:https://folk.nu/evenemang/kyrkhelgen-i-skelleftea-berattarkonsert-med-ukuleleorkestern/
LOCATION:Bonnstan\, utescenen\, Skellefteå
ATTACH;FMTTYPE=image/jpeg:https://media2.folk.nu/2022/05/edvall.jpg
ORGANIZER;CN="Burtr%C3%A4sksv%C3%A4ngen":MAILTO:hansoveforssell@hotmail.com
END:VEVENT
BEGIN:VEVENT
DTSTART;TZID=UTC:20220703T120000
DTEND;TZID=UTC:20220703T130000
DTSTAMP:20260421T234848
CREATED:20220517T151130Z
LAST-MODIFIED:20220517T151130Z
UID:2818-1656849600-1656853200@folk.nu
SUMMARY:Kyrkhelgen: Konsert med Skellefteå spelmanslag
DESCRIPTION:Skellefteå Spelmanslag bildades den 10 februari 2018. Då samlades ett stort antal spelmän på Nordanå i Skellefteå i syfte att bilda ett spelmanslag. Spelmanslagets musikaliska ledare är Urban Berggren och Robert Larsson och vi kommer att bjudas på fin musik både lokal och från andra håll.
URL:https://folk.nu/evenemang/kyrkhelgen-konsert-med-skelleftea-spelmanslag/
LOCATION:Bonnstan\, utescenen\, Skellefteå
ATTACH;FMTTYPE=image/jpeg:https://media2.folk.nu/2022/05/skelspel.jpg
ORGANIZER;CN="Burtr%C3%A4sksv%C3%A4ngen":MAILTO:hansoveforssell@hotmail.com
END:VEVENT
BEGIN:VEVENT
DTSTART;TZID=UTC:20220702T183000
DTEND;TZID=UTC:20220702T190000
DTSTAMP:20260421T234848
CREATED:20220516T185225Z
LAST-MODIFIED:20220616T205141Z
UID:2796-1656786600-1656788400@folk.nu
SUMMARY:Kyrkhelgen i Skellefteå: Konsert med familjen Burman/Berggren
DESCRIPTION:Familjen spelar traditionsmusik från Västerbotten. De har under 15 år spelat i kyrkor\, bygdegårdar\, spelmansstämmor och festivaler i Norra Sverige\, Ryssland\, Finland\, Norge och Mallorca. Publiken bjuds på svängiga polskor och andra danslåtar\, men även någon sång och en och annan nyskriven låt.
URL:https://folk.nu/evenemang/kyrkhelgen-i-skelleftea-konsert-med-familjen-burman-berggren/
LOCATION:Logen Kyrkholmen
ATTACH;FMTTYPE=image/jpeg:https://media2.folk.nu/2022/05/burmans.jpg
ORGANIZER;CN="Burtr%C3%A4sksv%C3%A4ngen":MAILTO:hansoveforssell@hotmail.com
END:VEVENT
BEGIN:VEVENT
DTSTART;TZID=UTC:20220702T170000
DTEND;TZID=UTC:20220702T173000
DTSTAMP:20260421T234848
CREATED:20220517T154502Z
LAST-MODIFIED:20220616T205027Z
UID:2826-1656781200-1656783000@folk.nu
SUMMARY:Kyrkhelgen i Skellefteå: Berättarföreställning BURK-CURT
DESCRIPTION:Varje människa är unik\, ett original – kanske rentav ett mysterium. Alla städer har sina utanförmänniskor och Skellefteå hade Burk-Curt. I decennier samlade han burkar på stan. Alla trodde han var utfattig tills hemligheten avslöjades: han var mångmiljonär. \nFörfattaren Åke Lundgren skildrar gåtan Curt och hans liv. Curt Degerman\, en man som blev världskänd – men först efter sin död. \n 
URL:https://folk.nu/evenemang/kyrkhelgen-i-skelleftea-berattarforestallning-burk-curt/
LOCATION:Logen Kyrkholmen
ATTACH;FMTTYPE=image/jpeg:https://media2.folk.nu/2022/05/burkkurt.jpg
ORGANIZER;CN="Burtr%C3%A4sksv%C3%A4ngen":MAILTO:hansoveforssell@hotmail.com
END:VEVENT
BEGIN:VEVENT
DTSTART;TZID=UTC:20220702T160000
DTEND;TZID=UTC:20220702T163000
DTSTAMP:20260421T234848
CREATED:20220620T125128Z
LAST-MODIFIED:20220620T125233Z
UID:3296-1656777600-1656779400@folk.nu
SUMMARY:Kyrkhelgen i Skellefteå: Berättarföreställning ”Solens dotter”
DESCRIPTION:Solens dotter” är en actionspäckad och lite smågalen folksaga om kärlek\, avundsjuka och magi som roar de flesta gammal som ung. \n”Folksagor och berättande var för våra förfäder vad film och sociala medier är idag.” Åsa Lindström Öberg från Skellefteå vann Berättarkraft 2017
URL:https://folk.nu/evenemang/kyrkhelgen-i-skelleftea-berattarforestallning-solens-dotter/
LOCATION:Kyrkholmen\, Kyrkholmen\, Skellefteå
ATTACH;FMTTYPE=image/jpeg:https://media2.folk.nu/2022/06/asa.jpg
ORGANIZER;CN="V%26auml%3Bsterbottens%20Spelmansf%26ouml%3Brbund":MAILTO:hansoveforssell@hotmail.com
END:VEVENT
BEGIN:VEVENT
DTSTART;TZID=UTC:20220701T210000
DTEND;TZID=UTC:20220701T220000
DTSTAMP:20260421T234848
CREATED:20220610T134531Z
LAST-MODIFIED:20220610T134531Z
UID:3229-1656709200-1656712800@folk.nu
SUMMARY:Kyrkhelgen i Skellefteå: Folkmusik i sommarnatten
DESCRIPTION:Konserten ”Folkmusik i sommarnatten” är en tradition som sedan 80-talet utgjort starten för Kyrkhelgen. Skellefteå Spelmanslag inleder kvällen och följs sedan av Eva Maaherra Lövheim som spelar solo på fiol. Ukuleleorkestern framför två låtar av Allan Edwall. Efter några ord av kyrkoherde Arne Andersson uppträder så två utmärkta dragspelare Gun-Marie Tegefjord & Agneta Holmström. Sist i programmet är Lovisa Berggren på sin viola.
URL:https://folk.nu/evenemang/kyrkhelgen-i-skelleftea-folkmusik-i-sommarnatten/
LOCATION:Skellefteå Landskyrka\, Skellefteå
ATTACH;FMTTYPE=image/jpeg:https://media2.folk.nu/2022/06/kyrkhelg.jpg
ORGANIZER;CN="Burtr%C3%A4sksv%C3%A4ngen":MAILTO:hansoveforssell@hotmail.com
END:VEVENT
BEGIN:VEVENT
DTSTART;VALUE=DATE:20220701
DTEND;VALUE=DATE:20220704
DTSTAMP:20260421T234848
CREATED:20220509T172003Z
LAST-MODIFIED:20220527T092824Z
UID:2655-1656633600-1656892799@folk.nu
SUMMARY:Kyrkhelgen i Skellefteå
DESCRIPTION:Kyrkhelgen i Skellefteå har arrangerats sedan 1971 på Skellefteås finaste Kulturarvsområde ”Bonnstan”. Föreningen Burträsksvängen kommer att vara huvudarrangör för de kulturella inslagen\, musiken\, dansen och berättandet under Kyrkhelgen. Detta sker i samarbete med Skellefteå Museum\, Skellefteå Spelmanslag\, Västerbottens Spelmansförbund\, Skellefteå berättarförening\, Skellefteå Kulturskola och Studieförbundet Kulturens. Vi vill erbjuda besökarna en Kyrkhelg fylld av högkvalitativ kultur. Folkmusikkonserter\, berättarföreställningar\, dans och massor av buskspel.
URL:https://folk.nu/evenemang/kyrkhelgen-i-skelleftea/
LOCATION:Sara Kulturhus Skellefteå\, Kanalgatan 45\, Skellefteå\, 93132\, Sverige
ATTACH;FMTTYPE=image/jpeg:https://media2.folk.nu/2022/05/Bild-Bonnstan-Lovisa2.jpeg
ORGANIZER;CN="V%26auml%3Bsterbottens%20Spelmansf%26ouml%3Brbund":MAILTO:hansoveforssell@hotmail.com
END:VEVENT
BEGIN:VEVENT
DTSTART;TZID=Europe/Stockholm:20220407T190000
DTEND;TZID=Europe/Stockholm:20220407T203000
DTSTAMP:20260421T234848
CREATED:20220307T082316Z
LAST-MODIFIED:20220307T082316Z
UID:1598-1649358000-1649363400@folk.nu
SUMMARY:Trio Katastrofa
DESCRIPTION:Trio Katastrofa blandar friskt och bjuder på en stor portion improvisation och humor. Välkommen till en afton i folkmusikens tecken med musik från bland annat Balkan och Norden!
URL:https://folk.nu/evenemang/trio-katastrofa-2/
ATTACH;FMTTYPE=image/jpeg:https://media2.folk.nu/2022/03/Trio-Catastrofa.jpg
ORGANIZER;CN="Burtr%C3%A4sksv%C3%A4ngen":MAILTO:hansoveforssell@hotmail.com
END:VEVENT
END:VCALENDAR