BEGIN:VCALENDAR
VERSION:2.0
PRODID:-//Folk.nu! - ECPv5.14.0.1//NONSGML v1.0//EN
CALSCALE:GREGORIAN
METHOD:PUBLISH
X-WR-CALNAME:Folk.nu!
X-ORIGINAL-URL:https://folk.nu
X-WR-CALDESC:Händelser för Folk.nu!
REFRESH-INTERVAL;VALUE=DURATION:PT1H
X-Robots-Tag:noindex
X-PUBLISHED-TTL:PT1H
BEGIN:VTIMEZONE
TZID:Europe/Stockholm
BEGIN:DAYLIGHT
TZOFFSETFROM:+0100
TZOFFSETTO:+0200
TZNAME:CEST
DTSTART:20260329T010000
END:DAYLIGHT
BEGIN:STANDARD
TZOFFSETFROM:+0200
TZOFFSETTO:+0100
TZNAME:CET
DTSTART:20261025T010000
END:STANDARD
END:VTIMEZONE
BEGIN:VEVENT
DTSTART;TZID=Europe/Stockholm:20260127T180000
DTEND;TZID=Europe/Stockholm:20260428T193000
DTSTAMP:20260424T111930
CREATED:20260106T164744Z
LAST-MODIFIED:20260106T164744Z
UID:8041-1769536800-1777404600@folk.nu
SUMMARY:KURS I GAMMELDANS\, FOLKDANS\, POLSKA
DESCRIPTION:BOR DU I STOCKHOLM OCH VILL LÄRA DIG DANSA FOLKDANS OCH GAMMELDANS? \nKom då till Akademiska folkdanslagets\, AF:s\, kurs i gammeldans\, folkdans och polska som börjar den 27 januari. Vi håller till i Tellus fritidscenter\, Lignagatan 8\, nära Hornstull. Kursen omfattar 12 kurstillfällen\, tisdagar kl. 18 – 19.30. Det är alltid levande musik. Kom ensam eller tillsammans med en vän. Ingen förhandsanmälan – bara kom.  Kursavgiften är 650 SEK\, vilket inkluderar medlemsavgift i föreningen. \nKan du redan dansa gammeldans? Då är du välkommen till vår ordinarie dans på tisdagar k 19.15 – 21 i Tellus fritidscenter. Den dansen börjar redan den 13 januari och håller på till i mitten av juni. \nVÄLKOMMEN!
URL:https://folk.nu/evenemang/kurs-i-gammeldans-folkdans-polska/
ATTACH;FMTTYPE=image/jpeg:https://media2.folk.nu/2026/01/skuggan-fb-fotot.jpg
ORGANIZER;CN="Akademiska%20folkdanslaget":MAILTO:info@akademiskafolkdanslaget.se
END:VEVENT
END:VCALENDAR