BEGIN:VCALENDAR
VERSION:2.0
PRODID:-//Folk.nu! - ECPv5.14.0.1//NONSGML v1.0//EN
CALSCALE:GREGORIAN
METHOD:PUBLISH
X-WR-CALNAME:Folk.nu!
X-ORIGINAL-URL:https://folk.nu
X-WR-CALDESC:Händelser för Folk.nu!
REFRESH-INTERVAL;VALUE=DURATION:PT1H
X-Robots-Tag:noindex
X-PUBLISHED-TTL:PT1H
BEGIN:VTIMEZONE
TZID:Europe/Stockholm
BEGIN:DAYLIGHT
TZOFFSETFROM:+0100
TZOFFSETTO:+0200
TZNAME:CEST
DTSTART:20220327T010000
END:DAYLIGHT
BEGIN:STANDARD
TZOFFSETFROM:+0200
TZOFFSETTO:+0100
TZNAME:CET
DTSTART:20221030T010000
END:STANDARD
END:VTIMEZONE
BEGIN:VEVENT
DTSTART;TZID=Europe/Stockholm:20220322T120000
DTEND;TZID=Europe/Stockholm:20220322T130000
DTSTAMP:20260421T120120
CREATED:20220213T075023Z
LAST-MODIFIED:20220213T075023Z
UID:805-1647950400-1647954000@folk.nu
SUMMARY:Anna Heikkinen & Längtans Kapell
DESCRIPTION:Anna Heikkinen & Längtans Kapell presenterar Satumaa-Sagolandet. \nMusik och berättande. \nSatumaa – är titeln på den mest kända finska tangon. Översatt till svenska betyder det Sagolandet. Via sina tolkningar av den finska tangon söker Anna Heikkinen & Längtans Kapell efter historia och rötter\, efter en sverigefinsk identitet och ett förlorat språk. \nTexterna och berättandet utgår ifrån Anna Heikkinens personliga minnen\, intervjuer med släktingar\, sparade brev och dagboksanteckningar från Andra världskriget – en orolig tid efter vilken Annas far Pekka kom som ensamkommande barn från Finland till Sverige. Som en historia berättad av ett barn till en ensamkommande speglar föreställningen även en del av vår brännande nutid och framtid. \nMed en väv av ord och toner\, finska och svenska texter\, dragspel\, saxofon och cello söker föreställningen efter ett förlorat Satumaa – ett eget Sagoland. \nSångerna sjungs på både svenska och finska. Berättandet är på svenska. \nKom 30 minuter innan föreställningen börjar för att hinna få er Soppa. Soppan är inkluderad i priset. \nVid frågor kontakta Martina Arbman Sundén 0760-646238 \nArrangeras av Vallens Soppteater (en del av Kalmar Teaterförening) tillsammans med Folkuniversitetet \n  \n  \n  \n  \n  \n 
URL:https://folk.nu/evenemang/anna-heikkinen-langtans-kapell-6/
LOCATION:Teatervallen Kalmar Teater\, Olof Palmes gata 1\, Kalmar\, 392 32
ATTACH;FMTTYPE=image/jpeg:https://media2.folk.nu/2022/02/Anna-Heikkinen-Längtans-Kapell-fotograf-Magnus-Lorentzson.-v-2-2.jpg
ORGANIZER;CN="Kalmar%20Teaterf%C3%B6rening":MAILTO:kalmar.tf@riksteatern.se
END:VEVENT
BEGIN:VEVENT
DTSTART;TZID=Europe/Stockholm:20220322T173000
DTEND;TZID=Europe/Stockholm:20220322T183000
DTSTAMP:20260421T120120
CREATED:20220213T074942Z
LAST-MODIFIED:20220213T074942Z
UID:810-1647970200-1647973800@folk.nu
SUMMARY:Anna Heikkinen & Längtans Kapell
DESCRIPTION:Anna Heikkinen & Längtans Kapell presenterar Satumaa-Sagolandet. \nMusik och berättande. \nSatumaa – är titeln på den mest kända finska tangon. Översatt till svenska betyder det Sagolandet. Via sina tolkningar av den finska tangon söker Anna Heikkinen & Längtans Kapell efter historia och rötter\, efter en sverigefinsk identitet och ett förlorat språk. \nTexterna och berättandet utgår ifrån Anna Heikkinens personliga minnen\, intervjuer med släktingar\, sparade brev och dagboksanteckningar från Andra världskriget – en orolig tid efter vilken Annas far Pekka kom som ensamkommande barn från Finland till Sverige. Som en historia berättad av ett barn till en ensamkommande speglar föreställningen även en del av vår brännande nutid och framtid. \nMed en väv av ord och toner\, finska och svenska texter\, dragspel\, saxofon och cello söker föreställningen efter ett förlorat Satumaa – ett eget Sagoland. \nSångerna sjungs på både svenska och finska. Berättandet är på svenska. \nKom 30 minuter innan föreställningen börjar för att hinna få er Soppa. Soppan är inkluderad i priset. \nVid frågor kontakta Martina Arbman Sundén 0760-646238 \nArrangeras av Vallens Soppteater (en del av Kalmar Teaterförening) tillsammans med Folkuniversitetet \n\n 
URL:https://folk.nu/evenemang/anna-heikkinen-langtans-kapell-5/
LOCATION:Teatervallen Kalmar Teater\, Olof Palmes gata 1\, Kalmar\, 392 32
ATTACH;FMTTYPE=image/jpeg:https://media2.folk.nu/2022/02/Anna-Heikkinen-Längtans-Kapell-fotograf-Magnus-Lorentzson.-v-2-3.jpg
ORGANIZER;CN="Kalmar%20Teaterf%C3%B6rening":MAILTO:kalmar.tf@riksteatern.se
END:VEVENT
END:VCALENDAR