BEGIN:VCALENDAR
VERSION:2.0
PRODID:-//Folk.nu! - ECPv5.14.0.1//NONSGML v1.0//EN
CALSCALE:GREGORIAN
METHOD:PUBLISH
X-WR-CALNAME:Folk.nu!
X-ORIGINAL-URL:https://folk.nu
X-WR-CALDESC:Händelser för Folk.nu!
REFRESH-INTERVAL;VALUE=DURATION:PT1H
X-Robots-Tag:noindex
X-PUBLISHED-TTL:PT1H
BEGIN:VTIMEZONE
TZID:Europe/Stockholm
BEGIN:DAYLIGHT
TZOFFSETFROM:+0100
TZOFFSETTO:+0200
TZNAME:CEST
DTSTART:20220327T010000
END:DAYLIGHT
BEGIN:STANDARD
TZOFFSETFROM:+0200
TZOFFSETTO:+0100
TZNAME:CET
DTSTART:20221030T010000
END:STANDARD
END:VTIMEZONE
BEGIN:VEVENT
DTSTART;TZID=Europe/Stockholm:20220902T130000
DTEND;TZID=Europe/Stockholm:20220902T190000
DTSTAMP:20260420T111245
CREATED:20220823T095125Z
LAST-MODIFIED:20220823T123000Z
UID:3557-1662123600-1662145200@folk.nu
SUMMARY:Göteborg Folk Youth Festival
DESCRIPTION:Hand i hand med Göteborg Folk Festival arrangeras nu för första året en ung festivaldel i samverkan med Folk Youth VG.\n \nMellan 13:00-19:00 på Stigbergstorget och SkeppetGBG arrangeras dansuppvisning/-workshop\, folkdräktsparad\, och konserter! Varmt välkomna. \nFolk Youth VG är en ideell förening av och för unga personer i Västergötland som brinner för någon form av folkkultur! Under året har föreningen bland annat hållt sig aktiva med projekten: Bäckadräkten\, danskvällar och minifestival på Allégården. Genom detta samarbete vill Göteborg Folk Festival och Göteborg Folk Youth Festival lyfta unga professionella musiker och dansare! Så passa på att gå på konsert\, delta i någon workshop\, dansa eller bara njut av atmosfären! \nwww.goteborgfolkfestival.com/FolkYouth \n13.00-15:00 | Folkdansringen Göteborg\, Ungdomsdanslag\nFolkdansringen bjuder på Uppvisningar och Workshops mellan 13-15:00. \n13:00\nMusik med Folk Youth spelmanslag\nUppvisning\nWorkshop i Folkdans \n14:00\nMusik med Folk Youth spelmanslag\nUppvisning\nWorkshop / Folkdans \n15:00\nHäng med på folkdräktsparad!\nVi går från Stigbergstorget runt Musikens Hus och landar på Skeppet lagom till konsertstart. \n16.00 | FANTILEJA\nFantileja är en svensk/dansk folkmusikkvintett bestående av fem unga musiker som träffades när de studerade på Skurups Folkhögskola i Sverige. Medlemmarna i bandet har sin musikaliska bakgrund inom både jazz och keltisk/skandinavisk folkmusik. \nTillsammans skriver och spelar de ny musik\, tolkar traditionen och undersöker hur deras olika musikaliska bakgrunder kan forma bandets uttryck till något som känns inbjudande och medryckande. Genom lekfulla melodier och energiskt samspel\, spelar Fantileja sig in i böljan av nya band på den unga\, lovande folkmusikscenen. \n​Medverkande: \nSigne Kierkgaard – fiol \nRasmus Erlandsson – cittern \nAnna Østerby – dragspel \nJohannes Bäckström – kontrabas \nIsidor Abdelkader – slagverk \n  \n— \n17.00 | RODEBJER/MYRIN\nAlbin och Ingrid möttes när de studerade vid Kungliga Musikhögskolan i Stockholm. Under deras tid som duo har de spelat konserter runtom i Sverige och är aktuella med sin debut EP – Spegling. \nMed samklang och närvaro möts fiolen och klarinetten i egenskriven och traditionell musik från Sverige och Norge. Musiken formas till lekfulla samtal med plats för både improvisation och eftertanke. Deras repertoar rymmer såväl vemodiga som glädjefyllda låtar – allt med ett medryckande sväng! \nMedverkande: \nAlbin Myrin – klarinett \nIngrid Rodebjer – fiol \n  \n— \n18.00 | FREDY CLUE\nNyckelharpspop  \nSingelrelease med nyckelharpa\, sång och synthar som möter en queer text- & känslovärld. \n​Här ges även en visning av Bäckadräkten\, ett folkdräktsprojekt som sammanväver de manliga och kvinnliga idealen och normerna i den svenska folkdräktstraditionen i en ny typ av unisexdräkt. \n​Medverkande: \nFredy Clue – nyckelharpa \nJulia Bengtson – elektronisk mästare \nSabina Lilja – keyboard \n  \nLäs mer på www.goteborgfolkfestival.com  \n  \n— \n  \nx BILJETTER x \n150 sek ordinarie \n100 sek student \n50 sek under 26 år\, samt medlem i Folk You
URL:https://folk.nu/evenemang/goteborg-folk-youth-festival/
LOCATION:SkeppetGBG\, Amerikagatan 2\, Göteborg\, 41463
ATTACH;FMTTYPE=image/png:https://media2.folk.nu/2022/08/Skarmavbild-2022-08-23-kl.-11.17.28.png
ORGANIZER;CN="G%26ouml%3Bteborg%20Folk%20Festival":MAILTO:goteborgfolkfestival@gmail.com
END:VEVENT
END:VCALENDAR