BEGIN:VCALENDAR
VERSION:2.0
PRODID:-//Folk.nu! - ECPv5.14.0.1//NONSGML v1.0//EN
CALSCALE:GREGORIAN
METHOD:PUBLISH
X-WR-CALNAME:Folk.nu!
X-ORIGINAL-URL:https://folk.nu
X-WR-CALDESC:Händelser för Folk.nu!
REFRESH-INTERVAL;VALUE=DURATION:PT1H
X-Robots-Tag:noindex
X-PUBLISHED-TTL:PT1H
BEGIN:VTIMEZONE
TZID:Europe/Stockholm
BEGIN:DAYLIGHT
TZOFFSETFROM:+0100
TZOFFSETTO:+0200
TZNAME:CEST
DTSTART:20220327T010000
END:DAYLIGHT
BEGIN:STANDARD
TZOFFSETFROM:+0200
TZOFFSETTO:+0100
TZNAME:CET
DTSTART:20221030T010000
END:STANDARD
END:VTIMEZONE
BEGIN:VEVENT
DTSTART;TZID=Europe/Stockholm:20220916T190000
DTEND;TZID=Europe/Stockholm:20220916T203000
DTSTAMP:20260420T111434
CREATED:20220901T150334Z
LAST-MODIFIED:20220901T150334Z
UID:3688-1663354800-1663360200@folk.nu
SUMMARY:Carr & Roswall -  i Ludvika
DESCRIPTION:Du kan boka mat från kl. 18.00. Det gör Du direkt till Restaurang Gallerian\, Se nedan. \n– Ett litet format som skapar stort och ett alldeles eget sound med intressanta arrangemang och stor variationsrikedom.\n– Ian är en av de mest aktiva gitarristerna på den engelska folkscenen\, Kom till Sverige redan 1993.\n– Niklas från Skåne\, både riksspelman och världsmästare på nyckelharpa. Har även en titel som ”Årets grupp” vid en Världsmusikgala. \nPlanen är att det blir 2 set med en kort paus \nErbjudande från kl. 18.00:\nToast Skagen 99 kr\, Vitlöksbröd m Husets ruccola kräm 69 kr\nKycklingfilé m Klyftpotatis\, rotgrönsaker o Apelsinsås 189 kr\nHögrevsburgare / Halloumiburgare m Bacon\, Blandsallad\, Cheddarost\, salsa o Pommes 169 kr\nBoka mat = 073 – 576 45 68
URL:https://folk.nu/evenemang/carr-roswall-i-ludvika/
LOCATION:Restaurang Gallerian Ludvika\, Storgatan 19\, Ludvika\, 77130
ATTACH;FMTTYPE=image/jpeg:https://media2.folk.nu/2022/08/Carr-Roswall-pressbild-scaled.jpg
ORGANIZER;CN="Dans%20%26%20Folkton":MAILTO:dansofolkton@outlook.com
END:VEVENT
END:VCALENDAR