BEGIN:VCALENDAR
VERSION:2.0
PRODID:-//Folk.nu! - ECPv5.14.0.1//NONSGML v1.0//EN
CALSCALE:GREGORIAN
METHOD:PUBLISH
X-WR-CALNAME:Folk.nu!
X-ORIGINAL-URL:https://folk.nu
X-WR-CALDESC:Händelser för Folk.nu!
REFRESH-INTERVAL;VALUE=DURATION:PT1H
X-Robots-Tag:noindex
X-PUBLISHED-TTL:PT1H
BEGIN:VTIMEZONE
TZID:Europe/Stockholm
BEGIN:DAYLIGHT
TZOFFSETFROM:+0100
TZOFFSETTO:+0200
TZNAME:CEST
DTSTART:20220327T010000
END:DAYLIGHT
BEGIN:STANDARD
TZOFFSETFROM:+0200
TZOFFSETTO:+0100
TZNAME:CET
DTSTART:20221030T010000
END:STANDARD
END:VTIMEZONE
BEGIN:VEVENT
DTSTART;TZID=Europe/Stockholm:20220429T190000
DTEND;TZID=Europe/Stockholm:20220429T220000
DTSTAMP:20260420T123501
CREATED:20220418T061010Z
LAST-MODIFIED:20220418T061010Z
UID:2297-1651258800-1651269600@folk.nu
SUMMARY:Basklarinett på Musikvalvet Baggen
DESCRIPTION:Välkommen på konsert med duon Basklarinett!\nBasklarinett är ett musikaliskt samarbete mellan två unga musiker där gränsen mellan det välkända och det främmande ständigt förflyttas.\nTillsammans vill Veronica Lindåker (Klarinett) och Joakim Wladis (Kontrabas) skapa ett rum där esoteriska melodier får möta stormande improvisationer.\nBasklarinett öppnar dörren till en inre kammare där takt och ton virvlar. Inbjudan lyder ”Endast för förryckta”\nBiljettpris: 170kr\, Student 140kr\nBiljetter kan förbokas på https://musikvalvet.se\n\nVi ses!  \nVisa mindre\n\n\n\nMusik
URL:https://folk.nu/evenemang/basklarinett-pa-musikvalvet-baggen/
LOCATION:Musikvalvet Baggen\, Gamla Stan\, Svartmangatan 27\, Stockholm\, 11127
ATTACH;FMTTYPE=image/jpeg:https://media2.folk.nu/2022/04/JockeaJag.jpg
END:VEVENT
END:VCALENDAR