BEGIN:VCALENDAR
VERSION:2.0
PRODID:-//Folk.nu! - ECPv5.14.0.1//NONSGML v1.0//EN
CALSCALE:GREGORIAN
METHOD:PUBLISH
X-WR-CALNAME:Folk.nu!
X-ORIGINAL-URL:https://folk.nu
X-WR-CALDESC:Händelser för Folk.nu!
REFRESH-INTERVAL;VALUE=DURATION:PT1H
X-Robots-Tag:noindex
X-PUBLISHED-TTL:PT1H
BEGIN:VTIMEZONE
TZID:Europe/Stockholm
BEGIN:DAYLIGHT
TZOFFSETFROM:+0100
TZOFFSETTO:+0200
TZNAME:CEST
DTSTART:20220327T010000
END:DAYLIGHT
BEGIN:STANDARD
TZOFFSETFROM:+0200
TZOFFSETTO:+0100
TZNAME:CET
DTSTART:20221030T010000
END:STANDARD
END:VTIMEZONE
BEGIN:VEVENT
DTSTART;TZID=Europe/Stockholm:20221021T160000
DTEND;TZID=Europe/Stockholm:20221023T200000
DTSTAMP:20260420T110956
CREATED:20221004T080937Z
LAST-MODIFIED:20221004T080937Z
UID:3964-1666368000-1666555200@folk.nu
SUMMARY:Åmål Folk Festival
DESCRIPTION:Första upplagan av Åmål Folk Festival sker i år!\nKonserter\, workshops\, danskurs i svensk och ukrainsk folkdans\, visstuga och låtkurs runt om i vackra Åmål i dagarna tre. \nMedverkar gör bland annat:\nEthno on the Road\, Maryam Javidmehr & Avin Omar\, Alban Faust\, Driv\, Dalslands Spelmansorkester\, Halmstråket\, Spelmän och Dansare på Dal\, Kulturskolan Åmåls Folkband m.fl
URL:https://folk.nu/evenemang/amal-folk-festival/
LOCATION:Åmål\, Schölinsgatan 7\, ÅMÅL\, 66232
ATTACH;FMTTYPE=image/png:https://media2.folk.nu/2022/10/Åmål-folk-festival.png
END:VEVENT
END:VCALENDAR