BEGIN:VCALENDAR
VERSION:2.0
PRODID:-//Folk.nu! - ECPv5.14.0.1//NONSGML v1.0//EN
CALSCALE:GREGORIAN
METHOD:PUBLISH
X-WR-CALNAME:Folk.nu!
X-ORIGINAL-URL:https://folk.nu
X-WR-CALDESC:Händelser för Folk.nu!
REFRESH-INTERVAL;VALUE=DURATION:PT1H
X-Robots-Tag:noindex
X-PUBLISHED-TTL:PT1H
BEGIN:VTIMEZONE
TZID:Europe/Stockholm
BEGIN:DAYLIGHT
TZOFFSETFROM:+0100
TZOFFSETTO:+0200
TZNAME:CEST
DTSTART:20220327T010000
END:DAYLIGHT
BEGIN:STANDARD
TZOFFSETFROM:+0200
TZOFFSETTO:+0100
TZNAME:CET
DTSTART:20221030T010000
END:STANDARD
END:VTIMEZONE
BEGIN:VEVENT
DTSTART;TZID=Europe/Stockholm:20221008T150000
DTEND;TZID=Europe/Stockholm:20221008T200000
DTSTAMP:20260421T164455
CREATED:20221003T095922Z
LAST-MODIFIED:20221003T095922Z
UID:3949-1665241200-1665259200@folk.nu
SUMMARY:Ignacio Varchausky: Tangomusik-workshop (främst för musiker)Workshop 2.
DESCRIPTION:Den 7:e till 9:e oktober har Klubb Baires / TangoFolk Malmö glädjen att presentera tangomästaren Ignacio Varchausky som\, på sin europaturné\, valt att göra ett stopp i Malmö för tre unika dagar med föreläsningar där han delar med sig av tangons hemligheter.\nDen argentinska kontrabasisten Ignacio Varchausky är tillika arrangör\, kompositör\, musikproducent och grundaren av tangoorkestrarna ”El Arranque” och ”Orquesta Escuela Emilio Balcarce”. Han har publicerat ett flertal böcker om tango och är en stark förvaltare av musikens rika kulturarv. \nLÖRDAG\nTangomusik-workshop\n8:e oktober kl 15.00-20.00\nLördagen ägnas åt en praktiskt inriktad workshop och masterclass med Ignacio Varchausky. Dagen inleds med föreläsningen ”Introduktion till Orquesta Tipica” där vi får lära oss om instrumentens olika roller i orkestern\, deras karaktär samt de rytmiska\, melodiska och harmoniska element som tillsammans skapar den unika ljudbilden. Vi får även lära oss om några av de mest stilbildande orkestrarna från tangons guldålder. Efter föreläsningen kommer en praktisk del där de deltagande musikerna får spela delar av repertoaren för stilistisk och musikalisk feedback från Varchausky. Dagens aktiviteter är för alla nivåer av musiker och alla tangointresserade!\nAktiva deltagare: 500:-\nPassiva lyssnare/åhörare: 100:-\nPlats: Malmö latinskola\, Drottninggatan 22.\nTa med eget instrument och notställ.\nVi bjuder på fikabröd\, kaffe\, te och förfriskningar.\nVi som står bakom arrangemanget är Klubb Baires med stöd av Kulturens Bildningsförbund.\nFredagens workshop görs i samarbete med föreningen Camarin.\nÄr du intresserad att vara med på denna föreläsningen eller i workshop? Maila då till infotangarte@gmail.com och du blir garanterad en plats!\nKommer du långväga och behöver stanna över så tveka inte att kontakta oss! Vi tipsar gärna om hur du tar dig fram\, om boenden\, matställen med mera.
URL:https://folk.nu/evenemang/ignacio-varchausky-tangomusik-workshop-framst-for-musikerworkshop-2/
LOCATION:Latinskolan Malmö\, Drottninggatan 22.\, Malmö
ATTACH;FMTTYPE=image/jpeg:https://media2.folk.nu/2022/10/IV-2.jpeg
ORGANIZER;CN="Klubb%20Baires":MAILTO:juanjo@baires.se
END:VEVENT
END:VCALENDAR