BEGIN:VCALENDAR
VERSION:2.0
PRODID:-//Folk.nu! - ECPv5.14.0.1//NONSGML v1.0//EN
CALSCALE:GREGORIAN
METHOD:PUBLISH
X-WR-CALNAME:Folk.nu!
X-ORIGINAL-URL:https://folk.nu
X-WR-CALDESC:Händelser för Folk.nu!
REFRESH-INTERVAL;VALUE=DURATION:PT1H
X-Robots-Tag:noindex
X-PUBLISHED-TTL:PT1H
BEGIN:VTIMEZONE
TZID:Europe/Stockholm
BEGIN:DAYLIGHT
TZOFFSETFROM:+0100
TZOFFSETTO:+0200
TZNAME:CEST
DTSTART:20220327T010000
END:DAYLIGHT
BEGIN:STANDARD
TZOFFSETFROM:+0200
TZOFFSETTO:+0100
TZNAME:CET
DTSTART:20221030T010000
END:STANDARD
END:VTIMEZONE
BEGIN:VEVENT
DTSTART;TZID=Europe/Stockholm:20220312T120000
DTEND;TZID=Europe/Stockholm:20220312T150000
DTSTAMP:20260420T123415
CREATED:20220215T181310Z
LAST-MODIFIED:20220218T102226Z
UID:826-1647086400-1647097200@folk.nu
SUMMARY:Barnstämman 2022| SKÅNE
DESCRIPTION:Hjärtligt välkomna till en dag med folklig musik och dans!\n\nNär? Lördagen 12 mars kl. 12.00-15.00\nVar? Klippans musikskola: Storgatan 9\, Klippan\nVem riktar det sig till? Folkmusikintresserade barn och unga upp till 12 år.\n\nProgram:\n12.00 Samling och inledning med sånglekar under ledning av Ninni Carr.\n12.45 Indelning i grupper\n13.30 Fika\n14.00 Konsert\n\nLåtar:\nNu så ska vi spela.\nSlängpolska efter Tydell.\nVals efter Finka-Kalen.\nSkräddaren efter Per Jönsson.\n\nNoter och övningsfilmer finns på www.skanesspelmansforbund.se\n\nAnmälan:\nhttps://www.skanesspelmansforbund.se/?page_id=623 senast 12/2!\n\nArrangörer:\nSkånes spelmansförbund\, Musik i Syd\, Klippans musikskola\, Kulturens bildningsverksamhet.
URL:https://folk.nu/evenemang/barnstamman-2022/
LOCATION:Klippans musikskola\, Storgatan 9\, Klippan
ATTACH;FMTTYPE=image/jpeg:https://media2.folk.nu/2022/02/barnstamman.jpg
END:VEVENT
END:VCALENDAR