BEGIN:VCALENDAR
VERSION:2.0
PRODID:-//Folk.nu! - ECPv5.14.0.1//NONSGML v1.0//EN
CALSCALE:GREGORIAN
METHOD:PUBLISH
X-WR-CALNAME:Folk.nu!
X-ORIGINAL-URL:https://folk.nu
X-WR-CALDESC:Händelser för Folk.nu!
REFRESH-INTERVAL;VALUE=DURATION:PT1H
X-Robots-Tag:noindex
X-PUBLISHED-TTL:PT1H
BEGIN:VTIMEZONE
TZID:Europe/Stockholm
BEGIN:DAYLIGHT
TZOFFSETFROM:+0100
TZOFFSETTO:+0200
TZNAME:CEST
DTSTART:20220327T010000
END:DAYLIGHT
BEGIN:STANDARD
TZOFFSETFROM:+0200
TZOFFSETTO:+0100
TZNAME:CET
DTSTART:20221030T010000
END:STANDARD
END:VTIMEZONE
BEGIN:VEVENT
DTSTART;TZID=Europe/Stockholm:20221110T130000
DTEND;TZID=Europe/Stockholm:20221110T140000
DTSTAMP:20260421T151526
CREATED:20221021T152340Z
LAST-MODIFIED:20221024T103509Z
UID:4053-1668085200-1668088800@folk.nu
SUMMARY:Anna Heikkinen & Längtans Kapell
DESCRIPTION:Anna Heikkinen & Längtans Kapell söker genom sina tolkningar av den finska tangon efter historia och rötter\, en sverigefinsk identitet och ett förlorat språk. Med finska och svenska texter\, dragspel\, saxofon och cello\, letar de efter sitt eget Satumaa\, sitt eget Sagoland\, och väver en längtans väv av toner och ord. Låtarna de spelar är välkända och mycket viktiga inom den sverigefinska delen av befolkningen\, och många har en nära relation till musiken. I gruppen ingår: \nAnna Heikkinen: sång \nLarisa Ljungkrona-Mönttinen: dragspel och sång \nIda Gillner: sopransaxofon och sång \noch Leonor Palazzo: cello och sång \nAnmälan 040-660 85 25\, i lånedisken\, via webbsidan eller via epost: kirsebergs.bibliotek@malmo.se. Du kan också anmäla dig till Taina Cronhamn\, finskt förvaltningsområde/Suomenkielen Hallintoalue tel 040-34 40 56 \nObs: Konserten hålls i Kirsebergssalen i Kirsebergs Fritids- och kulturhus\, samma byggnad som biblioteket \nArrangeras av Malmö Stad (Biblioteken i Malmö\, Kirsebergs Fritids- och kulturhus) \nMalmö stad har åtagit sig ett större ansvar för att skydda och främja det finska språket och den sverigefinska kulturen. Detta görs bland annat genom att anordna och stödja olika kulturaktiviteter som är riktade till sverigefinska Malmöbor.
URL:https://folk.nu/evenemang/anna-heikkinen-langtans-kapell-11/
LOCATION:Kirsebergs bibliotek\, Kirsebergsgatan 1\, Malmö\, 214 39\, Sverige
ATTACH;FMTTYPE=image/jpeg:https://media2.folk.nu/2022/10/Anna-Heikkinen-Längtans-Kapell-Fotograf-Magnus-Lorentzson.jpg
END:VEVENT
END:VCALENDAR