BEGIN:VCALENDAR
VERSION:2.0
PRODID:-//Folk.nu! - ECPv5.14.0.1//NONSGML v1.0//EN
CALSCALE:GREGORIAN
METHOD:PUBLISH
X-WR-CALNAME:Folk.nu!
X-ORIGINAL-URL:https://folk.nu
X-WR-CALDESC:Händelser för Folk.nu!
REFRESH-INTERVAL;VALUE=DURATION:PT1H
X-Robots-Tag:noindex
X-PUBLISHED-TTL:PT1H
BEGIN:VTIMEZONE
TZID:Europe/Stockholm
BEGIN:DAYLIGHT
TZOFFSETFROM:+0100
TZOFFSETTO:+0200
TZNAME:CEST
DTSTART:20220327T010000
END:DAYLIGHT
BEGIN:STANDARD
TZOFFSETFROM:+0200
TZOFFSETTO:+0100
TZNAME:CET
DTSTART:20221030T010000
END:STANDARD
END:VTIMEZONE
BEGIN:VEVENT
DTSTART;TZID=Europe/Stockholm:20220930T180000
DTEND;TZID=Europe/Stockholm:20221002T140000
DTSTAMP:20260421T151458
CREATED:20220714T184519Z
LAST-MODIFIED:20220715T084002Z
UID:3342-1664560800-1664719200@folk.nu
SUMMARY:Workshop med Karin Wallin\, skånska låtar
DESCRIPTION:Skånska folkliga låtar förmedlas av en av landets förnämsta låtspelare. Platsen är vid naturskön miljö i Gamlegård i Torna Hällestad.\nBoendet för dem som väljer att sova över är i tio tvåbäddsrum och ett fembäddsrum. Kursen startar på fredagskvällen kl. 18 med knyt och sedan spel.\nPå lördagen och söndagen ordnas alla måltider av vår folkmusikälskande kökspersonal\, dessa ingår i kursavgiften\nUpplysningar och anmälan via mail till goesta.petersen@gmail.com\, eller tel: 0703-48 46 51 (Gösta) \nSpelhelgen delas med sångarna i Lund International Students Choir som sjunger tillsammans med Gösta Petersen. På lördagskvällen har vi en gemensam festkväll med sång\, spel och dans. Själva kursen för spelmännen är i ett separat avskilt rum.\nArrangör: Lund International Students Choir\, i samarbete med KULTURENS studieförbund.
URL:https://folk.nu/evenemang/workshop-med-karin-wallin-skanska-latar/
LOCATION:Gamlegården i Torna Hällestad\, Gamlegårdsvägen 20\, Torna Hällestad\, 24745
ATTACH;FMTTYPE=image/jpeg:https://media2.folk.nu/2022/07/Karin-Wallin.jpg
ORGANIZER;CN="Goesta%20Petersen":MAILTO:goesta.petersen@gmail.com
END:VEVENT
END:VCALENDAR