BEGIN:VCALENDAR
VERSION:2.0
PRODID:-//Folk.nu! - ECPv5.14.0.1//NONSGML v1.0//EN
CALSCALE:GREGORIAN
METHOD:PUBLISH
X-WR-CALNAME:Folk.nu!
X-ORIGINAL-URL:https://folk.nu
X-WR-CALDESC:Händelser för Folk.nu!
REFRESH-INTERVAL;VALUE=DURATION:PT1H
X-Robots-Tag:noindex
X-PUBLISHED-TTL:PT1H
BEGIN:VTIMEZONE
TZID:UTC
BEGIN:STANDARD
TZOFFSETFROM:+0000
TZOFFSETTO:+0000
TZNAME:UTC
DTSTART:20220101T000000
END:STANDARD
TZID:Europe/Stockholm
BEGIN:DAYLIGHT
TZOFFSETFROM:+0100
TZOFFSETTO:+0200
TZNAME:CEST
DTSTART:20230326T010000
END:DAYLIGHT
BEGIN:STANDARD
TZOFFSETFROM:+0200
TZOFFSETTO:+0100
TZNAME:CET
DTSTART:20231029T010000
END:STANDARD
BEGIN:DAYLIGHT
TZOFFSETFROM:+0100
TZOFFSETTO:+0200
TZNAME:CEST
DTSTART:20240331T010000
END:DAYLIGHT
BEGIN:STANDARD
TZOFFSETFROM:+0200
TZOFFSETTO:+0100
TZNAME:CET
DTSTART:20241027T010000
END:STANDARD
END:VTIMEZONE
BEGIN:VEVENT
DTSTART;TZID=UTC:20220707T190000
DTEND;TZID=UTC:20220707T200000
DTSTAMP:20260420T111300
CREATED:20220505T170610Z
LAST-MODIFIED:20220516T173405Z
UID:2648-1657220400-1657224000@folk.nu
SUMMARY:Folklig trio i sommarkväll: Rodebjer & Myrin med Sandra Berggren
DESCRIPTION:Rodebjer & Myrin är en duo som består av Albin Myrin och Ingrid Rodebjer. De har spelat turnéer under somrarna i Sverige och är just nu aktuella med sin debut EP – Spegling\, som släpps under våren 2022. Deras repertoar består av både egenskrivna låtar och visor samt traditionella låtar i egna arrangemang. Till sommaren bjuder de in Sandra Berggren som de träffade på Kungliga Musikhögskolan i Stockholm. \nI ett efterlängtat samarbete bjuder trion in till en konsert i folklig ton som bjuder in till både gemenskap och glädje. I en sättning med klarinett\, sång och fiol får vemodet i traditionella melodier möta ett medryckande sväng i såväl vals som polska. Konserten i Burträsk består av kända sommarvisor och oupptäckta melodier i personliga tolkningar av den levande traditionen. Med rötter i norsk och svensk folkmusiktradition skapar trion ett musikaliskt samtal som utgår från melodiernas känslor och uttryck i en öppen och talande klangvärld. \nAlbin Myrin – Klarinett & sång \nIngrid Rodebjer – Fiol & sång \nSandra Berggren – Fiol & sång
URL:https://folk.nu/evenemang/folklig-trio-i-sommarkvall-rodebjer-myrin-med-sandra-berggren/
LOCATION:Burträsk kyrka\, Burträsk
ATTACH;FMTTYPE=image/jpeg:https://media2.folk.nu/2022/05/BURRodebjer-Myrin-med-Sandra-Berggren-002-scaled.jpg
ORGANIZER;CN="Burtr%C3%A4sksv%C3%A4ngen":MAILTO:hansoveforssell@hotmail.com
END:VEVENT
BEGIN:VEVENT
DTSTART;TZID=Europe/Stockholm:20230720T200000
DTEND;TZID=Europe/Stockholm:20230720T200000
DTSTAMP:20260420T111300
CREATED:20230430T094128Z
LAST-MODIFIED:20230507T170708Z
UID:4962-1689883200-1689883200@folk.nu
SUMMARY:Minneskonsert för Karl-Viktor Burman
DESCRIPTION:En tvåtimmars konsert där vi får höra musik framförda av artister som gått i Spel-Viktors fotspår. Thomas Andersson kommer att leda kvällen och berätta om det musikaliska arv som Karl-Viktor Burman lämnat efter sig. JP Nyströms har spelat tusentals konserter och turnerat över hela världen. Under alla år har orkestern hedrat det musikaliska arvet efter Karl-Viktor Burman. Maria Jonsson kommer att spela låtar efter ”Spel Viktor”\, men även efter hans läromästare ”Lappojken” Johannes Renström och följa traditionstråden. Maria ackompanjeras av sin man\, den framstående gitarristen Ian Carr.
URL:https://folk.nu/evenemang/minneskonsert-for-karl-viktor-burman/
LOCATION:Burträsk kyrka\, Burträsk
ATTACH;FMTTYPE=image/png:https://media2.folk.nu/2023/04/Kyrkokonsert.png
ORGANIZER;CN="Burtr%C3%A4sksv%C3%A4ngen":MAILTO:hansoveforssell@hotmail.com
END:VEVENT
BEGIN:VEVENT
DTSTART;TZID=Europe/Stockholm:20240721T110000
DTEND;TZID=Europe/Stockholm:20240721T120000
DTSTAMP:20260420T111300
CREATED:20240422T054527Z
LAST-MODIFIED:20240422T054527Z
UID:6414-1721559600-1721563200@folk.nu
SUMMARY:I välsignan och fröjd. En mässa i folkton.
DESCRIPTION:En folklig dansmässa med texter av Alf Hambe och musik av Hans Kennemark. I denna version kommer danserna från olika delar av Europa\, och visar att dans och musik kan höra ihop på flera sätt\, att dansen kan vara mer universell än nationell. \nMedverkande:\nBurträsk kyrkokör under ledning av Nils Frändén\nDansare i Folkdansringen Övre Norrland.
URL:https://folk.nu/evenemang/i-valsignan-och-frojd-en-massa-i-folkton/
LOCATION:Burträsk kyrka\, Burträsk
ATTACH;FMTTYPE=image/png:https://media2.folk.nu/2024/04/Bild-dansmassa.png
ORGANIZER;CN="Burtr%C3%A4sksv%C3%A4ngen":MAILTO:hansoveforssell@hotmail.com
END:VEVENT
END:VCALENDAR