BEGIN:VCALENDAR
VERSION:2.0
PRODID:-//Folk.nu! - ECPv5.14.0.1//NONSGML v1.0//EN
CALSCALE:GREGORIAN
METHOD:PUBLISH
X-WR-CALNAME:Folk.nu!
X-ORIGINAL-URL:https://folk.nu
X-WR-CALDESC:Händelser för Folk.nu!
REFRESH-INTERVAL;VALUE=DURATION:PT1H
X-Robots-Tag:noindex
X-PUBLISHED-TTL:PT1H
BEGIN:VTIMEZONE
TZID:Europe/Stockholm
BEGIN:DAYLIGHT
TZOFFSETFROM:+0100
TZOFFSETTO:+0200
TZNAME:CEST
DTSTART:20220327T010000
END:DAYLIGHT
BEGIN:STANDARD
TZOFFSETFROM:+0200
TZOFFSETTO:+0100
TZNAME:CET
DTSTART:20221030T010000
END:STANDARD
END:VTIMEZONE
BEGIN:VEVENT
DTSTART;TZID=Europe/Stockholm:20220513T190000
DTEND;TZID=Europe/Stockholm:20220513T200000
DTSTAMP:20260421T150138
CREATED:20220503T140836Z
LAST-MODIFIED:20220503T140836Z
UID:2535-1652468400-1652472000@folk.nu
SUMMARY:GomorronGokväll – En  folkmusikalisk resa från gryning till skymning
DESCRIPTION:Fredag den 13e maj är det dags för konsert i Brännö Kyrka med GomorronGokväll!\n\nGomorronGokväll är en nystartad folkmusiksextett som spelar både traditionell och nyskriven folkmusik från Sverige och Norden. Med den unika sättningen blockflöjt\, fiol\, sång\, dragspel\, elbas och slagverk bjuds det på allt ifrån riviga polskor och smäktande valser till vackra folkliga koraler.\nAllt detta arrangerat i ett konsertprogram som berättar en historia om en dag förr i tiden\, en folkmusikalisk resa från gryning till skymning.\n\nMika Grinell – Elbas\nIda Hammarbäck – Slagverk\, Sång\nAnna Østerby – Dragspel\nErika Wikström – Sång\, Fiol\nVanja Smith – Flöjter\nSandra Holst – Fiol\, Durspel\n\nFri entré\nKonserten börjar kl 19 och håller på till ca 20.\nLänk till facebookevenemanget\nHjärtligt välkomna!
URL:https://folk.nu/evenemang/gomorrongokvall-en-folkmusikalisk-resa-fran-gryning-till-skymning/
LOCATION:Brännö Kyrka\, Brännö\, 430 85\, Sverige
ATTACH;FMTTYPE=image/png:https://media2.folk.nu/2022/05/beskard-Gomorrongokvall-bild-1.png
ORGANIZER;CN="GomorronGokvall":MAILTO:sandraholst41@gmail.com
END:VEVENT
END:VCALENDAR